PDS_VERSION_ID = PDS3
/* FILE DATA ELEMENTS */
RECORD_TYPE = STREAM
/* POINTERS TO DATA OBJECTS */
^COMPRESSED_FILE = "H4488_0000_RE3.JP2"
/* IDENTIFICATION DATA ELEMENTS */
DATA_SET_ID = "MEX-M-HRSC-5-REFDR-MAPPROJECTED-V3.0"
DATA_SET_NAME = "MARS EXPRESS HRSC MAP PROJECTED REFDR V3.0"
DETECTOR_ID = MEX_HRSC_RED
EVENT_TYPE = "MARS-REGIONAL-MAPPING-Im-Pf"
INSTRUMENT_HOST_ID = MEX
INSTRUMENT_HOST_NAME = "MARS EXPRESS"
INSTRUMENT_ID = HRSC
INSTRUMENT_NAME = "HIGH RESOLUTION STEREO CAMERA"
MISSION_NAME = "MARS EXPRESS"
MISSION_PHASE_NAME = ME_Phase_8
PROCESSING_LEVEL_ID = 3
PRODUCT_CREATION_TIME = 2016-04-25T14:29:06.000Z
PRODUCT_ID = "H4488_0000_RE3.JP2"
RELEASE_ID = 0051
REVISION_ID = 0000
/* QUALITY DATA ELEMENTS */
DATA_QUALITY_ID = 1
DATA_QUALITY_DESC = "Data calculated based on original SPICE kernels"
/* TIME DATA ELEMENTS */
SPACECRAFT_CLOCK_START_COUNT = "1/0131533532.08270"
SPACECRAFT_CLOCK_STOP_COUNT = "1/0131533725.57092"
START_TIME = 2007-07-03T09:05:41.461Z
STOP_TIME = 2007-07-03T09:07:37.309Z
/* ORBITAL DATA ELEMENTS */
ASCENDING_NODE_LONGITUDE = 134.4
MAXIMUM_RESOLUTION = 110.6
FOOTPRINT_POINT_LATITUDE = (-55.5285,-55.5093,-55.4948,-55.4739, -55.4599,-55.1233,-54.9159,-54.6347, -54.4894,-54.3449,-54.1279,-53.9807, -53.8317,-53.6837,-53.5385,-53.3942, -53.2512,-53.1047,-52.8837,-52.7393, -52.5951,-52.3788,-52.2348,-52.0189, -51.8751,-51.7359,-51.5227,-51.3802, -51.2409,-51.0264,-50.8828,-50.7398, -50.5957,-50.4522,-50.3088,-50.1367, -49.9658,-49.7938,-49.6228,-49.4507, -49.1938,-49.022,-48.7647,-48.5946, -48.4247,-48.2553,-48.0784,-47.9055, -47.724,-47.7344,-47.7426,-47.7602, -47.7709,-47.8659,-48.0374,-48.2081, -48.379,-48.5514,-48.7259,-48.8977, -49.1538,-49.325,-49.4963,-49.6686, -49.9272,-50.0995,-50.2713,-50.4312, -50.647,-50.8637,-51.0084,-51.1517, -51.2942,-51.4375,-51.6526,-51.7949, -51.9378,-52.0817,-52.2978,-52.4422, -52.6588,-52.8755,-53.0201,-53.1643, -53.3088,-53.4544,-53.6021,-53.8233, -53.9673,-54.1121,-54.2564,-54.4024, -54.5479,-54.7648,-54.9069,-55.0473, -55.1868,-55.327,-55.4683,-55.5285)
FOOTPRINT_POINT_LONGITUDE = (111.774,111.222,110.854,110.376, 110.082,110.083,110.109,110.145,110.161 ,110.177,110.201,110.216,110.23,110.244 ,110.259,110.274,110.289,110.303, 110.322,110.337,110.351,110.371,110.385 ,110.405,110.418,110.433,110.453, 110.466,110.48,110.499,110.511,110.523, 110.534,110.546,110.557,110.57,110.583, 110.595,110.608,110.619,110.637,110.649 ,110.665,110.677,110.688,110.699, 110.707,110.717,110.913,111.177,111.402 ,111.929,112.381,112.727,112.715, 112.704,112.692,112.68,112.666,112.653, 112.635,112.623,112.61,112.597,112.577, 112.563,112.55,112.538,112.521,112.503, 112.491,112.48,112.469,112.458,112.44, 112.429,112.418,112.406,112.387,112.374 ,112.355,112.335,112.322,112.309, 112.295,112.281,112.265,112.241,112.228 ,112.213,112.199,112.184,112.169, 112.147,112.133,112.118,112.104,112.089 ,112.073,111.774)
ORBIT_NUMBER = 4488
ORBITAL_ECCENTRICITY = 0.57
ORBITAL_INCLINATION = 86.69
ORBITAL_SEMIMAJOR_AXIS = 8540.12
PERIAPSIS_ALTITUDE = 292.13
PERIAPSIS_ARGUMENT_ANGLE = 287.85
PERIAPSIS_TIME = 2007-07-03T09:01:56.000Z
SPACECRAFT_ORIENTATION = (0.0,1.0,0.0)
^MEX_ORIENTATION_DESC = "MEX_ORIENTATION_DESC.TXT"
SPACECRAFT_POINTING_MODE = NADIR
^MEX_POINTING_DESC = "MEX_POINTING_DESC.TXT"
RIGHT_ASCENSION = -1e+32
DECLINATION = -1e+32
OFFSET_ANGLE = -1e+32
SPACECRAFT_SOLAR_DISTANCE = 2.07558e+08
TARGET_NAME = MARS
/* CAMERA DATA ELEMENTS */
DETECTOR_TEMPERATURE = 18.5744
FOCAL_PLANE_TEMPERATURE = 8.7872
INST_CMPRS_NAME = "DISCRETE COSINE TRANSFORMATION (DCT)"
INST_CMPRS_RATIO = 30.9516
INST_CMPRS_QUALITY = 0
INST_CMPRS_QUANTZ_TBL_ID = 0
INSTRUMENT_TEMPERATURE = 11.4379
LENS_TEMPERATURE = 9.195
MACROPIXEL_SIZE = 8
MISSING_FRAMES = 0
PIXEL_SUBSAMPLING_FLAG = N
SIGNAL_CHAIN_ID = 2
/* RADIOMETRIC DATA ELEMENTS */
BANDWIDTH = 48.0
CENTER_FILTER_WAVELENGTH = 748.0
RADIANCE_OFFSET = 2.52708
RADIANCE_SCALING_FACTOR = 0.00426898
REFLECTANCE_SCALING_FACTOR = 0.00041969
MEX:REFLECTANCE_OFFSET = 0.248442
/* IMAGE OBJECT DEFINITIONS */
OBJECT = IMAGE
  INTERCHANGE_FORMAT = BINARY
  LINES = 4599
  LINE_SAMPLES = 1044
  SAMPLE_TYPE = UNSIGNED_INTEGER
  SAMPLE_BITS = 8
  BANDS = 1
  BAND_STORAGE_TYPE = BAND_SEQUENTIAL
  MAXIMUM = 255
  MEAN = 133.815
  MINIMUM = 1
  STANDARD_DEVIATION = 38.2299
END_OBJECT = IMAGE
/* MAP OBJECT DEFINITIONS */
OBJECT = IMAGE_MAP_PROJECTION
  ^DATA_SET_MAP_PROJECTION_CATALOG= "DSMAP.CAT"
  A_AXIS_RADIUS = 3396.0
  B_AXIS_RADIUS = 3396.0
  C_AXIS_RADIUS = 3396.0
  CENTER_LATITUDE = 0.0
  CENTER_LONGITUDE = 111.0
  COORDINATE_SYSTEM_NAME = PLANETOGRAPHIC
  COORDINATE_SYSTEM_TYPE = "BODY-FIXED ROTATING"
  EASTERNMOST_LONGITUDE = 112.727
  FIRST_STANDARD_PARALLEL = "N/A"
  LINE_FIRST_PIXEL = 1
  LINE_LAST_PIXEL = 4599
  LINE_PROJECTION_OFFSET = -28284.4375
  MAP_PROJECTION_ROTATION = 0.0
  MAP_PROJECTION_TYPE = SINUSOIDAL
  MAP_RESOLUTION = 592.713803866667
  MAP_SCALE = 0.1
  MAXIMUM_LATITUDE = -47.724
  MINIMUM_LATITUDE = -55.5285
  POSITIVE_LONGITUDE_DIRECTION = EAST
  REFERENCE_LATITUDE = "N/A"
  REFERENCE_LONGITUDE = "N/A"
  SAMPLE_FIRST_PIXEL = 1
  SAMPLE_LAST_PIXEL = 1044
  SAMPLE_PROJECTION_OFFSET = 334.3125
  SECOND_STANDARD_PARALLEL = "N/A"
  WESTERNMOST_LONGITUDE = 110.082
END_OBJECT = IMAGE_MAP_PROJECTION
/* The JPEG2000 image data file associated with this label. */
OBJECT = COMPRESSED_FILE
  FILE_NAME = "H4488_0000_RE3.JP2"
  RECORD_TYPE = UNDEFINED
  FILE_RECORDS = UNK
  ENCODING_TYPE = "JP2"
  INTERCHANGE_FORMAT = BINARY
  UNCOMPRESSED_FILE_NAME = "H4488_0000_RE3.IMG"
  REQUIRED_STORAGE_BYTES = "4820148"
  ^DESCRIPTION = "JP2INFO.TXT"
END_OBJECT = COMPRESSED_FILE
END
