PDS_VERSION_ID = PDS3
/* FILE DATA ELEMENTS */
RECORD_TYPE = STREAM
/* POINTERS TO DATA OBJECTS */
^COMPRESSED_FILE = "H4491_0000_P13.JP2"
/* IDENTIFICATION DATA ELEMENTS */
DATA_SET_ID = "MEX-M-HRSC-5-REFDR-MAPPROJECTED-V3.0"
DATA_SET_NAME = "MARS EXPRESS HRSC MAP PROJECTED REFDR V3.0"
DETECTOR_ID = MEX_HRSC_P1
EVENT_TYPE = "MARS-REGIONAL-MAPPING-Im-Eo"
INSTRUMENT_HOST_ID = MEX
INSTRUMENT_HOST_NAME = "MARS EXPRESS"
INSTRUMENT_ID = HRSC
INSTRUMENT_NAME = "HIGH RESOLUTION STEREO CAMERA"
MISSION_NAME = "MARS EXPRESS"
MISSION_PHASE_NAME = ME_Phase_8
PROCESSING_LEVEL_ID = 3
PRODUCT_CREATION_TIME = 2016-04-25T14:29:06.000Z
PRODUCT_ID = "H4491_0000_P13.JP2"
RELEASE_ID = 0051
REVISION_ID = 0000
/* QUALITY DATA ELEMENTS */
DATA_QUALITY_ID = 1
DATA_QUALITY_DESC = "Data calculated based on original SPICE kernels"
/* TIME DATA ELEMENTS */
SPACECRAFT_CLOCK_START_COUNT = "1/0131605931.08359"
SPACECRAFT_CLOCK_STOP_COUNT = "1/0131606214.65209"
START_TIME = 2007-07-04T05:12:58.319Z
STOP_TIME = 2007-07-04T05:16:44.710Z
/* ORBITAL DATA ELEMENTS */
ASCENDING_NODE_LONGITUDE = 134.34
MAXIMUM_RESOLUTION = 24.2
FOOTPRINT_POINT_LATITUDE = (-67.7408,-67.6929,-67.5806,-67.3105, -67.041,-66.7719,-66.5028,-66.2346, -65.9658,-65.6973,-65.4289,-65.1607, -64.8926,-64.4774,-64.1996,-63.922, -63.645,-63.3681,-63.0914,-62.6767, -62.4013,-62.1227,-61.8371,-61.5519, -61.2672,-60.9829,-60.6994,-60.2739, -59.8399,-59.5471,-59.2545,-58.9623, -58.6704,-58.3789,-57.9263,-57.6253, -57.3263,-57.0281,-56.5803,-56.2818, -55.9848,-55.6931,-55.2482,-54.95, -54.656,-54.2152,-53.8897,-53.5402, -53.3425,-53.3592,-53.3716,-53.3878, -53.4008,-53.4111,-53.7616,-54.2681, -54.5628,-54.8577,-55.1533,-55.4495, -55.895,-56.1927,-56.4907,-56.789, -57.0881,-57.388,-57.6884,-57.9894, -58.4439,-58.7359,-59.0286,-59.469, -59.7625,-60.0563,-60.4877,-60.7726, -61.0579,-61.3436,-61.772,-62.058, -62.3431,-62.6198,-63.0356,-63.3128, -63.5909,-64.0074,-64.2869,-64.5658, -64.8453,-65.1189,-65.3882,-65.6584, -65.9282,-66.1983,-66.4699,-66.7407, -67.0097,-67.2827,-67.6902,-67.7408)
FOOTPRINT_POINT_LONGITUDE = (173.818,172.871,172.358,172.462, 172.562,172.659,172.753,172.844,172.933 ,173.02,173.104,173.186,173.266,173.386 ,173.464,173.539,173.613,173.684, 173.753,173.854,173.918,173.982,174.046 ,174.108,174.168,174.226,174.282, 174.364,174.445,174.498,174.55,174.6, 174.649,174.696,174.767,174.814,174.858 ,174.9,174.962,175.002,175.04,175.073, 175.127,175.165,175.198,175.246,175.28, 175.315,175.504,175.928,176.245,176.711 ,177.157,177.525,177.49,177.438,177.407 ,177.375,177.342,177.309,177.258, 177.223,177.187,177.151,177.113,177.076 ,177.037,176.998,176.936,176.896, 176.854,176.791,176.747,176.702,176.634 ,176.588,176.541,176.493,176.418, 176.367,176.315,176.263,176.183,176.127 ,176.071,175.984,175.925,175.864, 175.801,175.738,175.675,175.61,175.543, 175.475,175.406,175.334,175.259,175.185 ,175.068,173.818)
ORBIT_NUMBER = 4491
ORBITAL_ECCENTRICITY = 0.57
ORBITAL_INCLINATION = 86.69
ORBITAL_SEMIMAJOR_AXIS = 8538.24
PERIAPSIS_ALTITUDE = 292.98
PERIAPSIS_ARGUMENT_ANGLE = 287.35
PERIAPSIS_TIME = 2007-07-04T05:11:32.000Z
SPACECRAFT_ORIENTATION = (0.0,1.0,0.0)
^MEX_ORIENTATION_DESC = "MEX_ORIENTATION_DESC.TXT"
SPACECRAFT_POINTING_MODE = NADIR
^MEX_POINTING_DESC = "MEX_POINTING_DESC.TXT"
RIGHT_ASCENSION = -1e+32
DECLINATION = -1e+32
OFFSET_ANGLE = -1e+32
SPACECRAFT_SOLAR_DISTANCE = 2.0761e+08
TARGET_NAME = MARS
/* CAMERA DATA ELEMENTS */
DETECTOR_TEMPERATURE = 16.7393
FOCAL_PLANE_TEMPERATURE = 8.7872
INST_CMPRS_NAME = "DISCRETE COSINE TRANSFORMATION (DCT)"
INST_CMPRS_RATIO = 46.3901
INST_CMPRS_QUALITY = 0
INST_CMPRS_QUANTZ_TBL_ID = 0
INSTRUMENT_TEMPERATURE = 11.6418
LENS_TEMPERATURE = 9.195
MACROPIXEL_SIZE = 2
MISSING_FRAMES = 1
PIXEL_SUBSAMPLING_FLAG = N
SIGNAL_CHAIN_ID = 3
/* RADIOMETRIC DATA ELEMENTS */
BANDWIDTH = 174.0
CENTER_FILTER_WAVELENGTH = 675.0
RADIANCE_OFFSET = 9.63092
RADIANCE_SCALING_FACTOR = 0.0124828
REFLECTANCE_SCALING_FACTOR = 0.000289396
MEX:REFLECTANCE_OFFSET = 0.22328
/* IMAGE OBJECT DEFINITIONS */
OBJECT = IMAGE
  INTERCHANGE_FORMAT = BINARY
  LINES = 34393
  LINE_SAMPLES = 5924
  SAMPLE_TYPE = UNSIGNED_INTEGER
  SAMPLE_BITS = 8
  BANDS = 1
  BAND_STORAGE_TYPE = BAND_SEQUENTIAL
  MAXIMUM = 255
  MEAN = 252.675
  MINIMUM = 1
  STANDARD_DEVIATION = 12.9876
END_OBJECT = IMAGE
/* MAP OBJECT DEFINITIONS */
OBJECT = IMAGE_MAP_PROJECTION
  ^DATA_SET_MAP_PROJECTION_CATALOG= "DSMAP.CAT"
  A_AXIS_RADIUS = 3396.0
  B_AXIS_RADIUS = 3396.0
  C_AXIS_RADIUS = 3396.0
  CENTER_LATITUDE = 0.0
  CENTER_LONGITUDE = 175.0
  COORDINATE_SYSTEM_NAME = PLANETOGRAPHIC
  COORDINATE_SYSTEM_TYPE = "BODY-FIXED ROTATING"
  EASTERNMOST_LONGITUDE = 177.525
  FIRST_STANDARD_PARALLEL = "N/A"
  LINE_FIRST_PIXEL = 1
  LINE_LAST_PIXEL = 34393
  LINE_PROJECTION_OFFSET = -126492.25
  MAP_PROJECTION_ROTATION = 0.0
  MAP_PROJECTION_TYPE = SINUSOIDAL
  MAP_RESOLUTION = 2370.85521546667
  MAP_SCALE = 0.025
  MAXIMUM_LATITUDE = -53.3425
  MINIMUM_LATITUDE = -67.74079999999999
  POSITIVE_LONGITUDE_DIRECTION = EAST
  REFERENCE_LATITUDE = "N/A"
  REFERENCE_LONGITUDE = "N/A"
  SAMPLE_FIRST_PIXEL = 1
  SAMPLE_LAST_PIXEL = 5924
  SAMPLE_PROJECTION_OFFSET = 2393.25
  SECOND_STANDARD_PARALLEL = "N/A"
  WESTERNMOST_LONGITUDE = 172.358
END_OBJECT = IMAGE_MAP_PROJECTION
/* The JPEG2000 image data file associated with this label. */
OBJECT = COMPRESSED_FILE
  FILE_NAME = "H4491_0000_P13.JP2"
  RECORD_TYPE = UNDEFINED
  FILE_RECORDS = UNK
  ENCODING_TYPE = "JP2"
  INTERCHANGE_FORMAT = BINARY
  UNCOMPRESSED_FILE_NAME = "H4491_0000_P13.IMG"
  REQUIRED_STORAGE_BYTES = "203773752"
  ^DESCRIPTION = "JP2INFO.TXT"
END_OBJECT = COMPRESSED_FILE
END
