PDS_VERSION_ID = PDS3
/* FILE DATA ELEMENTS */
RECORD_TYPE = STREAM
/* POINTERS TO DATA OBJECTS */
^COMPRESSED_FILE = "H4492_0000_ND3.JP2"
/* IDENTIFICATION DATA ELEMENTS */
DATA_SET_ID = "MEX-M-HRSC-5-REFDR-MAPPROJECTED-V3.0"
DATA_SET_NAME = "MARS EXPRESS HRSC MAP PROJECTED REFDR V3.0"
DETECTOR_ID = MEX_HRSC_NADIR
EVENT_TYPE = "MARS-LOCAL-CARTOGRAPHY-Gl-La"
INSTRUMENT_HOST_ID = MEX
INSTRUMENT_HOST_NAME = "MARS EXPRESS"
INSTRUMENT_ID = HRSC
INSTRUMENT_NAME = "HIGH RESOLUTION STEREO CAMERA"
MISSION_NAME = "MARS EXPRESS"
MISSION_PHASE_NAME = ME_Phase_8
PROCESSING_LEVEL_ID = 3
PRODUCT_CREATION_TIME = 2016-04-25T14:29:06.000Z
PRODUCT_ID = "H4492_0000_ND3.JP2"
RELEASE_ID = 0051
REVISION_ID = 0000
/* QUALITY DATA ELEMENTS */
DATA_QUALITY_ID = 1
DATA_QUALITY_DESC = "Data calculated based on original SPICE kernels"
/* TIME DATA ELEMENTS */
SPACECRAFT_CLOCK_START_COUNT = "1/0131629668.08250"
SPACECRAFT_CLOCK_STOP_COUNT = "1/0131629870.09446"
START_TIME = 2007-07-04T11:48:34.951Z
STOP_TIME = 2007-07-04T11:50:40.937Z
/* ORBITAL DATA ELEMENTS */
ASCENDING_NODE_LONGITUDE = 134.32
MAXIMUM_RESOLUTION = 13.8
FOOTPRINT_POINT_LATITUDE = (-82.5584,-82.6286,-82.6938,-82.7535, -82.8073,-82.8548,-82.9021,-83.0705, -83.2391,-83.4077,-83.5744,-83.7388, -83.9032,-84.0672,-84.2312,-84.3954, -84.5588,-84.718,-84.8773,-85.0366, -85.1955,-85.3541,-85.5126,-85.6709, -85.8288,-85.9864,-86.1434,-86.2999, -86.4557,-86.6107,-86.7646,-86.918, -87.0702,-87.2206,-87.3696,-87.5162, -87.6605,-87.8019,-87.9399,-88.0735, -88.2021,-88.323,-88.4367,-88.5399, -88.6307,-88.7064,-88.7624,-88.8142, -88.8014,-88.7253,-88.5962,-88.4268, -88.2597,-88.0877,-87.9128,-87.6924, -87.3949,-87.4052,-87.4699,-87.5047, -87.5078,-87.48,-87.4111,-87.3602, -87.3004,-87.232,-87.1552,-87.0709, -86.9802,-86.8832,-86.7805,-86.6728, -86.5606,-86.4443,-86.3242,-86.2009, -86.0747,-85.9459,-85.8144,-85.6807, -85.5454,-85.4078,-85.2687,-85.128, -84.986,-84.8432,-84.6989,-84.5536, -84.4074,-84.2602,-84.1125,-83.8841, -83.7307,-83.5767,-83.4221,-83.2671, -83.1117,-82.9517,-82.7914,-82.5584)
FOOTPRINT_POINT_LONGITUDE = (284.895,283.27,281.589,279.852,278.06, 276.211,273.879,274.111,274.343,274.593 ,274.864,275.126,275.402,275.717, 276.044,276.379,276.765,277.161,277.567 ,277.991,278.459,278.962,279.494, 280.061,280.67,281.326,282.042,282.819, 283.668,284.597,285.634,286.742,287.97, 289.348,290.878,292.605,294.544,296.732 ,299.216,302.053,305.294,309.063, 313.367,318.324,323.987,330.387,337.153 ,350.186,363.663,376.198,386.886, 395.535,391.68,387.91,384.836,381.723, 378.451,371.936,365.838,359.503,353.077 ,346.721,339.655,336.185,332.856, 329.683,326.679,323.844,321.172,318.664 ,316.317,314.119,312.064,310.143, 308.348,306.669,305.098,303.623,302.246 ,300.957,299.738,298.605,297.536, 296.532,295.585,294.684,293.839,293.043 ,292.289,291.576,290.898,289.922, 289.309,288.726,288.174,287.647,287.144 ,286.654,286.187,284.895)
ORBIT_NUMBER = 4492
ORBITAL_ECCENTRICITY = 0.57
ORBITAL_INCLINATION = 86.7
ORBITAL_SEMIMAJOR_AXIS = 8538.67
PERIAPSIS_ALTITUDE = 291.81
PERIAPSIS_ARGUMENT_ANGLE = 287.17
PERIAPSIS_TIME = 2007-07-04T11:54:44.000Z
SPACECRAFT_ORIENTATION = (0.0,-1.0,0.0)
^MEX_ORIENTATION_DESC = "MEX_ORIENTATION_DESC.TXT"
SPACECRAFT_POINTING_MODE = ACROSSTRACK
^MEX_POINTING_DESC = "MEX_POINTING_DESC.TXT"
RIGHT_ASCENSION = -1e+32
DECLINATION = -1e+32
OFFSET_ANGLE = -1.374
SPACECRAFT_SOLAR_DISTANCE = 2.07628e+08
TARGET_NAME = MARS
/* CAMERA DATA ELEMENTS */
DETECTOR_TEMPERATURE = 17.1471
FOCAL_PLANE_TEMPERATURE = 8.5833
INST_CMPRS_NAME = "DISCRETE COSINE TRANSFORMATION (DCT)"
INST_CMPRS_RATIO = 7.7081
INST_CMPRS_QUALITY = 0
INST_CMPRS_QUANTZ_TBL_ID = 0
INSTRUMENT_TEMPERATURE = 11.4379
LENS_TEMPERATURE = 8.7872
MACROPIXEL_SIZE = 1
MISSING_FRAMES = 0
PIXEL_SUBSAMPLING_FLAG = N
SIGNAL_CHAIN_ID = 0
/* RADIOMETRIC DATA ELEMENTS */
BANDWIDTH = 177.0
CENTER_FILTER_WAVELENGTH = 677.5
RADIANCE_OFFSET = 5.7494
RADIANCE_SCALING_FACTOR = 0.0195558
REFLECTANCE_SCALING_FACTOR = 0.000447847
MEX:REFLECTANCE_OFFSET = 0.131667
/* IMAGE OBJECT DEFINITIONS */
OBJECT = IMAGE
  INTERCHANGE_FORMAT = BINARY
  LINES = 9644
  LINE_SAMPLES = 38575
  SAMPLE_TYPE = UNSIGNED_INTEGER
  SAMPLE_BITS = 8
  BANDS = 1
  BAND_STORAGE_TYPE = BAND_SEQUENTIAL
  MAXIMUM = 254
  MEAN = 129.438
  MINIMUM = 1
  STANDARD_DEVIATION = 67.7038
END_OBJECT = IMAGE
/* MAP OBJECT DEFINITIONS */
OBJECT = IMAGE_MAP_PROJECTION
  ^DATA_SET_MAP_PROJECTION_CATALOG= "DSMAP.CAT"
  A_AXIS_RADIUS = 3396.0
  B_AXIS_RADIUS = 3396.0
  C_AXIS_RADIUS = 3396.0
  CENTER_LATITUDE = -90.0
  CENTER_LONGITUDE = 0.0
  COORDINATE_SYSTEM_NAME = PLANETOGRAPHIC
  COORDINATE_SYSTEM_TYPE = "BODY-FIXED ROTATING"
  EASTERNMOST_LONGITUDE = 35.535
  FIRST_STANDARD_PARALLEL = "N/A"
  LINE_FIRST_PIXEL = 1
  LINE_LAST_PIXEL = 9644
  LINE_PROJECTION_OFFSET = 12306.0
  MAP_PROJECTION_ROTATION = 0
  MAP_PROJECTION_TYPE = STEREOGRAPHIC
  MAP_RESOLUTION = 4741.71043093333
  MAP_SCALE = 0.0125
  MAXIMUM_LATITUDE = -82.55840000000001
  MINIMUM_LATITUDE = -88.8142
  POSITIVE_LONGITUDE_DIRECTION = EAST
  REFERENCE_LATITUDE = "N/A"
  REFERENCE_LONGITUDE = "N/A"
  SAMPLE_FIRST_PIXEL = 1
  SAMPLE_LAST_PIXEL = 38575
  SAMPLE_PROJECTION_OFFSET = 34188.0
  SECOND_STANDARD_PARALLEL = "N/A"
  WESTERNMOST_LONGITUDE = -86.121
END_OBJECT = IMAGE_MAP_PROJECTION
/* The JPEG2000 image data file associated with this label. */
OBJECT = COMPRESSED_FILE
  FILE_NAME = "H4492_0000_ND3.JP2"
  RECORD_TYPE = UNDEFINED
  FILE_RECORDS = UNK
  ENCODING_TYPE = "JP2"
  INTERCHANGE_FORMAT = BINARY
  UNCOMPRESSED_FILE_NAME = "H4492_0000_ND3.IMG"
  REQUIRED_STORAGE_BYTES = "372133025"
  ^DESCRIPTION = "JP2INFO.TXT"
END_OBJECT = COMPRESSED_FILE
END
