PDS_VERSION_ID = PDS3
/* FILE DATA ELEMENTS */
RECORD_TYPE = STREAM
/* POINTERS TO DATA OBJECTS */
^COMPRESSED_FILE = "H4492_0000_S23.JP2"
/* IDENTIFICATION DATA ELEMENTS */
DATA_SET_ID = "MEX-M-HRSC-5-REFDR-MAPPROJECTED-V3.0"
DATA_SET_NAME = "MARS EXPRESS HRSC MAP PROJECTED REFDR V3.0"
DETECTOR_ID = MEX_HRSC_S2
EVENT_TYPE = "MARS-LOCAL-CARTOGRAPHY-Gl-La"
INSTRUMENT_HOST_ID = MEX
INSTRUMENT_HOST_NAME = "MARS EXPRESS"
INSTRUMENT_ID = HRSC
INSTRUMENT_NAME = "HIGH RESOLUTION STEREO CAMERA"
MISSION_NAME = "MARS EXPRESS"
MISSION_PHASE_NAME = ME_Phase_8
PROCESSING_LEVEL_ID = 3
PRODUCT_CREATION_TIME = 2016-04-25T14:29:06.000Z
PRODUCT_ID = "H4492_0000_S23.JP2"
RELEASE_ID = 0051
REVISION_ID = 0000
/* QUALITY DATA ELEMENTS */
DATA_QUALITY_ID = 1
DATA_QUALITY_DESC = "Data calculated based on original SPICE kernels"
/* TIME DATA ELEMENTS */
SPACECRAFT_CLOCK_START_COUNT = "1/0131629668.08250"
SPACECRAFT_CLOCK_STOP_COUNT = "1/0131629870.09446"
START_TIME = 2007-07-04T11:49:12.431Z
STOP_TIME = 2007-07-04T11:51:12.180Z
/* ORBITAL DATA ELEMENTS */
ASCENDING_NODE_LONGITUDE = 134.32
MAXIMUM_RESOLUTION = 14.2
FOOTPRINT_POINT_LATITUDE = (-82.7639,-82.8137,-82.8579,-82.8777, -82.8959,-82.9125,-82.9275,-82.9407, -82.9584,-83.126,-83.2951,-83.4671, -83.6381,-83.8065,-83.9779,-84.2341, -84.4039,-84.576,-84.7475,-84.9175, -85.086,-85.2575,-85.511,-85.6794, -85.8472,-86.0979,-86.3476,-86.5129, -86.6769,-86.9221,-87.1612,-87.2941, -87.4255,-87.5558,-87.6836,-87.8705, -87.9913,-88.1652,-88.2755,-88.4292, -88.5221,-88.6059,-88.6781,-88.7376, -88.7983,-88.8246,-88.817,-88.7679, -88.6869,-88.576,-88.4887,-88.3433, -88.0865,-87.9067,-87.7282,-87.5381, -87.3028,-87.3857,-87.4522,-87.4873, -87.5142,-87.5371,-87.5488,-87.5406, -87.5286,-87.4946,-87.4417,-87.3712, -87.2846,-87.1832,-87.0688,-86.9859, -86.8982,-86.8063,-86.7104,-86.6108, -86.5079,-86.3203,-86.188,-85.9832, -85.7709,-85.6259,-85.4804,-85.3326, -85.1832,-85.0319,-84.8782,-84.6459, -84.4906,-84.3343,-84.1767,-84.0181, -83.7782,-83.6171,-83.3751,-83.2127, -83.0505,-82.8059,-82.6424,-82.7639)
FOOTPRINT_POINT_LONGITUDE = (284.215,282.561,280.856,279.985, 279.102,278.206,277.298,276.378,274.855 ,274.241,274.468,274.74,275.016,275.276 ,275.592,276.091,276.438,276.845, 277.273,277.709,278.156,278.693,279.519 ,280.121,280.769,281.849,283.09,284.015 ,285.018,286.779,288.786,290.072, 291.485,293.094,294.858,297.879,300.203 ,304.205,307.407,312.946,317.25,322.051 ,327.498,333.465,343.33,353.688,360.827 ,371.217,380.461,388.45,393.067,393.529 ,388.656,386.038,383.856,381.937, 379.893,375.518,370.887,367.665,364.36, 360.81,355.628,352.472,349.068,344.038, 339.184,334.58,330.22,326.164,322.421, 320.085,317.872,315.797,313.837,311.992 ,310.254,307.451,305.705,303.302, 301.115,299.771,298.545,297.391,296.313 ,295.297,294.329,292.993,292.178, 291.409,290.678,289.986,289.011,288.401 ,287.55,287.014,286.509,285.794,285.344 ,284.215)
ORBIT_NUMBER = 4492
ORBITAL_ECCENTRICITY = 0.57
ORBITAL_INCLINATION = 86.7
ORBITAL_SEMIMAJOR_AXIS = 8538.67
PERIAPSIS_ALTITUDE = 291.81
PERIAPSIS_ARGUMENT_ANGLE = 287.17
PERIAPSIS_TIME = 2007-07-04T11:54:44.000Z
SPACECRAFT_ORIENTATION = (0.0,-1.0,0.0)
^MEX_ORIENTATION_DESC = "MEX_ORIENTATION_DESC.TXT"
SPACECRAFT_POINTING_MODE = ACROSSTRACK
^MEX_POINTING_DESC = "MEX_POINTING_DESC.TXT"
RIGHT_ASCENSION = -1e+32
DECLINATION = -1e+32
OFFSET_ANGLE = -1.374
SPACECRAFT_SOLAR_DISTANCE = 2.07628e+08
TARGET_NAME = MARS
/* CAMERA DATA ELEMENTS */
DETECTOR_TEMPERATURE = 18.5744
FOCAL_PLANE_TEMPERATURE = 8.5833
INST_CMPRS_NAME = "DISCRETE COSINE TRANSFORMATION (DCT)"
INST_CMPRS_RATIO = 8.63495
INST_CMPRS_QUALITY = 0
INST_CMPRS_QUANTZ_TBL_ID = 0
INSTRUMENT_TEMPERATURE = 11.4379
LENS_TEMPERATURE = 8.7872
MACROPIXEL_SIZE = 1
MISSING_FRAMES = 0
PIXEL_SUBSAMPLING_FLAG = N
SIGNAL_CHAIN_ID = 1
/* RADIOMETRIC DATA ELEMENTS */
BANDWIDTH = 178.0
CENTER_FILTER_WAVELENGTH = 679.0
RADIANCE_OFFSET = 6.12464
RADIANCE_SCALING_FACTOR = 0.0199777
REFLECTANCE_SCALING_FACTOR = 0.000456085
MEX:REFLECTANCE_OFFSET = 0.139823
/* IMAGE OBJECT DEFINITIONS */
OBJECT = IMAGE
  INTERCHANGE_FORMAT = BINARY
  LINES = 9644
  LINE_SAMPLES = 38575
  SAMPLE_TYPE = UNSIGNED_INTEGER
  SAMPLE_BITS = 8
  BANDS = 1
  BAND_STORAGE_TYPE = BAND_SEQUENTIAL
  MAXIMUM = 254
  MEAN = 127.545
  MINIMUM = 1
  STANDARD_DEVIATION = 67.6369
END_OBJECT = IMAGE
/* MAP OBJECT DEFINITIONS */
OBJECT = IMAGE_MAP_PROJECTION
  ^DATA_SET_MAP_PROJECTION_CATALOG= "DSMAP.CAT"
  A_AXIS_RADIUS = 3396.0
  B_AXIS_RADIUS = 3396.0
  C_AXIS_RADIUS = 3396.0
  CENTER_LATITUDE = -90.0
  CENTER_LONGITUDE = 0.0
  COORDINATE_SYSTEM_NAME = PLANETOGRAPHIC
  COORDINATE_SYSTEM_TYPE = "BODY-FIXED ROTATING"
  EASTERNMOST_LONGITUDE = 33.529
  FIRST_STANDARD_PARALLEL = "N/A"
  LINE_FIRST_PIXEL = 1
  LINE_LAST_PIXEL = 9644
  LINE_PROJECTION_OFFSET = 12306.0
  MAP_PROJECTION_ROTATION = 0.0
  MAP_PROJECTION_TYPE = STEREOGRAPHIC
  MAP_RESOLUTION = 4741.71043093333
  MAP_SCALE = 0.0125
  MAXIMUM_LATITUDE = -82.64239999999999
  MINIMUM_LATITUDE = -88.8246
  POSITIVE_LONGITUDE_DIRECTION = EAST
  REFERENCE_LATITUDE = "N/A"
  REFERENCE_LONGITUDE = "N/A"
  SAMPLE_FIRST_PIXEL = 1
  SAMPLE_LAST_PIXEL = 38575
  SAMPLE_PROJECTION_OFFSET = 34188.0
  SECOND_STANDARD_PARALLEL = "N/A"
  WESTERNMOST_LONGITUDE = -85.759
END_OBJECT = IMAGE_MAP_PROJECTION
/* The JPEG2000 image data file associated with this label. */
OBJECT = COMPRESSED_FILE
  FILE_NAME = "H4492_0000_S23.JP2"
  RECORD_TYPE = UNDEFINED
  FILE_RECORDS = UNK
  ENCODING_TYPE = "JP2"
  INTERCHANGE_FORMAT = BINARY
  UNCOMPRESSED_FILE_NAME = "H4492_0000_S23.IMG"
  REQUIRED_STORAGE_BYTES = "372133025"
  ^DESCRIPTION = "JP2INFO.TXT"
END_OBJECT = COMPRESSED_FILE
END
