PDS_VERSION_ID = PDS3
/* FILE DATA ELEMENTS */
RECORD_TYPE = STREAM
/* POINTERS TO DATA OBJECTS */
^COMPRESSED_FILE = "H4492_0001_ND3.JP2"
/* IDENTIFICATION DATA ELEMENTS */
DATA_SET_ID = "MEX-M-HRSC-5-REFDR-MAPPROJECTED-V3.0"
DATA_SET_NAME = "MARS EXPRESS HRSC MAP PROJECTED REFDR V3.0"
DETECTOR_ID = MEX_HRSC_NADIR
EVENT_TYPE = "MARS-REGIONAL-MAPPING-Im-Gl"
INSTRUMENT_HOST_ID = MEX
INSTRUMENT_HOST_NAME = "MARS EXPRESS"
INSTRUMENT_ID = HRSC
INSTRUMENT_NAME = "HIGH RESOLUTION STEREO CAMERA"
MISSION_NAME = "MARS EXPRESS"
MISSION_PHASE_NAME = ME_Phase_8
PROCESSING_LEVEL_ID = 3
PRODUCT_CREATION_TIME = 2016-04-25T14:29:06.000Z
PRODUCT_ID = "H4492_0001_ND3.JP2"
RELEASE_ID = 0051
REVISION_ID = 0000
/* QUALITY DATA ELEMENTS */
DATA_QUALITY_ID = 1
DATA_QUALITY_DESC = "Data calculated based on original SPICE kernels"
/* TIME DATA ELEMENTS */
SPACECRAFT_CLOCK_START_COUNT = "1/0131629998.09062"
SPACECRAFT_CLOCK_STOP_COUNT = "1/0131630151.48062"
START_TIME = 2007-07-04T11:53:49.695Z
STOP_TIME = 2007-07-04T11:55:26.707Z
/* ORBITAL DATA ELEMENTS */
ASCENDING_NODE_LONGITUDE = 134.32
MAXIMUM_RESOLUTION = 11.7
FOOTPRINT_POINT_LATITUDE = (-76.2706,-76.2962,-76.3206,-76.3437, -76.3652,-76.3852,-76.4088,-76.2879, -76.088,-75.9548,-75.7561,-75.5569, -75.424,-75.2911,-75.1598,-75.0317, -74.9034,-74.7752,-74.6468,-74.5184, -74.3902,-74.2618,-74.0693,-73.941, -73.7486,-73.6204,-73.4282,-73.2999, -73.1715,-73.0431,-72.9146,-72.7862, -72.6578,-72.4652,-72.2726,-72.1442, -72.0159,-71.8875,-71.695,-71.5667, -71.4382,-71.2455,-71.0532,-70.9246, -70.7962,-70.6679,-70.5397,-70.4114, -70.2188,-70.0905,-69.9622,-69.94, -69.9272,-69.9172,-69.9015,-69.8859, -69.9286,-70.12,-70.2477,-70.5025, -70.6308,-70.7584,-70.9498,-71.1412, -71.2688,-71.46,-71.5872,-71.7149, -71.8422,-71.9699,-72.0974,-72.2248, -72.3523,-72.4797,-72.6072,-72.7346, -72.9256,-73.0529,-73.2438,-73.3713, -73.4986,-73.6894,-73.8802,-74.0074, -74.1345,-74.2615,-74.3886,-74.5792, -74.7696,-74.8966,-75.0235,-75.1531, -75.2846,-75.4161,-75.5476,-75.679, -75.8104,-75.9417,-76.0729,-76.2706)
FOOTPRINT_POINT_LONGITUDE = (74.1249,74.7824,75.4562,76.1475, 76.8555,77.5818,78.5647,79.1162,79.1526 ,79.1773,79.2646,79.3307,79.3736, 79.4132,79.4552,79.4932,79.5283,79.5616 ,79.5912,79.62,79.6525,79.6823,79.7278, 79.7594,79.8067,79.844,79.8986,79.9299, 79.9592,79.9836,80.0028,80.0304,80.0564 ,80.0925,80.1313,80.1548,80.1829,80.206 ,80.2443,80.2698,80.2885,80.3154, 80.3601,80.3709,80.3893,80.4165,80.442, 80.4643,80.4935,80.513,80.5322,79.9206, 79.355,78.9608,78.4002,77.9001,77.2602, 77.203,77.1642,77.0774,77.0504,77.0102, 76.9475,76.8837,76.8395,76.7706,76.7174 ,76.6727,76.6226,76.5769,76.5282, 76.4781,76.428,76.3761,76.324,76.2709, 76.1886,76.1326,76.0459,75.9924,75.932, 75.8405,75.7488,75.6848,75.6203,75.5536 ,75.4865,75.3847,75.279,75.2081,75.1347 ,75.058,74.978,74.8978,74.8171,74.7343, 74.6501,74.5629,74.4752,74.1249)
ORBIT_NUMBER = 4492
ORBITAL_ECCENTRICITY = 0.57
ORBITAL_INCLINATION = 86.7
ORBITAL_SEMIMAJOR_AXIS = 8538.67
PERIAPSIS_ALTITUDE = 291.81
PERIAPSIS_ARGUMENT_ANGLE = 287.17
PERIAPSIS_TIME = 2007-07-04T11:54:44.000Z
SPACECRAFT_ORIENTATION = (0.0,-1.0,0.0)
^MEX_ORIENTATION_DESC = "MEX_ORIENTATION_DESC.TXT"
SPACECRAFT_POINTING_MODE = ACROSSTRACK
^MEX_POINTING_DESC = "MEX_POINTING_DESC.TXT"
RIGHT_ASCENSION = -1e+32
DECLINATION = -1e+32
OFFSET_ANGLE = -1.374
SPACECRAFT_SOLAR_DISTANCE = 2.07628e+08
TARGET_NAME = MARS
/* CAMERA DATA ELEMENTS */
DETECTOR_TEMPERATURE = 19.1861
FOCAL_PLANE_TEMPERATURE = 8.7872
INST_CMPRS_NAME = "DISCRETE COSINE TRANSFORMATION (DCT)"
INST_CMPRS_RATIO = 7.19582
INST_CMPRS_QUALITY = 0
INST_CMPRS_QUANTZ_TBL_ID = 0
INSTRUMENT_TEMPERATURE = 12.6613
LENS_TEMPERATURE = 9.3989
MACROPIXEL_SIZE = 1
MISSING_FRAMES = 0
PIXEL_SUBSAMPLING_FLAG = N
SIGNAL_CHAIN_ID = 0
/* RADIOMETRIC DATA ELEMENTS */
BANDWIDTH = 177.0
CENTER_FILTER_WAVELENGTH = 677.5
RADIANCE_OFFSET = 9.92282
RADIANCE_SCALING_FACTOR = 0.00972825
REFLECTANCE_SCALING_FACTOR = 0.000222788
MEX:REFLECTANCE_OFFSET = 0.227244
/* IMAGE OBJECT DEFINITIONS */
OBJECT = IMAGE
  INTERCHANGE_FORMAT = BINARY
  LINES = 31063
  LINE_SAMPLES = 8619
  SAMPLE_TYPE = UNSIGNED_INTEGER
  SAMPLE_BITS = 8
  BANDS = 1
  BAND_STORAGE_TYPE = BAND_SEQUENTIAL
  MAXIMUM = 254
  MEAN = 135.371
  MINIMUM = 1
  STANDARD_DEVIATION = 34.1976
END_OBJECT = IMAGE
/* MAP OBJECT DEFINITIONS */
OBJECT = IMAGE_MAP_PROJECTION
  ^DATA_SET_MAP_PROJECTION_CATALOG= "DSMAP.CAT"
  A_AXIS_RADIUS = 3396.0
  B_AXIS_RADIUS = 3396.0
  C_AXIS_RADIUS = 3396.0
  CENTER_LATITUDE = 0.0
  CENTER_LONGITUDE = 78.0
  COORDINATE_SYSTEM_NAME = PLANETOGRAPHIC
  COORDINATE_SYSTEM_TYPE = "BODY-FIXED ROTATING"
  EASTERNMOST_LONGITUDE = 80.5322
  FIRST_STANDARD_PARALLEL = "N/A"
  LINE_FIRST_PIXEL = 1
  LINE_LAST_PIXEL = 31063
  LINE_PROJECTION_OFFSET = -331249.0
  MAP_PROJECTION_ROTATION = 0.0
  MAP_PROJECTION_TYPE = SINUSOIDAL
  MAP_RESOLUTION = 4741.71043093333
  MAP_SCALE = 0.0125
  MAXIMUM_LATITUDE = -69.88590000000001
  MINIMUM_LATITUDE = -76.4088
  POSITIVE_LONGITUDE_DIRECTION = EAST
  REFERENCE_LATITUDE = "N/A"
  REFERENCE_LONGITUDE = "N/A"
  SAMPLE_FIRST_PIXEL = 1
  SAMPLE_LAST_PIXEL = 8619
  SAMPLE_PROJECTION_OFFSET = 4361.0
  SECOND_STANDARD_PARALLEL = "N/A"
  WESTERNMOST_LONGITUDE = 74.1249
END_OBJECT = IMAGE_MAP_PROJECTION
/* The JPEG2000 image data file associated with this label. */
OBJECT = COMPRESSED_FILE
  FILE_NAME = "H4492_0001_ND3.JP2"
  RECORD_TYPE = UNDEFINED
  FILE_RECORDS = UNK
  ENCODING_TYPE = "JP2"
  INTERCHANGE_FORMAT = BINARY
  UNCOMPRESSED_FILE_NAME = "H4492_0001_ND3.IMG"
  REQUIRED_STORAGE_BYTES = "267766473"
  ^DESCRIPTION = "JP2INFO.TXT"
END_OBJECT = COMPRESSED_FILE
END
