PDS_VERSION_ID = PDS3
/* FILE DATA ELEMENTS */
RECORD_TYPE = STREAM
/* POINTERS TO DATA OBJECTS */
^COMPRESSED_FILE = "H4499_0000_IR3.JP2"
/* IDENTIFICATION DATA ELEMENTS */
DATA_SET_ID = "MEX-M-HRSC-5-REFDR-MAPPROJECTED-V3.0"
DATA_SET_NAME = "MARS EXPRESS HRSC MAP PROJECTED REFDR V3.0"
DETECTOR_ID = MEX_HRSC_IR
EVENT_TYPE = "MARS-REGIONAL-MAPPING-Gl-Eo-La"
INSTRUMENT_HOST_ID = MEX
INSTRUMENT_HOST_NAME = "MARS EXPRESS"
INSTRUMENT_ID = HRSC
INSTRUMENT_NAME = "HIGH RESOLUTION STEREO CAMERA"
MISSION_NAME = "MARS EXPRESS"
MISSION_PHASE_NAME = ME_Phase_8
PROCESSING_LEVEL_ID = 3
PRODUCT_CREATION_TIME = 2016-04-25T14:29:06.000Z
PRODUCT_ID = "H4499_0000_IR3.JP2"
RELEASE_ID = 0051
REVISION_ID = 0000
/* QUALITY DATA ELEMENTS */
DATA_QUALITY_ID = 1
DATA_QUALITY_DESC = "Data calculated based on original SPICE kernels"
/* TIME DATA ELEMENTS */
SPACECRAFT_CLOCK_START_COUNT = "1/0131799288.08246"
SPACECRAFT_CLOCK_STOP_COUNT = "1/0131799421.15947"
START_TIME = 2007-07-06T10:55:41.706Z
STOP_TIME = 2007-07-06T10:56:59.058Z
/* ORBITAL DATA ELEMENTS */
ASCENDING_NODE_LONGITUDE = 134.18
MAXIMUM_RESOLUTION = 24
FOOTPRINT_POINT_LATITUDE = (-80.4643,-80.4166,-80.3667,-80.3149, -80.261,-80.1834,-79.9998,-79.9024, -79.8046,-79.7068,-79.5599,-79.4616, -79.3142,-79.2155,-79.1166,-79.0181, -78.8696,-78.7704,-78.671,-78.5217, -78.4226,-78.2786,-78.1824,-78.0861, -77.9898,-77.8932,-77.7967,-77.6521, -77.5549,-77.4589,-77.3134,-77.166, -77.0681,-76.9705,-76.8729,-76.6781, -76.5336,-76.3877,-76.2411,-76.1435, -76.0454,-75.8984,-75.7999,-75.6516, -75.5526,-75.4542,-75.3547,-75.3719, -75.3997,-75.4295,-75.4671,-75.4996, -75.5331,-75.5656,-75.6653,-75.765, -75.8646,-75.9641,-76.156,-76.2552, -76.3559,-76.4569,-76.6535,-76.7529, -76.8528,-76.9529,-77.0527,-77.1538, -77.254,-77.3537,-77.5036,-77.6029, -77.7024,-77.8021,-77.9014,-78.0003, -78.0993,-78.1986,-78.2977,-78.3967, -78.4956,-78.5946,-78.6933,-78.8459, -78.9997,-79.1021,-79.2044,-79.3067, -79.409,-79.511,-79.6637,-79.816, -79.9183,-80.0202,-80.1217,-80.2232, -80.3243,-80.4257,-80.5249,-80.4643)
FOOTPRINT_POINT_LONGITUDE = (97.7263,96.8596,95.9995,95.1474, 94.3031,93.1534,93.3592,93.5923,93.822, 94.0465,94.3747,94.5887,94.9014,95.1059 ,95.3067,95.5014,95.7894,95.977,96.1618 ,96.4326,96.6078,96.8566,97.0191, 97.1788,97.3359,97.4911,97.6426,97.8646 ,98.0122,98.1525,98.3642,98.5775, 98.7152,98.8489,98.9807,99.2358,99.4157 ,99.5961,99.7743,99.8903,100.006, 100.176,100.288,100.456,100.565,100.672 ,100.779,101.363,101.816,102.306, 102.992,103.445,104.06,104.732,104.654, 104.576,104.496,104.416,104.248,104.163 ,104.078,103.992,103.813,103.722,103.63 ,103.536,103.441,103.344,103.246, 103.146,102.993,102.889,102.783,102.675 ,102.566,102.454,102.341,102.226, 102.109,101.989,101.868,101.744,101.619 ,101.42,101.214,101.073,100.929,100.783 ,100.634,100.482,100.248,100.007,99.842 ,99.6738,99.502,99.3266,99.1475,98.9645 ,98.7777,97.7263)
ORBIT_NUMBER = 4499
ORBITAL_ECCENTRICITY = 0.57
ORBITAL_INCLINATION = 86.69
ORBITAL_SEMIMAJOR_AXIS = 8538.17
PERIAPSIS_ALTITUDE = 292.22
PERIAPSIS_ARGUMENT_ANGLE = 285.95
PERIAPSIS_TIME = 2007-07-06T10:57:05.000Z
SPACECRAFT_ORIENTATION = (0.0,1.0,0.0)
^MEX_ORIENTATION_DESC = "MEX_ORIENTATION_DESC.TXT"
SPACECRAFT_POINTING_MODE = ACROSSTRACK
^MEX_POINTING_DESC = "MEX_POINTING_DESC.TXT"
RIGHT_ASCENSION = -1e+32
DECLINATION = -1e+32
OFFSET_ANGLE = 0.1
SPACECRAFT_SOLAR_DISTANCE = 2.07756e+08
TARGET_NAME = MARS
/* CAMERA DATA ELEMENTS */
DETECTOR_TEMPERATURE = 17.5549
FOCAL_PLANE_TEMPERATURE = 7.7677
INST_CMPRS_NAME = "DISCRETE COSINE TRANSFORMATION (DCT)"
INST_CMPRS_RATIO = 4.83576
INST_CMPRS_QUALITY = 0
INST_CMPRS_QUANTZ_TBL_ID = 0
INSTRUMENT_TEMPERATURE = 11.0301
LENS_TEMPERATURE = 8.5833
MACROPIXEL_SIZE = 2
MISSING_FRAMES = 0
PIXEL_SUBSAMPLING_FLAG = N
SIGNAL_CHAIN_ID = 3
/* RADIOMETRIC DATA ELEMENTS */
BANDWIDTH = 81.0
CENTER_FILTER_WAVELENGTH = 955.5
RADIANCE_OFFSET = 2.21806
RADIANCE_SCALING_FACTOR = 0.00256756
REFLECTANCE_SCALING_FACTOR = 0.000239087
MEX:REFLECTANCE_OFFSET = 0.206542
/* IMAGE OBJECT DEFINITIONS */
OBJECT = IMAGE
  INTERCHANGE_FORMAT = BINARY
  LINES = 12446
  LINE_SAMPLES = 5583
  SAMPLE_TYPE = UNSIGNED_INTEGER
  SAMPLE_BITS = 8
  BANDS = 1
  BAND_STORAGE_TYPE = BAND_SEQUENTIAL
  MAXIMUM = 253
  MEAN = 148.488
  MINIMUM = 1
  STANDARD_DEVIATION = 32.3265
END_OBJECT = IMAGE
/* MAP OBJECT DEFINITIONS */
OBJECT = IMAGE_MAP_PROJECTION
  ^DATA_SET_MAP_PROJECTION_CATALOG= "DSMAP.CAT"
  A_AXIS_RADIUS = 3396.0
  B_AXIS_RADIUS = 3396.0
  C_AXIS_RADIUS = 3396.0
  CENTER_LATITUDE = 0.0
  CENTER_LONGITUDE = 100.0
  COORDINATE_SYSTEM_NAME = PLANETOGRAPHIC
  COORDINATE_SYSTEM_TYPE = "BODY-FIXED ROTATING"
  EASTERNMOST_LONGITUDE = 104.732
  FIRST_STANDARD_PARALLEL = "N/A"
  LINE_FIRST_PIXEL = 1
  LINE_LAST_PIXEL = 12446
  LINE_PROJECTION_OFFSET = -178694.75
  MAP_PROJECTION_ROTATION = 0.0
  MAP_PROJECTION_TYPE = SINUSOIDAL
  MAP_RESOLUTION = 2370.85521546667
  MAP_SCALE = 0.025
  MAXIMUM_LATITUDE = -75.35469999999999
  MINIMUM_LATITUDE = -80.5249
  POSITIVE_LONGITUDE_DIRECTION = EAST
  REFERENCE_LATITUDE = "N/A"
  REFERENCE_LONGITUDE = "N/A"
  SAMPLE_FIRST_PIXEL = 1
  SAMPLE_LAST_PIXEL = 5583
  SAMPLE_PROJECTION_OFFSET = 2859.25
  SECOND_STANDARD_PARALLEL = "N/A"
  WESTERNMOST_LONGITUDE = 93.1534
END_OBJECT = IMAGE_MAP_PROJECTION
/* The JPEG2000 image data file associated with this label. */
OBJECT = COMPRESSED_FILE
  FILE_NAME = "H4499_0000_IR3.JP2"
  RECORD_TYPE = UNDEFINED
  FILE_RECORDS = UNK
  ENCODING_TYPE = "JP2"
  INTERCHANGE_FORMAT = BINARY
  UNCOMPRESSED_FILE_NAME = "H4499_0000_IR3.IMG"
  REQUIRED_STORAGE_BYTES = "69513933"
  ^DESCRIPTION = "JP2INFO.TXT"
END_OBJECT = COMPRESSED_FILE
END
