PDS_VERSION_ID = PDS3
/* FILE DATA ELEMENTS */
RECORD_TYPE = STREAM
/* POINTERS TO DATA OBJECTS */
^COMPRESSED_FILE = "H4499_0000_RE3.JP2"
/* IDENTIFICATION DATA ELEMENTS */
DATA_SET_ID = "MEX-M-HRSC-5-REFDR-MAPPROJECTED-V3.0"
DATA_SET_NAME = "MARS EXPRESS HRSC MAP PROJECTED REFDR V3.0"
DETECTOR_ID = MEX_HRSC_RED
EVENT_TYPE = "MARS-REGIONAL-MAPPING-Gl-Eo-La"
INSTRUMENT_HOST_ID = MEX
INSTRUMENT_HOST_NAME = "MARS EXPRESS"
INSTRUMENT_ID = HRSC
INSTRUMENT_NAME = "HIGH RESOLUTION STEREO CAMERA"
MISSION_NAME = "MARS EXPRESS"
MISSION_PHASE_NAME = ME_Phase_8
PROCESSING_LEVEL_ID = 3
PRODUCT_CREATION_TIME = 2016-04-25T14:29:06.000Z
PRODUCT_ID = "H4499_0000_RE3.JP2"
RELEASE_ID = 0051
REVISION_ID = 0000
/* QUALITY DATA ELEMENTS */
DATA_QUALITY_ID = 1
DATA_QUALITY_DESC = "Data calculated based on original SPICE kernels"
/* TIME DATA ELEMENTS */
SPACECRAFT_CLOCK_START_COUNT = "1/0131799288.08246"
SPACECRAFT_CLOCK_STOP_COUNT = "1/0131799421.15947"
START_TIME = 2007-07-06T10:54:56.939Z
STOP_TIME = 2007-07-06T10:56:16.190Z
/* ORBITAL DATA ELEMENTS */
ASCENDING_NODE_LONGITUDE = 134.18
MAXIMUM_RESOLUTION = 24.3
FOOTPRINT_POINT_LATITUDE = (-80.7298,-80.6861,-80.6372,-80.5721, -80.5292,-80.4886,-80.4276,-80.364, -80.172,-80.0747,-79.9279,-79.781, -79.6827,-79.5375,-79.4423,-79.3468, -79.2033,-79.1075,-79.0111,-78.9146, -78.8185,-78.7219,-78.577,-78.4802, -78.3345,-78.2373,-78.14,-78.0425, -77.8962,-77.7493,-77.651,-77.5533, -77.4543,-77.3559,-77.2101,-77.063, -76.9654,-76.8674,-76.7692,-76.6184, -76.5179,-76.3683,-76.2689,-76.1194, -76.0205,-75.921,-75.7724,-75.6261, -75.437,-75.409,-75.4518,-75.4816, -75.5273,-75.5645,-75.6553,-75.803, -75.9016,-76.0017,-76.1078,-76.2128, -76.3152,-76.415,-76.5172,-76.6201, -76.7735,-76.8749,-77.0263,-77.1273, -77.2776,-77.4288,-77.5297,-77.6308, -77.7316,-77.832,-77.933,-78.0341, -78.1349,-78.2352,-78.3359,-78.4364, -78.5869,-78.6873,-78.7876,-78.8876, -78.9876,-79.1374,-79.2372,-79.3369, -79.4364,-79.5359,-79.6358,-79.7854, -79.8838,-79.9827,-80.0853,-80.2391, -80.3924,-80.4946,-80.5996,-80.7298)
FOOTPRINT_POINT_LONGITUDE = (98.3303,97.5256,96.672,95.6015,94.9329 ,94.325,93.4488,92.5806,92.8198,93.0655 ,93.425,93.7742,94.0014,94.3274,94.5365 ,94.7417,95.0427,95.2389,95.4315, 95.6208,95.8069,95.9897,96.2581,96.4333 ,96.6903,96.8581,97.0232,97.1854, 97.4239,97.6565,97.8083,97.9579,98.1047 ,98.2495,98.4632,98.6716,98.8081, 98.9424,99.0746,99.2674,99.3937,99.5801 ,99.7022,99.882,100.0,100.116,100.288, 100.451,100.662,101.141,101.79,102.287, 103.097,103.921,104.678,104.563,104.485 ,104.405,104.313,104.222,104.135, 104.052,103.963,103.871,103.731,103.638 ,103.497,103.401,103.257,103.107, 103.004,102.899,102.792,102.685,102.574 ,102.461,102.347,102.231,102.113, 101.993,101.808,101.682,101.554,101.424 ,101.291,101.088,100.949,100.807, 100.663,100.516,100.365,100.132,99.9775 ,99.8179,99.648,99.3865,99.1168,98.9319 ,98.7309,98.3303)
ORBIT_NUMBER = 4499
ORBITAL_ECCENTRICITY = 0.57
ORBITAL_INCLINATION = 86.69
ORBITAL_SEMIMAJOR_AXIS = 8538.17
PERIAPSIS_ALTITUDE = 292.22
PERIAPSIS_ARGUMENT_ANGLE = 285.95
PERIAPSIS_TIME = 2007-07-06T10:57:05.000Z
SPACECRAFT_ORIENTATION = (0.0,1.0,0.0)
^MEX_ORIENTATION_DESC = "MEX_ORIENTATION_DESC.TXT"
SPACECRAFT_POINTING_MODE = ACROSSTRACK
^MEX_POINTING_DESC = "MEX_POINTING_DESC.TXT"
RIGHT_ASCENSION = -1e+32
DECLINATION = -1e+32
OFFSET_ANGLE = 0.1
SPACECRAFT_SOLAR_DISTANCE = 2.07756e+08
TARGET_NAME = MARS
/* CAMERA DATA ELEMENTS */
DETECTOR_TEMPERATURE = 18.5744
FOCAL_PLANE_TEMPERATURE = 7.7677
INST_CMPRS_NAME = "DISCRETE COSINE TRANSFORMATION (DCT)"
INST_CMPRS_RATIO = 7.04601
INST_CMPRS_QUALITY = 0
INST_CMPRS_QUANTZ_TBL_ID = 0
INSTRUMENT_TEMPERATURE = 11.0301
LENS_TEMPERATURE = 8.5833
MACROPIXEL_SIZE = 2
MISSING_FRAMES = 0
PIXEL_SUBSAMPLING_FLAG = N
SIGNAL_CHAIN_ID = 3
/* RADIOMETRIC DATA ELEMENTS */
BANDWIDTH = 48.0
CENTER_FILTER_WAVELENGTH = 748.0
RADIANCE_OFFSET = 2.54064
RADIANCE_SCALING_FACTOR = 0.00212333
REFLECTANCE_SCALING_FACTOR = 0.000209147
MEX:REFLECTANCE_OFFSET = 0.250253
/* IMAGE OBJECT DEFINITIONS */
OBJECT = IMAGE
  INTERCHANGE_FORMAT = BINARY
  LINES = 12446
  LINE_SAMPLES = 5583
  SAMPLE_TYPE = UNSIGNED_INTEGER
  SAMPLE_BITS = 8
  BANDS = 1
  BAND_STORAGE_TYPE = BAND_SEQUENTIAL
  MAXIMUM = 254
  MEAN = 143.722
  MINIMUM = 1
  STANDARD_DEVIATION = 34.5673
END_OBJECT = IMAGE
/* MAP OBJECT DEFINITIONS */
OBJECT = IMAGE_MAP_PROJECTION
  ^DATA_SET_MAP_PROJECTION_CATALOG= "DSMAP.CAT"
  A_AXIS_RADIUS = 3396.0
  B_AXIS_RADIUS = 3396.0
  C_AXIS_RADIUS = 3396.0
  CENTER_LATITUDE = 0.0
  CENTER_LONGITUDE = 100.0
  COORDINATE_SYSTEM_NAME = PLANETOGRAPHIC
  COORDINATE_SYSTEM_TYPE = "BODY-FIXED ROTATING"
  EASTERNMOST_LONGITUDE = 104.678
  FIRST_STANDARD_PARALLEL = "N/A"
  LINE_FIRST_PIXEL = 1
  LINE_LAST_PIXEL = 12446
  LINE_PROJECTION_OFFSET = -178694.75
  MAP_PROJECTION_ROTATION = 0.0
  MAP_PROJECTION_TYPE = SINUSOIDAL
  MAP_RESOLUTION = 2370.85521546667
  MAP_SCALE = 0.025
  MAXIMUM_LATITUDE = -75.40900000000001
  MINIMUM_LATITUDE = -80.7298
  POSITIVE_LONGITUDE_DIRECTION = EAST
  REFERENCE_LATITUDE = "N/A"
  REFERENCE_LONGITUDE = "N/A"
  SAMPLE_FIRST_PIXEL = 1
  SAMPLE_LAST_PIXEL = 5583
  SAMPLE_PROJECTION_OFFSET = 2859.25
  SECOND_STANDARD_PARALLEL = "N/A"
  WESTERNMOST_LONGITUDE = 92.5806
END_OBJECT = IMAGE_MAP_PROJECTION
/* The JPEG2000 image data file associated with this label. */
OBJECT = COMPRESSED_FILE
  FILE_NAME = "H4499_0000_RE3.JP2"
  RECORD_TYPE = UNDEFINED
  FILE_RECORDS = UNK
  ENCODING_TYPE = "JP2"
  INTERCHANGE_FORMAT = BINARY
  UNCOMPRESSED_FILE_NAME = "H4499_0000_RE3.IMG"
  REQUIRED_STORAGE_BYTES = "69513933"
  ^DESCRIPTION = "JP2INFO.TXT"
END_OBJECT = COMPRESSED_FILE
END
