PDS_VERSION_ID = PDS3
/* FILE DATA ELEMENTS */
RECORD_TYPE = STREAM
/* POINTERS TO DATA OBJECTS */
^COMPRESSED_FILE = "H4499_0001_IR3.JP2"
/* IDENTIFICATION DATA ELEMENTS */
DATA_SET_ID = "MEX-M-HRSC-5-REFDR-MAPPROJECTED-V3.0"
DATA_SET_NAME = "MARS EXPRESS HRSC MAP PROJECTED REFDR V3.0"
DETECTOR_ID = MEX_HRSC_IR
EVENT_TYPE = "MARS-REGIONAL-MAPPING-Im-Pf"
INSTRUMENT_HOST_ID = MEX
INSTRUMENT_HOST_NAME = "MARS EXPRESS"
INSTRUMENT_ID = HRSC
INSTRUMENT_NAME = "HIGH RESOLUTION STEREO CAMERA"
MISSION_NAME = "MARS EXPRESS"
MISSION_PHASE_NAME = ME_Phase_8
PROCESSING_LEVEL_ID = 3
PRODUCT_CREATION_TIME = 2016-04-25T14:29:06.000Z
PRODUCT_ID = "H4499_0001_IR3.JP2"
RELEASE_ID = 0051
REVISION_ID = 0000
/* QUALITY DATA ELEMENTS */
DATA_QUALITY_ID = 1
DATA_QUALITY_DESC = "Data calculated based on original SPICE kernels"
/* TIME DATA ELEMENTS */
SPACECRAFT_CLOCK_START_COUNT = "1/0131799555.08422"
SPACECRAFT_CLOCK_STOP_COUNT = "1/0131799841.31722"
START_TIME = 2007-07-06T11:00:09.795Z
STOP_TIME = 2007-07-06T11:03:56.191Z
/* ORBITAL DATA ELEMENTS */
ASCENDING_NODE_LONGITUDE = 134.18
MAXIMUM_RESOLUTION = 52.9
FOOTPRINT_POINT_LATITUDE = (-63.0819,-63.0542,-63.0234,-62.9255, -62.6842,-62.4364,-62.181,-61.9327, -61.6861,-61.4321,-61.1774,-60.7955, -60.5415,-60.2904,-59.9119,-59.652, -59.3885,-59.1227,-58.8626,-58.6044, -58.3449,-58.0858,-57.8268,-57.4399, -57.0525,-56.7946,-56.5381,-56.2835, -56.0275,-55.7719,-55.4762,-55.1711, -54.8605,-54.5588,-54.2589,-53.9558, -53.653,-53.359,-53.0613,-52.6146, -52.1671,-51.7161,-51.2676,-50.8182, -50.3628,-50.0552,-49.7472,-49.4359, -49.2313,-49.2489,-49.2569,-49.2679, -49.2823,-49.5969,-49.9069,-50.3684, -50.6767,-50.9806,-51.2874,-51.5949, -51.8917,-52.1875,-52.4873,-52.7851, -53.0856,-53.387,-53.6849,-54.1292, -54.4271,-54.7339,-55.1965,-55.5009, -55.8068,-56.0638,-56.321,-56.5783, -56.8357,-57.0935,-57.3482,-57.6097, -57.8726,-58.1282,-58.3884,-58.7787, -59.1676,-59.4327,-59.6965,-59.958, -60.2111,-60.4655,-60.7213,-60.9765, -61.2316,-61.4878,-61.7438,-61.9947, -62.3643,-62.6126,-62.8639,-63.0819)
FOOTPRINT_POINT_LONGITUDE = (109.386,108.689,107.992,107.31,107.363 ,107.423,107.491,107.549,107.604, 107.659,107.713,107.793,107.843,107.89, 107.961,108.008,108.058,108.11,108.154, 108.196,108.239,108.28,108.321,108.379, 108.437,108.474,108.51,108.543,108.577, 108.61,108.647,108.686,108.728,108.762, 108.794,108.829,108.862,108.888,108.916 ,108.959,109.0,109.045,109.083,109.115, 109.149,109.172,109.194,109.214,109.422 ,110.05,110.395,110.891,111.543,111.517 ,111.491,111.45,111.423,111.396,111.37, 111.344,111.316,111.287,111.258,111.228 ,111.198,111.167,111.134,111.082, 111.046,111.014,110.964,110.928,110.892 ,110.861,110.829,110.796,110.763, 110.729,110.692,110.658,110.624,110.586 ,110.548,110.491,110.43,110.391,110.351 ,110.308,110.265,110.222,110.18,110.135 ,110.09,110.044,109.997,109.951,109.878 ,109.829,109.78,109.386)
ORBIT_NUMBER = 4499
ORBITAL_ECCENTRICITY = 0.57
ORBITAL_INCLINATION = 86.69
ORBITAL_SEMIMAJOR_AXIS = 8538.17
PERIAPSIS_ALTITUDE = 292.22
PERIAPSIS_ARGUMENT_ANGLE = 285.95
PERIAPSIS_TIME = 2007-07-06T10:57:05.000Z
SPACECRAFT_ORIENTATION = (0.0,1.0,0.0)
^MEX_ORIENTATION_DESC = "MEX_ORIENTATION_DESC.TXT"
SPACECRAFT_POINTING_MODE = ACROSSTRACK
^MEX_POINTING_DESC = "MEX_POINTING_DESC.TXT"
RIGHT_ASCENSION = -1e+32
DECLINATION = -1e+32
OFFSET_ANGLE = 0.1
SPACECRAFT_SOLAR_DISTANCE = 2.07756e+08
TARGET_NAME = MARS
/* CAMERA DATA ELEMENTS */
DETECTOR_TEMPERATURE = 18.3705
FOCAL_PLANE_TEMPERATURE = 8.9911
INST_CMPRS_NAME = "DISCRETE COSINE TRANSFORMATION (DCT)"
INST_CMPRS_RATIO = 15.875
INST_CMPRS_QUALITY = 0
INST_CMPRS_QUANTZ_TBL_ID = 0
INSTRUMENT_TEMPERATURE = 12.2535
LENS_TEMPERATURE = 9.3989
MACROPIXEL_SIZE = 4
MISSING_FRAMES = 0
PIXEL_SUBSAMPLING_FLAG = N
SIGNAL_CHAIN_ID = 2
/* RADIOMETRIC DATA ELEMENTS */
BANDWIDTH = 81.0
CENTER_FILTER_WAVELENGTH = 955.5
RADIANCE_OFFSET = 3.05057
RADIANCE_SCALING_FACTOR = 0.00389494
REFLECTANCE_SCALING_FACTOR = 0.000362691
MEX:REFLECTANCE_OFFSET = 0.284065
/* IMAGE OBJECT DEFINITIONS */
OBJECT = IMAGE
  INTERCHANGE_FORMAT = BINARY
  LINES = 16521
  LINE_SAMPLES = 2609
  SAMPLE_TYPE = UNSIGNED_INTEGER
  SAMPLE_BITS = 8
  BANDS = 1
  BAND_STORAGE_TYPE = BAND_SEQUENTIAL
  MAXIMUM = 255
  MEAN = 140.098
  MINIMUM = 1
  STANDARD_DEVIATION = 45.1449
END_OBJECT = IMAGE
/* MAP OBJECT DEFINITIONS */
OBJECT = IMAGE_MAP_PROJECTION
  ^DATA_SET_MAP_PROJECTION_CATALOG= "DSMAP.CAT"
  A_AXIS_RADIUS = 3396.0
  B_AXIS_RADIUS = 3396.0
  C_AXIS_RADIUS = 3396.0
  CENTER_LATITUDE = 0.0
  CENTER_LONGITUDE = 110.0
  COORDINATE_SYSTEM_NAME = PLANETOGRAPHIC
  COORDINATE_SYSTEM_TYPE = "BODY-FIXED ROTATING"
  EASTERNMOST_LONGITUDE = 111.543
  FIRST_STANDARD_PARALLEL = "N/A"
  LINE_FIRST_PIXEL = 1
  LINE_LAST_PIXEL = 16521
  LINE_PROJECTION_OFFSET = -58361.875
  MAP_PROJECTION_ROTATION = 0.0
  MAP_PROJECTION_TYPE = SINUSOIDAL
  MAP_RESOLUTION = 1185.42760773333
  MAP_SCALE = 0.05
  MAXIMUM_LATITUDE = -49.2313
  MINIMUM_LATITUDE = -63.0819
  POSITIVE_LONGITUDE_DIRECTION = EAST
  REFERENCE_LATITUDE = "N/A"
  REFERENCE_LONGITUDE = "N/A"
  SAMPLE_FIRST_PIXEL = 1
  SAMPLE_LAST_PIXEL = 2609
  SAMPLE_PROJECTION_OFFSET = 1466.875
  SECOND_STANDARD_PARALLEL = "N/A"
  WESTERNMOST_LONGITUDE = 107.31
END_OBJECT = IMAGE_MAP_PROJECTION
/* The JPEG2000 image data file associated with this label. */
OBJECT = COMPRESSED_FILE
  FILE_NAME = "H4499_0001_IR3.JP2"
  RECORD_TYPE = UNDEFINED
  FILE_RECORDS = UNK
  ENCODING_TYPE = "JP2"
  INTERCHANGE_FORMAT = BINARY
  UNCOMPRESSED_FILE_NAME = "H4499_0001_IR3.IMG"
  REQUIRED_STORAGE_BYTES = "43124161"
  ^DESCRIPTION = "JP2INFO.TXT"
END_OBJECT = COMPRESSED_FILE
END
