PDS_VERSION_ID = PDS3
/* FILE DATA ELEMENTS */
RECORD_TYPE = STREAM
/* POINTERS TO DATA OBJECTS */
^COMPRESSED_FILE = "H4502_0000_BL3.JP2"
/* IDENTIFICATION DATA ELEMENTS */
DATA_SET_ID = "MEX-M-HRSC-5-REFDR-MAPPROJECTED-V3.0"
DATA_SET_NAME = "MARS EXPRESS HRSC MAP PROJECTED REFDR V3.0"
DETECTOR_ID = MEX_HRSC_BLUE
EVENT_TYPE = "MARS-REGIONAL-MAPPING-Im-Eo"
INSTRUMENT_HOST_ID = MEX
INSTRUMENT_HOST_NAME = "MARS EXPRESS"
INSTRUMENT_ID = HRSC
INSTRUMENT_NAME = "HIGH RESOLUTION STEREO CAMERA"
MISSION_NAME = "MARS EXPRESS"
MISSION_PHASE_NAME = ME_Phase_8
PROCESSING_LEVEL_ID = 3
PRODUCT_CREATION_TIME = 2016-04-25T16:23:03.000Z
PRODUCT_ID = "H4502_0000_BL3.JP2"
RELEASE_ID = 0052
REVISION_ID = 0000
/* QUALITY DATA ELEMENTS */
DATA_QUALITY_ID = 1
DATA_QUALITY_DESC = "Data calculated based on original SPICE kernels"
/* TIME DATA ELEMENTS */
SPACECRAFT_CLOCK_START_COUNT = "1/0131872057.07297"
SPACECRAFT_CLOCK_STOP_COUNT = "1/0131872358.30182"
START_TIME = 2007-07-07T07:08:02.669Z
STOP_TIME = 2007-07-07T07:11:57.470Z
/* ORBITAL DATA ELEMENTS */
ASCENDING_NODE_LONGITUDE = 134.12
MAXIMUM_RESOLUTION = 47.2
FOOTPRINT_POINT_LATITUDE = (-68.5673,-68.5257,-68.48,-68.4053, -68.1237,-67.8427,-67.5644,-67.2836, -66.8626,-66.5818,-66.1601,-65.8793, -65.5983,-65.3116,-65.0193,-64.7283, -64.2926,-64.0015,-63.7106,-63.4198, -63.1292,-62.8385,-62.3912,-62.0911, -61.7904,-61.49,-61.1896,-60.8892, -60.5889,-60.1247,-59.8144,-59.5044, -59.0401,-58.7307,-58.2531,-57.9339, -57.6152,-57.2974,-56.9794,-56.6616, -56.344,-56.0268,-55.7098,-55.3931, -55.0754,-54.7598,-54.2862,-53.913, -53.5372,-53.1622,-53.1641,-53.179, -53.2012,-53.225,-53.4201,-53.7964, -53.985,-54.1737,-54.5208,-54.8375, -55.1548,-55.4723,-55.79,-56.2671, -56.5853,-56.904,-57.223,-57.5423, -57.8621,-58.182,-58.502,-58.977, -59.2874,-59.5981,-59.909,-60.22, -60.686,-61.1384,-61.44,-61.7418, -62.1949,-62.4972,-62.9467,-63.2388, -63.5311,-63.8235,-64.2623,-64.7012, -65.1405,-65.4334,-65.7223,-66.0049, -66.4287,-66.8532,-67.135,-67.4182, -67.8424,-68.1251,-68.4079,-68.5673)
FOOTPRINT_POINT_LONGITUDE = (172.543,171.758,170.969,170.064, 170.188,170.311,170.442,170.559,170.73, 170.839,170.996,171.097,171.196,171.293 ,171.386,171.481,171.622,171.709, 171.795,171.879,171.96,172.039,172.154, 172.233,172.307,172.379,172.449,172.517 ,172.582,172.679,172.741,172.802, 172.892,172.95,173.036,173.091,173.145, 173.2,173.251,173.3,173.348,173.395, 173.44,173.484,173.522,173.565,173.624, 173.668,173.712,173.754,174.246,174.573 ,175.101,175.748,175.915,175.874, 175.852,175.83,175.789,175.751,175.712, 175.672,175.631,175.569,175.526,175.482 ,175.437,175.392,175.344,175.296, 175.247,175.172,175.122,175.07,175.017, 174.963,174.879,174.795,174.737,174.677 ,174.586,174.523,174.426,174.362, 174.296,174.228,174.123,174.014,173.9, 173.822,173.744,173.664,173.542,173.414 ,173.328,173.237,173.097,173.001, 172.902,172.543)
ORBIT_NUMBER = 4502
ORBITAL_ECCENTRICITY = 0.57
ORBITAL_INCLINATION = 86.69
ORBITAL_SEMIMAJOR_AXIS = 8536.67
PERIAPSIS_ALTITUDE = 293.14
PERIAPSIS_ARGUMENT_ANGLE = 285.44
PERIAPSIS_TIME = 2007-07-07T07:06:41.000Z
SPACECRAFT_ORIENTATION = (0.0,1.0,0.0)
^MEX_ORIENTATION_DESC = "MEX_ORIENTATION_DESC.TXT"
SPACECRAFT_POINTING_MODE = ACROSSTRACK
^MEX_POINTING_DESC = "MEX_POINTING_DESC.TXT"
RIGHT_ASCENSION = -1e+32
DECLINATION = -1e+32
OFFSET_ANGLE = 0.3
SPACECRAFT_SOLAR_DISTANCE = 2.07813e+08
TARGET_NAME = MARS
/* CAMERA DATA ELEMENTS */
DETECTOR_TEMPERATURE = 18.1666
FOCAL_PLANE_TEMPERATURE = 8.3794
INST_CMPRS_NAME = "DISCRETE COSINE TRANSFORMATION (DCT)"
INST_CMPRS_RATIO = 7.27866
INST_CMPRS_QUALITY = 0
INST_CMPRS_QUANTZ_TBL_ID = 0
INSTRUMENT_TEMPERATURE = 11.234
LENS_TEMPERATURE = 8.7872
MACROPIXEL_SIZE = 4
MISSING_FRAMES = 0
PIXEL_SUBSAMPLING_FLAG = N
SIGNAL_CHAIN_ID = 2
/* RADIOMETRIC DATA ELEMENTS */
BANDWIDTH = 76.0
CENTER_FILTER_WAVELENGTH = 444.0
RADIANCE_OFFSET = 1.32727
RADIANCE_SCALING_FACTOR = 0.00101497
REFLECTANCE_SCALING_FACTOR = 4.50357e-05
MEX:REFLECTANCE_OFFSET = 0.0588928
/* IMAGE OBJECT DEFINITIONS */
OBJECT = IMAGE
  INTERCHANGE_FORMAT = BINARY
  LINES = 18258
  LINE_SAMPLES = 3063
  SAMPLE_TYPE = UNSIGNED_INTEGER
  SAMPLE_BITS = 8
  BANDS = 1
  BAND_STORAGE_TYPE = BAND_SEQUENTIAL
  MAXIMUM = 255
  MEAN = 135.687
  MINIMUM = 1
  STANDARD_DEVIATION = 36.2532
END_OBJECT = IMAGE
/* MAP OBJECT DEFINITIONS */
OBJECT = IMAGE_MAP_PROJECTION
  ^DATA_SET_MAP_PROJECTION_CATALOG= "DSMAP.CAT"
  A_AXIS_RADIUS = 3396.0
  B_AXIS_RADIUS = 3396.0
  C_AXIS_RADIUS = 3396.0
  CENTER_LATITUDE = 0.0
  CENTER_LONGITUDE = 174.0
  COORDINATE_SYSTEM_NAME = PLANETOGRAPHIC
  COORDINATE_SYSTEM_TYPE = "BODY-FIXED ROTATING"
  EASTERNMOST_LONGITUDE = 175.915
  FIRST_STANDARD_PARALLEL = "N/A"
  LINE_FIRST_PIXEL = 1
  LINE_LAST_PIXEL = 18258
  LINE_PROJECTION_OFFSET = -63011.375
  MAP_PROJECTION_ROTATION = 0.0
  MAP_PROJECTION_TYPE = SINUSOIDAL
  MAP_RESOLUTION = 1185.42760773333
  MAP_SCALE = 0.05
  MAXIMUM_LATITUDE = -53.1622
  MINIMUM_LATITUDE = -68.5673
  POSITIVE_LONGITUDE_DIRECTION = EAST
  REFERENCE_LATITUDE = "N/A"
  REFERENCE_LONGITUDE = "N/A"
  SAMPLE_FIRST_PIXEL = 1
  SAMPLE_LAST_PIXEL = 3063
  SAMPLE_PROJECTION_OFFSET = 1694.875
  SECOND_STANDARD_PARALLEL = "N/A"
  WESTERNMOST_LONGITUDE = 170.064
END_OBJECT = IMAGE_MAP_PROJECTION
/* The JPEG2000 image data file associated with this label. */
OBJECT = COMPRESSED_FILE
  FILE_NAME = "H4502_0000_BL3.JP2"
  RECORD_TYPE = UNDEFINED
  FILE_RECORDS = UNK
  ENCODING_TYPE = "JP2"
  INTERCHANGE_FORMAT = BINARY
  UNCOMPRESSED_FILE_NAME = "H4502_0000_BL3.IMG"
  REQUIRED_STORAGE_BYTES = "55948758"
  ^DESCRIPTION = "JP2INFO.TXT"
END_OBJECT = COMPRESSED_FILE
END
