PDS_VERSION_ID = PDS3
/* FILE DATA ELEMENTS */
RECORD_TYPE = STREAM
/* POINTERS TO DATA OBJECTS */
^COMPRESSED_FILE = "H4504_0000_BL3.JP2"
/* IDENTIFICATION DATA ELEMENTS */
DATA_SET_ID = "MEX-M-HRSC-5-REFDR-MAPPROJECTED-V3.0"
DATA_SET_NAME = "MARS EXPRESS HRSC MAP PROJECTED REFDR V3.0"
DETECTOR_ID = MEX_HRSC_BLUE
EVENT_TYPE = "MARS-REGIONAL-MAPPING-Gl-Pf-Eo"
INSTRUMENT_HOST_ID = MEX
INSTRUMENT_HOST_NAME = "MARS EXPRESS"
INSTRUMENT_ID = HRSC
INSTRUMENT_NAME = "HIGH RESOLUTION STEREO CAMERA"
MISSION_NAME = "MARS EXPRESS"
MISSION_PHASE_NAME = ME_Phase_8
PROCESSING_LEVEL_ID = 3
PRODUCT_CREATION_TIME = 2016-04-25T16:23:03.000Z
PRODUCT_ID = "H4504_0000_BL3.JP2"
RELEASE_ID = 0052
REVISION_ID = 0000
/* QUALITY DATA ELEMENTS */
DATA_QUALITY_ID = 1
DATA_QUALITY_DESC = "Data calculated based on original SPICE kernels"
/* TIME DATA ELEMENTS */
SPACECRAFT_CLOCK_START_COUNT = "1/0131920278.09071"
SPACECRAFT_CLOCK_STOP_COUNT = "1/0131920496.32026"
START_TIME = 2007-07-07T20:31:53.323Z
STOP_TIME = 2007-07-07T20:34:36.279Z
/* ORBITAL DATA ELEMENTS */
ASCENDING_NODE_LONGITUDE = 134.08
MAXIMUM_RESOLUTION = 92.7
FOOTPRINT_POINT_LATITUDE = (-79.1346,-79.2402,-79.3137,-79.3847, -79.4452,-79.2311,-78.9095,-78.6947, -78.4796,-78.2644,-78.0568,-77.8488, -77.6408,-77.4327,-77.2243,-77.0157, -76.807,-76.5977,-76.2842,-76.0749, -75.7609,-75.5513,-75.3418,-75.1322, -74.9226,-74.6081,-74.293,-74.0828, -73.873,-73.6627,-73.3476,-73.1375, -72.9271,-72.7169,-72.4016,-72.1909, -71.8749,-71.6644,-71.3489,-71.1386, -70.823,-70.6069,-70.3888,-70.0616, -69.7337,-69.5151,-69.2967,-69.0785, -68.7662,-68.733,-68.6976,-68.672, -68.6292,-68.8457,-69.1703,-69.3872, -69.6036,-69.8199,-70.0362,-70.2529, -70.4692,-70.6828,-70.8913,-71.0995, -71.3083,-71.5168,-71.725,-71.9328, -72.1409,-72.4529,-72.6608,-72.8686, -73.0764,-73.3878,-73.595,-73.8024, -74.0098,-74.2169,-74.4234,-74.6302, -74.8369,-75.0434,-75.2496,-75.4557, -75.6615,-75.8671,-76.0724,-76.2774, -76.4823,-76.6869,-76.8912,-77.0952, -77.2988,-77.6035,-77.9075,-78.2188, -78.428,-78.6367,-78.8448,-79.1346)
FOOTPRINT_POINT_LONGITUDE = (324.705,326.343,327.592,328.903, 329.767,330.066,330.493,330.764,331.024 ,331.275,331.508,331.732,331.949, 332.159,332.361,332.557,332.746,332.928 ,333.193,333.362,333.607,333.764, 333.917,334.065,334.209,334.419,334.617 ,334.745,334.871,334.992,335.169, 335.284,335.394,335.503,335.66,335.761, 335.907,336.001,336.14,336.23,336.361, 336.449,336.536,336.662,336.782,336.859 ,336.935,337.01,337.113,336.353,335.618 ,335.119,334.312,334.217,334.074, 333.971,333.87,333.766,333.66,333.549, 333.437,333.323,333.207,333.091,332.967 ,332.842,332.715,332.589,332.455, 332.249,332.106,331.96,331.809,331.576, 331.418,331.252,331.08,330.905,330.729, 330.544,330.352,330.155,329.953,329.745 ,329.53,329.309,329.081,328.847,328.603 ,328.352,328.092,327.825,327.548, 327.116,326.66,326.168,325.821,325.46, 325.086,324.705)
ORBIT_NUMBER = 4504
ORBITAL_ECCENTRICITY = 0.57
ORBITAL_INCLINATION = 86.7
ORBITAL_SEMIMAJOR_AXIS = 8534.79
PERIAPSIS_ALTITUDE = 292.81
PERIAPSIS_ARGUMENT_ANGLE = 285.09
PERIAPSIS_TIME = 2007-07-07T20:33:02.000Z
SPACECRAFT_ORIENTATION = (0.0,-1.0,0.0)
^MEX_ORIENTATION_DESC = "MEX_ORIENTATION_DESC.TXT"
SPACECRAFT_POINTING_MODE = NADIR
^MEX_POINTING_DESC = "MEX_POINTING_DESC.TXT"
RIGHT_ASCENSION = -1e+32
DECLINATION = -1e+32
OFFSET_ANGLE = -1e+32
SPACECRAFT_SOLAR_DISTANCE = 2.07852e+08
TARGET_NAME = MARS
/* CAMERA DATA ELEMENTS */
DETECTOR_TEMPERATURE = 17.9627
FOCAL_PLANE_TEMPERATURE = 8.7872
INST_CMPRS_NAME = "DISCRETE COSINE TRANSFORMATION (DCT)"
INST_CMPRS_RATIO = 20.5187
INST_CMPRS_QUALITY = 0
INST_CMPRS_QUANTZ_TBL_ID = 0
INSTRUMENT_TEMPERATURE = 11.4379
LENS_TEMPERATURE = 8.7872
MACROPIXEL_SIZE = 8
MISSING_FRAMES = 0
PIXEL_SUBSAMPLING_FLAG = N
SIGNAL_CHAIN_ID = 2
/* RADIOMETRIC DATA ELEMENTS */
BANDWIDTH = 76.0
CENTER_FILTER_WAVELENGTH = 444.0
RADIANCE_OFFSET = 1.17107
RADIANCE_SCALING_FACTOR = 0.00399156
REFLECTANCE_SCALING_FACTOR = 0.000177178
MEX:REFLECTANCE_OFFSET = 0.0519818
/* IMAGE OBJECT DEFINITIONS */
OBJECT = IMAGE
  INTERCHANGE_FORMAT = BINARY
  LINES = 6414
  LINE_SAMPLES = 1809
  SAMPLE_TYPE = UNSIGNED_INTEGER
  SAMPLE_BITS = 8
  BANDS = 1
  BAND_STORAGE_TYPE = BAND_SEQUENTIAL
  MAXIMUM = 255
  MEAN = 81.9896
  MINIMUM = 3
  STANDARD_DEVIATION = 59.8287
END_OBJECT = IMAGE
/* MAP OBJECT DEFINITIONS */
OBJECT = IMAGE_MAP_PROJECTION
  ^DATA_SET_MAP_PROJECTION_CATALOG= "DSMAP.CAT"
  A_AXIS_RADIUS = 3396.0
  B_AXIS_RADIUS = 3396.0
  C_AXIS_RADIUS = 3396.0
  CENTER_LATITUDE = 0.0
  CENTER_LONGITUDE = 333.0
  COORDINATE_SYSTEM_NAME = PLANETOGRAPHIC
  COORDINATE_SYSTEM_TYPE = "BODY-FIXED ROTATING"
  EASTERNMOST_LONGITUDE = 337.113
  FIRST_STANDARD_PARALLEL = "N/A"
  LINE_FIRST_PIXEL = 1
  LINE_LAST_PIXEL = 6414
  LINE_PROJECTION_OFFSET = -40684.5625
  MAP_PROJECTION_ROTATION = 0.0
  MAP_PROJECTION_TYPE = SINUSOIDAL
  MAP_RESOLUTION = 592.713803866667
  MAP_SCALE = 0.1
  MAXIMUM_LATITUDE = -68.6292
  MINIMUM_LATITUDE = -79.4452
  POSITIVE_LONGITUDE_DIRECTION = EAST
  REFERENCE_LATITUDE = "N/A"
  REFERENCE_LONGITUDE = "N/A"
  SAMPLE_FIRST_PIXEL = 1
  SAMPLE_LAST_PIXEL = 1809
  SAMPLE_PROJECTION_OFFSET = 933.8125
  SECOND_STANDARD_PARALLEL = "N/A"
  WESTERNMOST_LONGITUDE = 324.705
END_OBJECT = IMAGE_MAP_PROJECTION
/* The JPEG2000 image data file associated with this label. */
OBJECT = COMPRESSED_FILE
  FILE_NAME = "H4504_0000_BL3.JP2"
  RECORD_TYPE = UNDEFINED
  FILE_RECORDS = UNK
  ENCODING_TYPE = "JP2"
  INTERCHANGE_FORMAT = BINARY
  UNCOMPRESSED_FILE_NAME = "H4504_0000_BL3.IMG"
  REQUIRED_STORAGE_BYTES = "11622825"
  ^DESCRIPTION = "JP2INFO.TXT"
END_OBJECT = COMPRESSED_FILE
END
