PDS_VERSION_ID = PDS3
/* FILE DATA ELEMENTS */
RECORD_TYPE = STREAM
/* POINTERS TO DATA OBJECTS */
^COMPRESSED_FILE = "H4504_0000_RE3.JP2"
/* IDENTIFICATION DATA ELEMENTS */
DATA_SET_ID = "MEX-M-HRSC-5-REFDR-MAPPROJECTED-V3.0"
DATA_SET_NAME = "MARS EXPRESS HRSC MAP PROJECTED REFDR V3.0"
DETECTOR_ID = MEX_HRSC_RED
EVENT_TYPE = "MARS-REGIONAL-MAPPING-Gl-Pf-Eo"
INSTRUMENT_HOST_ID = MEX
INSTRUMENT_HOST_NAME = "MARS EXPRESS"
INSTRUMENT_ID = HRSC
INSTRUMENT_NAME = "HIGH RESOLUTION STEREO CAMERA"
MISSION_NAME = "MARS EXPRESS"
MISSION_PHASE_NAME = ME_Phase_8
PROCESSING_LEVEL_ID = 3
PRODUCT_CREATION_TIME = 2016-04-25T16:23:03.000Z
PRODUCT_ID = "H4504_0000_RE3.JP2"
RELEASE_ID = 0052
REVISION_ID = 0000
/* QUALITY DATA ELEMENTS */
DATA_QUALITY_ID = 1
DATA_QUALITY_DESC = "Data calculated based on original SPICE kernels"
/* TIME DATA ELEMENTS */
SPACECRAFT_CLOCK_START_COUNT = "1/0131920278.09071"
SPACECRAFT_CLOCK_STOP_COUNT = "1/0131920496.32026"
START_TIME = 2007-07-07T20:32:10.466Z
STOP_TIME = 2007-07-07T20:34:53.975Z
/* ORBITAL DATA ELEMENTS */
ASCENDING_NODE_LONGITUDE = 134.08
MAXIMUM_RESOLUTION = 96.9
FOOTPRINT_POINT_LATITUDE = (-79.1059,-79.143,-79.19,-79.243, -79.308,-79.3458,-79.224,-79.0167, -78.809,-78.6012,-78.3931,-78.1849, -77.9762,-77.6633,-77.4545,-77.1412, -76.932,-76.7213,-76.407,-76.1979, -75.8842,-75.5695,-75.3604,-75.1512, -74.9423,-74.6292,-74.3145,-74.1044, -73.7913,-73.5815,-73.2683,-72.9545, -72.6416,-72.3279,-72.1184,-71.9077, -71.691,-71.4749,-71.258,-71.0415, -70.8252,-70.6094,-70.2866,-70.0716, -69.7463,-69.5293,-69.3129,-68.9894, -68.7737,-68.7359,-68.7152,-68.6983, -68.6651,-68.6429,-68.6215,-68.8354, -69.0449,-69.2622,-69.4768,-69.6899, -70.0086,-70.3301,-70.5429,-70.7576, -71.0791,-71.2962,-71.512,-71.726, -71.9303,-72.1369,-72.447,-72.6537, -72.8605,-73.0677,-73.2746,-73.4807, -73.7896,-73.9974,-74.2041,-74.4086, -74.6148,-74.822,-75.1322,-75.4413, -75.7502,-76.0583,-76.2635,-76.4693, -76.674,-76.8795,-77.0842,-77.2884, -77.5942,-77.7979,-78.1024,-78.3051, -78.6082,-78.8098,-79.0112,-79.1059)
FOOTPRINT_POINT_LONGITUDE = (325.496,326.085,326.862,327.784, 328.995,329.749,330.108,330.386,330.653 ,330.911,331.159,331.398,331.629,331.96 ,332.171,332.474,332.668,332.855, 333.125,333.298,333.547,333.785,333.939 ,334.087,334.232,334.441,334.64,334.768 ,334.955,335.075,335.25,335.417,335.578 ,335.733,335.833,335.929,336.027, 336.124,336.218,336.31,336.399,336.487, 336.615,336.698,336.817,336.894,336.969 ,337.08,337.151,336.759,336.277,335.903 ,335.234,334.723,334.303,334.21,334.122 ,334.02,333.919,333.819,333.665,333.501 ,333.391,333.275,333.096,332.968, 332.839,332.71,332.586,332.454,332.25, 332.109,331.964,331.814,331.661,331.505 ,331.264,331.092,330.919,330.745, 330.562,330.371,330.074,329.766,329.443 ,329.107,328.873,328.63,328.381,328.121 ,327.854,327.578,327.147,326.846, 326.376,326.048,325.534,325.175,324.801 ,325.496)
ORBIT_NUMBER = 4504
ORBITAL_ECCENTRICITY = 0.57
ORBITAL_INCLINATION = 86.7
ORBITAL_SEMIMAJOR_AXIS = 8534.79
PERIAPSIS_ALTITUDE = 292.81
PERIAPSIS_ARGUMENT_ANGLE = 285.09
PERIAPSIS_TIME = 2007-07-07T20:33:02.000Z
SPACECRAFT_ORIENTATION = (0.0,-1.0,0.0)
^MEX_ORIENTATION_DESC = "MEX_ORIENTATION_DESC.TXT"
SPACECRAFT_POINTING_MODE = NADIR
^MEX_POINTING_DESC = "MEX_POINTING_DESC.TXT"
RIGHT_ASCENSION = -1e+32
DECLINATION = -1e+32
OFFSET_ANGLE = -1e+32
SPACECRAFT_SOLAR_DISTANCE = 2.07852e+08
TARGET_NAME = MARS
/* CAMERA DATA ELEMENTS */
DETECTOR_TEMPERATURE = 18.9822
FOCAL_PLANE_TEMPERATURE = 8.7872
INST_CMPRS_NAME = "DISCRETE COSINE TRANSFORMATION (DCT)"
INST_CMPRS_RATIO = 29.473
INST_CMPRS_QUALITY = 0
INST_CMPRS_QUANTZ_TBL_ID = 0
INSTRUMENT_TEMPERATURE = 11.4379
LENS_TEMPERATURE = 8.7872
MACROPIXEL_SIZE = 8
MISSING_FRAMES = 0
PIXEL_SUBSAMPLING_FLAG = N
SIGNAL_CHAIN_ID = 2
/* RADIOMETRIC DATA ELEMENTS */
BANDWIDTH = 48.0
CENTER_FILTER_WAVELENGTH = 748.0
RADIANCE_OFFSET = 2.76749
RADIANCE_SCALING_FACTOR = 0.00568903
REFLECTANCE_SCALING_FACTOR = 0.000560886
MEX:REFLECTANCE_OFFSET = 0.27285
/* IMAGE OBJECT DEFINITIONS */
OBJECT = IMAGE
  INTERCHANGE_FORMAT = BINARY
  LINES = 6414
  LINE_SAMPLES = 1809
  SAMPLE_TYPE = UNSIGNED_INTEGER
  SAMPLE_BITS = 8
  BANDS = 1
  BAND_STORAGE_TYPE = BAND_SEQUENTIAL
  MAXIMUM = 255
  MEAN = 112.882
  MINIMUM = 1
  STANDARD_DEVIATION = 59.4811
END_OBJECT = IMAGE
/* MAP OBJECT DEFINITIONS */
OBJECT = IMAGE_MAP_PROJECTION
  ^DATA_SET_MAP_PROJECTION_CATALOG= "DSMAP.CAT"
  A_AXIS_RADIUS = 3396.0
  B_AXIS_RADIUS = 3396.0
  C_AXIS_RADIUS = 3396.0
  CENTER_LATITUDE = 0.0
  CENTER_LONGITUDE = 333.0
  COORDINATE_SYSTEM_NAME = PLANETOGRAPHIC
  COORDINATE_SYSTEM_TYPE = "BODY-FIXED ROTATING"
  EASTERNMOST_LONGITUDE = 337.151
  FIRST_STANDARD_PARALLEL = "N/A"
  LINE_FIRST_PIXEL = 1
  LINE_LAST_PIXEL = 6414
  LINE_PROJECTION_OFFSET = -40684.5625
  MAP_PROJECTION_ROTATION = 0.0
  MAP_PROJECTION_TYPE = SINUSOIDAL
  MAP_RESOLUTION = 592.713803866667
  MAP_SCALE = 0.1
  MAXIMUM_LATITUDE = -68.6215
  MINIMUM_LATITUDE = -79.3458
  POSITIVE_LONGITUDE_DIRECTION = EAST
  REFERENCE_LATITUDE = "N/A"
  REFERENCE_LONGITUDE = "N/A"
  SAMPLE_FIRST_PIXEL = 1
  SAMPLE_LAST_PIXEL = 1809
  SAMPLE_PROJECTION_OFFSET = 933.8125
  SECOND_STANDARD_PARALLEL = "N/A"
  WESTERNMOST_LONGITUDE = 324.801
END_OBJECT = IMAGE_MAP_PROJECTION
/* The JPEG2000 image data file associated with this label. */
OBJECT = COMPRESSED_FILE
  FILE_NAME = "H4504_0000_RE3.JP2"
  RECORD_TYPE = UNDEFINED
  FILE_RECORDS = UNK
  ENCODING_TYPE = "JP2"
  INTERCHANGE_FORMAT = BINARY
  UNCOMPRESSED_FILE_NAME = "H4504_0000_RE3.IMG"
  REQUIRED_STORAGE_BYTES = "11622825"
  ^DESCRIPTION = "JP2INFO.TXT"
END_OBJECT = COMPRESSED_FILE
END
