PDS_VERSION_ID = PDS3
/* FILE DATA ELEMENTS */
RECORD_TYPE = STREAM
/* POINTERS TO DATA OBJECTS */
^COMPRESSED_FILE = "H4508_0000_BL3.JP2"
/* IDENTIFICATION DATA ELEMENTS */
DATA_SET_ID = "MEX-M-HRSC-5-REFDR-MAPPROJECTED-V3.0"
DATA_SET_NAME = "MARS EXPRESS HRSC MAP PROJECTED REFDR V3.0"
DETECTOR_ID = MEX_HRSC_BLUE
EVENT_TYPE = "MARS-REGIONAL-MAPPING-Gl-Pf-La"
INSTRUMENT_HOST_ID = MEX
INSTRUMENT_HOST_NAME = "MARS EXPRESS"
INSTRUMENT_ID = HRSC
INSTRUMENT_NAME = "HIGH RESOLUTION STEREO CAMERA"
MISSION_NAME = "MARS EXPRESS"
MISSION_PHASE_NAME = ME_Phase_8
PROCESSING_LEVEL_ID = 3
PRODUCT_CREATION_TIME = 2016-04-25T16:23:03.000Z
PRODUCT_ID = "H4508_0000_BL3.JP2"
RELEASE_ID = 0052
REVISION_ID = 0000
/* QUALITY DATA ELEMENTS */
DATA_QUALITY_ID = 1
DATA_QUALITY_DESC = "Data calculated based on original SPICE kernels"
/* TIME DATA ELEMENTS */
SPACECRAFT_CLOCK_START_COUNT = "1/0132016993.07308"
SPACECRAFT_CLOCK_STOP_COUNT = "1/0132017168.63746"
START_TIME = 2007-07-08T23:23:49.875Z
STOP_TIME = 2007-07-08T23:25:49.647Z
/* ORBITAL DATA ELEMENTS */
ASCENDING_NODE_LONGITUDE = 134.0
MAXIMUM_RESOLUTION = 46.5
FOOTPRINT_POINT_LATITUDE = (-82.7635,-82.8437,-82.9212,-83.0681, -83.2048,-82.9804,-82.8297,-82.6047, -82.4581,-82.3105,-82.162,-82.0139, -81.8645,-81.7158,-81.5657,-81.4147, -81.1892,-81.0379,-80.886,-80.7341, -80.5808,-80.4278,-80.2749,-80.1213, -79.9676,-79.8138,-79.6595,-79.505, -79.2731,-79.0406,-78.8854,-78.7305, -78.5761,-78.4204,-78.1885,-78.0382, -77.887,-77.7358,-77.5859,-77.4343, -77.2835,-77.1327,-76.9067,-76.7551, -76.604,-76.4525,-76.3009,-76.1492, -75.9978,-75.8459,-75.6942,-75.5782, -75.5454,-75.4978,-75.4542,-75.3804, -75.6039,-75.7527,-75.9015,-76.05, -76.1986,-76.3467,-76.4946,-76.6426, -76.8641,-77.0116,-77.2324,-77.3794, -77.5261,-77.6727,-77.8189,-78.0417, -78.1929,-78.3439,-78.4946,-78.6449, -78.7949,-79.0193,-79.1684,-79.3172, -79.4656,-79.6874,-79.9081,-80.0549, -80.274,-80.4194,-80.6365,-80.8523, -81.0667,-81.2087,-81.35,-81.5605, -81.7001,-81.9078,-82.0452,-82.2522, -82.392,-82.5307,-82.6682,-82.7635)
FOOTPRINT_POINT_LONGITUDE = (278.927,279.948,280.988,283.118,285.01 ,285.92,286.496,287.307,287.808,288.289 ,288.752,289.198,289.628,290.043, 290.442,290.827,291.381,291.734,292.075 ,292.406,292.724,293.033,293.332, 293.622,293.902,294.175,294.439,294.695 ,295.066,295.42,295.648,295.871,296.088 ,296.298,296.6,296.789,296.972,297.15, 297.327,297.496,297.663,297.827,298.065 ,298.218,298.368,298.514,298.657, 298.797,298.934,299.068,299.199,298.53, 297.941,297.131,296.431,295.317,295.066 ,294.894,294.715,294.535,294.34,294.156 ,293.973,293.775,293.47,293.259,292.93, 292.703,292.476,292.231,291.999,291.608 ,291.346,291.083,290.792,290.499, 290.203,289.748,289.433,289.111,288.772 ,288.248,287.698,287.333,286.753, 286.346,285.709,285.045,284.351,283.864 ,283.359,282.564,282.028,281.178, 280.588,279.642,278.971,278.273,277.549 ,278.927)
ORBIT_NUMBER = 4508
ORBITAL_ECCENTRICITY = 0.57
ORBITAL_INCLINATION = 86.69
ORBITAL_SEMIMAJOR_AXIS = 8534.62
PERIAPSIS_ALTITUDE = 292.97
PERIAPSIS_ARGUMENT_ANGLE = 284.42
PERIAPSIS_TIME = 2007-07-08T23:25:51.000Z
SPACECRAFT_ORIENTATION = (0.0,-1.0,0.0)
^MEX_ORIENTATION_DESC = "MEX_ORIENTATION_DESC.TXT"
SPACECRAFT_POINTING_MODE = ACROSSTRACK
^MEX_POINTING_DESC = "MEX_POINTING_DESC.TXT"
RIGHT_ASCENSION = -1e+32
DECLINATION = -1e+32
OFFSET_ANGLE = 0.3
SPACECRAFT_SOLAR_DISTANCE = 2.07932e+08
TARGET_NAME = MARS
/* CAMERA DATA ELEMENTS */
DETECTOR_TEMPERATURE = 18.1666
FOCAL_PLANE_TEMPERATURE = 8.5833
INST_CMPRS_NAME = "DISCRETE COSINE TRANSFORMATION (DCT)"
INST_CMPRS_RATIO = 39.1378
INST_CMPRS_QUALITY = 0
INST_CMPRS_QUANTZ_TBL_ID = 0
INSTRUMENT_TEMPERATURE = 11.234
LENS_TEMPERATURE = 8.7872
MACROPIXEL_SIZE = 4
MISSING_FRAMES = 0
PIXEL_SUBSAMPLING_FLAG = N
SIGNAL_CHAIN_ID = 2
/* RADIOMETRIC DATA ELEMENTS */
BANDWIDTH = 76.0
CENTER_FILTER_WAVELENGTH = 444.0
RADIANCE_OFFSET = 1.08217
RADIANCE_SCALING_FACTOR = 0.00294708
REFLECTANCE_SCALING_FACTOR = 0.000130916
MEX:REFLECTANCE_OFFSET = 0.0480722
/* IMAGE OBJECT DEFINITIONS */
OBJECT = IMAGE
  INTERCHANGE_FORMAT = BINARY
  LINES = 9265
  LINE_SAMPLES = 4268
  SAMPLE_TYPE = UNSIGNED_INTEGER
  SAMPLE_BITS = 8
  BANDS = 1
  BAND_STORAGE_TYPE = BAND_SEQUENTIAL
  MAXIMUM = 255
  MEAN = 90.8578
  MINIMUM = 5
  STANDARD_DEVIATION = 47.7342
END_OBJECT = IMAGE
/* MAP OBJECT DEFINITIONS */
OBJECT = IMAGE_MAP_PROJECTION
  ^DATA_SET_MAP_PROJECTION_CATALOG= "DSMAP.CAT"
  A_AXIS_RADIUS = 3396.0
  B_AXIS_RADIUS = 3396.0
  C_AXIS_RADIUS = 3396.0
  CENTER_LATITUDE = 0.0
  CENTER_LONGITUDE = 292.0
  COORDINATE_SYSTEM_NAME = PLANETOGRAPHIC
  COORDINATE_SYSTEM_TYPE = "BODY-FIXED ROTATING"
  EASTERNMOST_LONGITUDE = 299.199
  FIRST_STANDARD_PARALLEL = "N/A"
  LINE_FIRST_PIXEL = 1
  LINE_LAST_PIXEL = 9265
  LINE_PROJECTION_OFFSET = -89380.375
  MAP_PROJECTION_ROTATION = 0.0
  MAP_PROJECTION_TYPE = SINUSOIDAL
  MAP_RESOLUTION = 1185.42760773333
  MAP_SCALE = 0.05
  MAXIMUM_LATITUDE = -75.38039999999999
  MINIMUM_LATITUDE = -83.20480000000001
  POSITIVE_LONGITUDE_DIRECTION = EAST
  REFERENCE_LATITUDE = "N/A"
  REFERENCE_LONGITUDE = "N/A"
  SAMPLE_FIRST_PIXEL = 1
  SAMPLE_LAST_PIXEL = 4268
  SAMPLE_PROJECTION_OFFSET = 2137.375
  SECOND_STANDARD_PARALLEL = "N/A"
  WESTERNMOST_LONGITUDE = 277.549
END_OBJECT = IMAGE_MAP_PROJECTION
/* The JPEG2000 image data file associated with this label. */
OBJECT = COMPRESSED_FILE
  FILE_NAME = "H4508_0000_BL3.JP2"
  RECORD_TYPE = UNDEFINED
  FILE_RECORDS = UNK
  ENCODING_TYPE = "JP2"
  INTERCHANGE_FORMAT = BINARY
  UNCOMPRESSED_FILE_NAME = "H4508_0000_BL3.IMG"
  REQUIRED_STORAGE_BYTES = "39568628"
  ^DESCRIPTION = "JP2INFO.TXT"
END_OBJECT = COMPRESSED_FILE
END
