PDS_VERSION_ID = PDS3
/* FILE DATA ELEMENTS */
RECORD_TYPE = STREAM
/* POINTERS TO DATA OBJECTS */
^COMPRESSED_FILE = "H4508_0000_ND3.JP2"
/* IDENTIFICATION DATA ELEMENTS */
DATA_SET_ID = "MEX-M-HRSC-5-REFDR-MAPPROJECTED-V3.0"
DATA_SET_NAME = "MARS EXPRESS HRSC MAP PROJECTED REFDR V3.0"
DETECTOR_ID = MEX_HRSC_NADIR
EVENT_TYPE = "MARS-REGIONAL-MAPPING-Gl-Pf-La"
INSTRUMENT_HOST_ID = MEX
INSTRUMENT_HOST_NAME = "MARS EXPRESS"
INSTRUMENT_ID = HRSC
INSTRUMENT_NAME = "HIGH RESOLUTION STEREO CAMERA"
MISSION_NAME = "MARS EXPRESS"
MISSION_PHASE_NAME = ME_Phase_8
PROCESSING_LEVEL_ID = 3
PRODUCT_CREATION_TIME = 2016-04-25T16:23:03.000Z
PRODUCT_ID = "H4508_0000_ND3.JP2"
RELEASE_ID = 0052
REVISION_ID = 0000
/* QUALITY DATA ELEMENTS */
DATA_QUALITY_ID = 1
DATA_QUALITY_DESC = "Data calculated based on original SPICE kernels"
/* TIME DATA ELEMENTS */
SPACECRAFT_CLOCK_START_COUNT = "1/0132016993.07308"
SPACECRAFT_CLOCK_STOP_COUNT = "1/0132017168.63746"
START_TIME = 2007-07-08T23:23:45.172Z
STOP_TIME = 2007-07-08T23:25:45.178Z
/* ORBITAL DATA ELEMENTS */
ASCENDING_NODE_LONGITUDE = 134.0
MAXIMUM_RESOLUTION = 11.6
FOOTPRINT_POINT_LATITUDE = (-82.8109,-82.8963,-82.9786,-83.0579, -83.1388,-83.1459,-82.9969,-82.8471, -82.6966,-82.5454,-82.3204,-82.173, -82.0253,-81.8768,-81.7282,-81.579, -81.4293,-81.2041,-81.0535,-80.9024, -80.751,-80.5231,-80.3709,-80.142, -79.9891,-79.836,-79.6825,-79.4519, -79.2979,-79.1437,-78.9119,-78.7573, -78.6026,-78.4476,-78.2923,-78.1369, -77.9054,-77.7552,-77.6052,-77.4548, -77.2291,-77.0785,-76.928,-76.7771, -76.5478,-76.3968,-76.2456,-76.0943, -75.8673,-75.7159,-75.5962,-75.5381, -75.4999,-75.4471,-75.4047,-75.5358, -75.6845,-75.8328,-76.055,-76.2765, -76.5015,-76.7225,-76.9434,-77.0902, -77.2366,-77.5291,-77.6747,-77.9022, -78.0524,-78.2032,-78.429,-78.5782, -78.7277,-78.8769,-79.026,-79.1746, -79.3967,-79.5439,-79.691,-79.8373, -79.9839,-80.1305,-80.2757,-80.4204, -80.5646,-80.7079,-80.851,-80.9933, -81.1352,-81.2759,-81.4157,-81.5547, -81.694,-81.9005,-82.112,-82.252, -82.3911,-82.5289,-82.6655,-82.8109)
FOOTPRINT_POINT_LONGITUDE = (279.147,280.243,281.359,282.495, 283.726,285.333,285.931,286.504,287.053 ,287.581,288.324,288.782,289.228, 289.653,290.067,290.465,290.848,291.399 ,291.752,292.091,292.419,292.889, 293.192,293.629,293.909,294.18,294.443, 294.822,295.067,295.305,295.648,295.87, 296.088,296.298,296.502,296.7,296.984, 297.16,297.337,297.506,297.754,297.915, 298.073,298.226,298.451,298.596,298.736 ,298.874,299.076,299.207,298.653, 297.635,297.009,296.187,295.564,295.143 ,294.974,294.8,294.528,294.244,293.962, 293.662,293.356,293.143,292.923,292.469 ,292.224,291.857,291.587,291.325, 290.919,290.626,290.334,290.035,289.73, 289.415,288.926,288.581,288.233,287.869 ,287.503,287.135,286.742,286.337, 285.919,285.485,285.041,284.583,284.111 ,283.617,283.105,282.576,282.043, 281.197,280.275,279.629,278.962,278.268 ,277.549,279.147)
ORBIT_NUMBER = 4508
ORBITAL_ECCENTRICITY = 0.57
ORBITAL_INCLINATION = 86.69
ORBITAL_SEMIMAJOR_AXIS = 8534.62
PERIAPSIS_ALTITUDE = 292.97
PERIAPSIS_ARGUMENT_ANGLE = 284.42
PERIAPSIS_TIME = 2007-07-08T23:25:51.000Z
SPACECRAFT_ORIENTATION = (0.0,-1.0,0.0)
^MEX_ORIENTATION_DESC = "MEX_ORIENTATION_DESC.TXT"
SPACECRAFT_POINTING_MODE = ACROSSTRACK
^MEX_POINTING_DESC = "MEX_POINTING_DESC.TXT"
RIGHT_ASCENSION = -1e+32
DECLINATION = -1e+32
OFFSET_ANGLE = 0.3
SPACECRAFT_SOLAR_DISTANCE = 2.07932e+08
TARGET_NAME = MARS
/* CAMERA DATA ELEMENTS */
DETECTOR_TEMPERATURE = 18.1666
FOCAL_PLANE_TEMPERATURE = 8.5833
INST_CMPRS_NAME = "DISCRETE COSINE TRANSFORMATION (DCT)"
INST_CMPRS_RATIO = 6.83723
INST_CMPRS_QUALITY = 0
INST_CMPRS_QUANTZ_TBL_ID = 0
INSTRUMENT_TEMPERATURE = 11.234
LENS_TEMPERATURE = 8.7872
MACROPIXEL_SIZE = 1
MISSING_FRAMES = 2
PIXEL_SUBSAMPLING_FLAG = N
SIGNAL_CHAIN_ID = 0
/* RADIOMETRIC DATA ELEMENTS */
BANDWIDTH = 177.0
CENTER_FILTER_WAVELENGTH = 677.5
RADIANCE_OFFSET = 8.56496
RADIANCE_SCALING_FACTOR = 0.0176337
REFLECTANCE_SCALING_FACTOR = 0.000405018
MEX:REFLECTANCE_OFFSET = 0.196723
/* IMAGE OBJECT DEFINITIONS */
OBJECT = IMAGE
  INTERCHANGE_FORMAT = BINARY
  LINES = 37057
  LINE_SAMPLES = 17072
  SAMPLE_TYPE = UNSIGNED_INTEGER
  SAMPLE_BITS = 8
  BANDS = 1
  BAND_STORAGE_TYPE = BAND_SEQUENTIAL
  MAXIMUM = 255
  MEAN = 114.278
  MINIMUM = 1
  STANDARD_DEVIATION = 59.6703
END_OBJECT = IMAGE
/* MAP OBJECT DEFINITIONS */
OBJECT = IMAGE_MAP_PROJECTION
  ^DATA_SET_MAP_PROJECTION_CATALOG= "DSMAP.CAT"
  A_AXIS_RADIUS = 3396.0
  B_AXIS_RADIUS = 3396.0
  C_AXIS_RADIUS = 3396.0
  CENTER_LATITUDE = 0.0
  CENTER_LONGITUDE = 292.0
  COORDINATE_SYSTEM_NAME = PLANETOGRAPHIC
  COORDINATE_SYSTEM_TYPE = "BODY-FIXED ROTATING"
  EASTERNMOST_LONGITUDE = 299.207
  FIRST_STANDARD_PARALLEL = "N/A"
  LINE_FIRST_PIXEL = 1
  LINE_LAST_PIXEL = 37057
  LINE_PROJECTION_OFFSET = -357520.0
  MAP_PROJECTION_ROTATION = 0.0
  MAP_PROJECTION_TYPE = SINUSOIDAL
  MAP_RESOLUTION = 4741.71043093333
  MAP_SCALE = 0.0125
  MAXIMUM_LATITUDE = -75.40470000000001
  MINIMUM_LATITUDE = -83.1459
  POSITIVE_LONGITUDE_DIRECTION = EAST
  REFERENCE_LATITUDE = "N/A"
  REFERENCE_LONGITUDE = "N/A"
  SAMPLE_FIRST_PIXEL = 1
  SAMPLE_LAST_PIXEL = 17072
  SAMPLE_PROJECTION_OFFSET = 8551.0
  SECOND_STANDARD_PARALLEL = "N/A"
  WESTERNMOST_LONGITUDE = 277.549
END_OBJECT = IMAGE_MAP_PROJECTION
/* The JPEG2000 image data file associated with this label. */
OBJECT = COMPRESSED_FILE
  FILE_NAME = "H4508_0000_ND3.JP2"
  RECORD_TYPE = UNDEFINED
  FILE_RECORDS = UNK
  ENCODING_TYPE = "JP2"
  INTERCHANGE_FORMAT = BINARY
  UNCOMPRESSED_FILE_NAME = "H4508_0000_ND3.IMG"
  REQUIRED_STORAGE_BYTES = "632688320"
  ^DESCRIPTION = "JP2INFO.TXT"
END_OBJECT = COMPRESSED_FILE
END
