PDS_VERSION_ID = PDS3
/* FILE DATA ELEMENTS */
RECORD_TYPE = STREAM
/* POINTERS TO DATA OBJECTS */
^COMPRESSED_FILE = "H4510_0000_IR3.JP2"
/* IDENTIFICATION DATA ELEMENTS */
DATA_SET_ID = "MEX-M-HRSC-5-REFDR-MAPPROJECTED-V3.0"
DATA_SET_NAME = "MARS EXPRESS HRSC MAP PROJECTED REFDR V3.0"
DETECTOR_ID = MEX_HRSC_IR
EVENT_TYPE = "MARS-REGIONAL-MAPPING-Im-Pf"
INSTRUMENT_HOST_ID = MEX
INSTRUMENT_HOST_NAME = "MARS EXPRESS"
INSTRUMENT_ID = HRSC
INSTRUMENT_NAME = "HIGH RESOLUTION STEREO CAMERA"
MISSION_NAME = "MARS EXPRESS"
MISSION_PHASE_NAME = ME_Phase_8
PROCESSING_LEVEL_ID = 3
PRODUCT_CREATION_TIME = 2016-04-25T16:23:03.000Z
PRODUCT_ID = "H4510_0000_IR3.JP2"
RELEASE_ID = 0052
REVISION_ID = 0000
/* QUALITY DATA ELEMENTS */
DATA_QUALITY_ID = 1
DATA_QUALITY_DESC = "Data calculated based on original SPICE kernels"
/* TIME DATA ELEMENTS */
SPACECRAFT_CLOCK_START_COUNT = "1/0132065694.09101"
SPACECRAFT_CLOCK_STOP_COUNT = "1/0132065983.56705"
START_TIME = 2007-07-09T12:55:03.016Z
STOP_TIME = 2007-07-09T12:58:29.243Z
/* ORBITAL DATA ELEMENTS */
ASCENDING_NODE_LONGITUDE = 133.96
MAXIMUM_RESOLUTION = 52.1
FOOTPRINT_POINT_LATITUDE = (-62.9715,-63.0161,-63.0565,-62.7604, -62.3952,-62.0285,-61.6619,-61.4167, -61.1723,-60.8055,-60.4247,-60.1699, -59.7881,-59.5357,-59.2838,-59.0384, -58.6497,-58.3882,-58.1277,-57.8681, -57.6067,-57.3458,-57.0855,-56.6956, -56.435,-56.1752,-55.9155,-55.6565, -55.2688,-55.0146,-54.7596,-54.4994, -54.2106,-53.7442,-53.4288,-53.121, -52.8071,-52.499,-52.1915,-51.885, -51.5849,-51.1308,-50.8246,-50.5162, -50.058,-49.7517,-49.341,-49.3121, -49.2878,-49.2698,-49.2496,-49.3914, -49.7019,-50.007,-50.3141,-50.6188, -50.9252,-51.232,-51.5416,-51.8484, -52.1549,-52.4585,-52.7628,-53.0697, -53.3768,-53.6849,-53.9927,-54.2907, -54.5503,-54.8073,-55.0656,-55.3248, -55.7119,-55.9747,-56.3641,-56.6235, -56.8822,-57.1412,-57.4012,-57.6603, -57.9208,-58.1823,-58.4425,-58.7038, -58.9585,-59.2086,-59.5837,-59.8337, -60.0859,-60.337,-60.7126,-60.9558, -61.321,-61.5652,-61.7976,-62.0413, -62.2956,-62.5362,-62.7797,-62.9715)
FOOTPRINT_POINT_LONGITUDE = (106.385,107.072,107.753,108.008, 108.088,108.167,108.243,108.292,108.341 ,108.412,108.485,108.532,108.601, 108.645,108.689,108.729,108.793,108.836 ,108.877,108.917,108.957,108.997, 109.035,109.091,109.128,109.164,109.199 ,109.233,109.284,109.315,109.346, 109.378,109.414,109.469,109.507,109.542 ,109.578,109.611,109.644,109.675, 109.704,109.748,109.778,109.808,109.85, 109.878,109.754,109.144,108.673,108.344 ,107.993,107.705,107.681,107.655,107.63 ,107.602,107.574,107.546,107.518, 107.488,107.456,107.42,107.384,107.349, 107.313,107.277,107.239,107.199,107.166 ,107.131,107.096,107.06,107.004,106.969 ,106.911,106.871,106.829,106.787, 106.744,106.699,106.655,106.61,106.563, 106.516,106.467,106.417,106.339,106.285 ,106.233,106.178,106.094,106.038, 105.952,105.894,105.823,105.762,105.71, 105.643,105.577,106.385)
ORBIT_NUMBER = 4510
ORBITAL_ECCENTRICITY = 0.57
ORBITAL_INCLINATION = 86.69
ORBITAL_SEMIMAJOR_AXIS = 8536.42
PERIAPSIS_ALTITUDE = 292.33
PERIAPSIS_ARGUMENT_ANGLE = 284.04
PERIAPSIS_TIME = 2007-07-09T12:52:13.000Z
SPACECRAFT_ORIENTATION = (0.0,-1.0,0.0)
^MEX_ORIENTATION_DESC = "MEX_ORIENTATION_DESC.TXT"
SPACECRAFT_POINTING_MODE = ACROSSTRACK
^MEX_POINTING_DESC = "MEX_POINTING_DESC.TXT"
RIGHT_ASCENSION = -1e+32
DECLINATION = -1e+32
OFFSET_ANGLE = 0.4
SPACECRAFT_SOLAR_DISTANCE = 2.07973e+08
TARGET_NAME = MARS
/* CAMERA DATA ELEMENTS */
DETECTOR_TEMPERATURE = 17.351
FOCAL_PLANE_TEMPERATURE = 8.3794
INST_CMPRS_NAME = "DISCRETE COSINE TRANSFORMATION (DCT)"
INST_CMPRS_RATIO = 15.7702
INST_CMPRS_QUALITY = 0
INST_CMPRS_QUANTZ_TBL_ID = 0
INSTRUMENT_TEMPERATURE = 11.234
LENS_TEMPERATURE = 8.5833
MACROPIXEL_SIZE = 4
MISSING_FRAMES = 0
PIXEL_SUBSAMPLING_FLAG = N
SIGNAL_CHAIN_ID = 2
/* RADIOMETRIC DATA ELEMENTS */
BANDWIDTH = 81.0
CENTER_FILTER_WAVELENGTH = 955.5
RADIANCE_OFFSET = 2.90869
RADIANCE_SCALING_FACTOR = 0.00424271
REFLECTANCE_SCALING_FACTOR = 0.000395902
MEX:REFLECTANCE_OFFSET = 0.27142
/* IMAGE OBJECT DEFINITIONS */
OBJECT = IMAGE
  INTERCHANGE_FORMAT = BINARY
  LINES = 16283
  LINE_SAMPLES = 2852
  SAMPLE_TYPE = UNSIGNED_INTEGER
  SAMPLE_BITS = 8
  BANDS = 1
  BAND_STORAGE_TYPE = BAND_SEQUENTIAL
  MAXIMUM = 255
  MEAN = 130.189
  MINIMUM = 1
  STANDARD_DEVIATION = 60.2635
END_OBJECT = IMAGE
/* MAP OBJECT DEFINITIONS */
OBJECT = IMAGE_MAP_PROJECTION
  ^DATA_SET_MAP_PROJECTION_CATALOG= "DSMAP.CAT"
  A_AXIS_RADIUS = 3396.0
  B_AXIS_RADIUS = 3396.0
  C_AXIS_RADIUS = 3396.0
  CENTER_LATITUDE = 0.0
  CENTER_LONGITUDE = 108.0
  COORDINATE_SYSTEM_NAME = PLANETOGRAPHIC
  COORDINATE_SYSTEM_TYPE = "BODY-FIXED ROTATING"
  EASTERNMOST_LONGITUDE = 109.878
  FIRST_STANDARD_PARALLEL = "N/A"
  LINE_FIRST_PIXEL = 1
  LINE_LAST_PIXEL = 16283
  LINE_PROJECTION_OFFSET = -58379.625
  MAP_PROJECTION_ROTATION = 0.0
  MAP_PROJECTION_TYPE = SINUSOIDAL
  MAP_RESOLUTION = 1185.42760773333
  MAP_SCALE = 0.05
  MAXIMUM_LATITUDE = -49.2496
  MINIMUM_LATITUDE = -63.0565
  POSITIVE_LONGITUDE_DIRECTION = EAST
  REFERENCE_LATITUDE = "N/A"
  REFERENCE_LONGITUDE = "N/A"
  SAMPLE_FIRST_PIXEL = 1
  SAMPLE_LAST_PIXEL = 2852
  SAMPLE_PROJECTION_OFFSET = 1328.125
  SECOND_STANDARD_PARALLEL = "N/A"
  WESTERNMOST_LONGITUDE = 105.577
END_OBJECT = IMAGE_MAP_PROJECTION
/* The JPEG2000 image data file associated with this label. */
OBJECT = COMPRESSED_FILE
  FILE_NAME = "H4510_0000_IR3.JP2"
  RECORD_TYPE = UNDEFINED
  FILE_RECORDS = UNK
  ENCODING_TYPE = "JP2"
  INTERCHANGE_FORMAT = BINARY
  UNCOMPRESSED_FILE_NAME = "H4510_0000_IR3.IMG"
  REQUIRED_STORAGE_BYTES = "46461932"
  ^DESCRIPTION = "JP2INFO.TXT"
END_OBJECT = COMPRESSED_FILE
END
