PDS_VERSION_ID = PDS3
/* FILE DATA ELEMENTS */
RECORD_TYPE = STREAM
/* POINTERS TO DATA OBJECTS */
^COMPRESSED_FILE = "H4512_0000_S13.JP2"
/* IDENTIFICATION DATA ELEMENTS */
DATA_SET_ID = "MEX-M-HRSC-5-REFDR-MAPPROJECTED-V3.0"
DATA_SET_NAME = "MARS EXPRESS HRSC MAP PROJECTED REFDR V3.0"
DETECTOR_ID = MEX_HRSC_S1
EVENT_TYPE = "MARS-REGIONAL-MAPPING-Gl-Pf-La"
INSTRUMENT_HOST_ID = MEX
INSTRUMENT_HOST_NAME = "MARS EXPRESS"
INSTRUMENT_ID = HRSC
INSTRUMENT_NAME = "HIGH RESOLUTION STEREO CAMERA"
MISSION_NAME = "MARS EXPRESS"
MISSION_PHASE_NAME = ME_Phase_8
PROCESSING_LEVEL_ID = 3
PRODUCT_CREATION_TIME = 2016-04-25T16:23:03.000Z
PRODUCT_ID = "H4512_0000_S13.JP2"
RELEASE_ID = 0052
REVISION_ID = 0000
/* QUALITY DATA ELEMENTS */
DATA_QUALITY_ID = 1
DATA_QUALITY_DESC = "Data calculated based on original SPICE kernels"
/* TIME DATA ELEMENTS */
SPACECRAFT_CLOCK_START_COUNT = "1/0132113798.09088"
SPACECRAFT_CLOCK_STOP_COUNT = "1/0132113942.00025"
START_TIME = 2007-07-10T02:16:42.194Z
STOP_TIME = 2007-07-10T02:18:12.461Z
/* ORBITAL DATA ELEMENTS */
ASCENDING_NODE_LONGITUDE = 133.92
MAXIMUM_RESOLUTION = 24.6
FOOTPRINT_POINT_LATITUDE = (-81.3065,-81.4185,-81.4932,-81.5651, -81.6341,-81.7004,-81.7639,-81.5667, -81.4534,-81.3434,-81.1779,-81.0672, -80.9564,-80.8452,-80.7336,-80.6217, -80.5098,-80.3982,-80.2849,-80.114, -80.0004,-79.8867,-79.7172,-79.6042, -79.4367,-79.3248,-79.2121,-79.0987, -78.9853,-78.8697,-78.7548,-78.6406, -78.5264,-78.3528,-78.1801,-78.0072, -77.8918,-77.7765,-77.6614,-77.5451, -77.371,-77.2548,-77.1384,-77.0236, -76.8558,-76.7433,-76.575,-76.4626, -76.2942,-76.1817,-75.9825,-75.9172, -75.8747,-75.8299,-75.7833,-75.7377, -75.7608,-75.9262,-76.2009,-76.311, -76.4754,-76.6395,-76.7491,-76.8624, -76.9756,-77.0887,-77.2016,-77.3143, -77.4268,-77.5393,-77.6515,-77.7635, -77.8754,-78.0429,-78.154,-78.2651, -78.4315,-78.5424,-78.6527,-78.7628, -78.9275,-79.0376,-79.1466,-79.2557, -79.3659,-79.5292,-79.6908,-79.798, -79.9058,-80.0662,-80.173,-80.333, -80.4391,-80.5975,-80.7021,-80.8064, -80.9099,-81.014,-81.1755,-81.3065)
FOOTPRINT_POINT_LONGITUDE = (250.272,251.593,252.526,253.471, 254.425,255.392,256.37,256.999,257.294, 257.573,257.978,258.24,258.496,258.745, 258.989,259.228,259.461,259.686,259.911 ,260.24,260.451,260.658,260.956,261.149 ,261.426,261.605,261.783,261.958, 262.129,262.3,262.467,262.629,262.787, 263.022,263.248,263.467,263.61,263.75, 263.886,264.022,264.22,264.349,264.476, 264.599,264.774,264.889,265.058,265.167 ,265.329,265.434,265.452,264.435, 263.809,263.184,262.56,261.975,261.505, 261.303,260.956,260.813,260.594,260.37, 260.218,260.056,259.892,259.725,259.555 ,259.382,259.205,259.026,258.843, 258.656,258.466,258.175,257.975,257.772 ,257.461,257.248,257.031,256.809, 256.469,256.236,255.998,255.756,255.509 ,255.128,254.735,254.466,254.191, 253.768,253.478,253.031,252.725,252.252 ,251.929,251.597,251.259,250.91,250.354 ,250.272)
ORBIT_NUMBER = 4512
ORBITAL_ECCENTRICITY = 0.57
ORBITAL_INCLINATION = 86.69
ORBITAL_SEMIMAJOR_AXIS = 8534.59
PERIAPSIS_ALTITUDE = 292.69
PERIAPSIS_ARGUMENT_ANGLE = 283.71
PERIAPSIS_TIME = 2007-07-10T02:18:38.000Z
SPACECRAFT_ORIENTATION = (0.0,-1.0,0.0)
^MEX_ORIENTATION_DESC = "MEX_ORIENTATION_DESC.TXT"
SPACECRAFT_POINTING_MODE = ACROSSTRACK
^MEX_POINTING_DESC = "MEX_POINTING_DESC.TXT"
RIGHT_ASCENSION = -1e+32
DECLINATION = -1e+32
OFFSET_ANGLE = 0.35
SPACECRAFT_SOLAR_DISTANCE = 2.08015e+08
TARGET_NAME = MARS
/* CAMERA DATA ELEMENTS */
DETECTOR_TEMPERATURE = 17.9627
FOCAL_PLANE_TEMPERATURE = 8.7872
INST_CMPRS_NAME = "DISCRETE COSINE TRANSFORMATION (DCT)"
INST_CMPRS_RATIO = 49.076
INST_CMPRS_QUALITY = 0
INST_CMPRS_QUANTZ_TBL_ID = 0
INSTRUMENT_TEMPERATURE = 11.4379
LENS_TEMPERATURE = 8.9911
MACROPIXEL_SIZE = 2
MISSING_FRAMES = 0
PIXEL_SUBSAMPLING_FLAG = N
SIGNAL_CHAIN_ID = 1
/* RADIOMETRIC DATA ELEMENTS */
BANDWIDTH = 180.0
CENTER_FILTER_WAVELENGTH = 677.0
RADIANCE_OFFSET = 8.69873
RADIANCE_SCALING_FACTOR = 0.00590135
REFLECTANCE_SCALING_FACTOR = 0.000133223
MEX:REFLECTANCE_OFFSET = 0.196375
/* IMAGE OBJECT DEFINITIONS */
OBJECT = IMAGE
  INTERCHANGE_FORMAT = BINARY
  LINES = 14029
  LINE_SAMPLES = 6611
  SAMPLE_TYPE = UNSIGNED_INTEGER
  SAMPLE_BITS = 8
  BANDS = 1
  BAND_STORAGE_TYPE = BAND_SEQUENTIAL
  MAXIMUM = 255
  MEAN = 254.871
  MINIMUM = 8
  STANDARD_DEVIATION = 3.25327
END_OBJECT = IMAGE
/* MAP OBJECT DEFINITIONS */
OBJECT = IMAGE_MAP_PROJECTION
  ^DATA_SET_MAP_PROJECTION_CATALOG= "DSMAP.CAT"
  A_AXIS_RADIUS = 3396.0
  B_AXIS_RADIUS = 3396.0
  C_AXIS_RADIUS = 3396.0
  CENTER_LATITUDE = 0.0
  CENTER_LONGITUDE = 260.0
  COORDINATE_SYSTEM_NAME = PLANETOGRAPHIC
  COORDINATE_SYSTEM_TYPE = "BODY-FIXED ROTATING"
  EASTERNMOST_LONGITUDE = 265.452
  FIRST_STANDARD_PARALLEL = "N/A"
  LINE_FIRST_PIXEL = 1
  LINE_LAST_PIXEL = 14029
  LINE_PROJECTION_OFFSET = -179523.75
  MAP_PROJECTION_ROTATION = 0.0
  MAP_PROJECTION_TYPE = SINUSOIDAL
  MAP_RESOLUTION = 2370.85521546667
  MAP_SCALE = 0.025
  MAXIMUM_LATITUDE = -75.7377
  MINIMUM_LATITUDE = -81.76390000000001
  POSITIVE_LONGITUDE_DIRECTION = EAST
  REFERENCE_LATITUDE = "N/A"
  REFERENCE_LONGITUDE = "N/A"
  SAMPLE_FIRST_PIXEL = 1
  SAMPLE_LAST_PIXEL = 6611
  SAMPLE_PROJECTION_OFFSET = 3385.75
  SECOND_STANDARD_PARALLEL = "N/A"
  WESTERNMOST_LONGITUDE = 250.272
END_OBJECT = IMAGE_MAP_PROJECTION
/* The JPEG2000 image data file associated with this label. */
OBJECT = COMPRESSED_FILE
  FILE_NAME = "H4512_0000_S13.JP2"
  RECORD_TYPE = UNDEFINED
  FILE_RECORDS = UNK
  ENCODING_TYPE = "JP2"
  INTERCHANGE_FORMAT = BINARY
  UNCOMPRESSED_FILE_NAME = "H4512_0000_S13.IMG"
  REQUIRED_STORAGE_BYTES = "92778774"
  ^DESCRIPTION = "JP2INFO.TXT"
END_OBJECT = COMPRESSED_FILE
END
