PDS_VERSION_ID = PDS3
/* FILE DATA ELEMENTS */
RECORD_TYPE = STREAM
/* POINTERS TO DATA OBJECTS */
^COMPRESSED_FILE = "H4512_0000_S23.JP2"
/* IDENTIFICATION DATA ELEMENTS */
DATA_SET_ID = "MEX-M-HRSC-5-REFDR-MAPPROJECTED-V3.0"
DATA_SET_NAME = "MARS EXPRESS HRSC MAP PROJECTED REFDR V3.0"
DETECTOR_ID = MEX_HRSC_S2
EVENT_TYPE = "MARS-REGIONAL-MAPPING-Gl-Pf-La"
INSTRUMENT_HOST_ID = MEX
INSTRUMENT_HOST_NAME = "MARS EXPRESS"
INSTRUMENT_ID = HRSC
INSTRUMENT_NAME = "HIGH RESOLUTION STEREO CAMERA"
MISSION_NAME = "MARS EXPRESS"
MISSION_PHASE_NAME = ME_Phase_8
PROCESSING_LEVEL_ID = 3
PRODUCT_CREATION_TIME = 2016-04-25T16:23:03.000Z
PRODUCT_ID = "H4512_0000_S23.JP2"
RELEASE_ID = 0052
REVISION_ID = 0000
/* QUALITY DATA ELEMENTS */
DATA_QUALITY_ID = 1
DATA_QUALITY_DESC = "Data calculated based on original SPICE kernels"
/* TIME DATA ELEMENTS */
SPACECRAFT_CLOCK_START_COUNT = "1/0132113798.09088"
SPACECRAFT_CLOCK_STOP_COUNT = "1/0132113942.00025"
START_TIME = 2007-07-10T02:17:35.591Z
STOP_TIME = 2007-07-10T02:19:04.072Z
/* ORBITAL DATA ELEMENTS */
ASCENDING_NODE_LONGITUDE = 133.92
MAXIMUM_RESOLUTION = 24.6
FOOTPRINT_POINT_LATITUDE = (-81.1243,-81.2173,-81.2791,-81.3385, -81.3954,-81.4499,-81.5961,-81.4254, -81.3112,-81.197,-81.0824,-80.9677, -80.853,-80.7382,-80.6234,-80.5078, -80.3922,-80.2793,-80.1146,-79.8931, -79.7806,-79.6694,-79.5559,-79.4423, -79.3285,-79.1574,-79.0439,-78.8203, -78.7077,-78.5946,-78.4814,-78.3693, -78.2559,-78.0871,-77.9745,-77.8614, -77.7477,-77.6344,-77.5216,-77.4085, -77.2954,-77.1822,-77.0689,-76.9552, -76.8417,-76.7286,-76.615,-76.5015, -76.3879,-76.2741,-76.0472,-75.9331, -75.9002,-75.8503,-75.8163,-75.7784, -75.7408,-75.7059,-75.8174,-75.9845, -76.1513,-76.2628,-76.3737,-76.4848, -76.5959,-76.7621,-76.8731,-77.0391, -77.2049,-77.3154,-77.4258,-77.5912, -77.7013,-77.8663,-77.9761,-78.0859, -78.2505,-78.3599,-78.4692,-78.633, -78.7419,-78.8508,-79.0135,-79.122, -79.2844,-79.3916,-79.499,-79.607, -79.7684,-79.9286,-80.0383,-80.1488, -80.2588,-80.3689,-80.4786,-80.588, -80.6976,-80.8068,-80.97,-81.1243)
FOOTPRINT_POINT_LONGITUDE = (251.013,252.324,253.245,254.173, 255.107,256.049,256.827,257.278,257.569 ,257.852,258.128,258.396,258.658, 258.912,259.16,259.403,259.64,259.866, 260.187,260.6,260.801,260.996,261.19, 261.379,261.565,261.836,262.011,262.347 ,262.51,262.67,262.828,262.981,263.132, 263.352,263.495,263.636,263.775,263.91, 264.043,264.173,264.301,264.427,264.55, 264.672,264.791,264.908,265.023,265.136 ,265.247,265.356,265.569,265.672, 265.084,264.092,263.456,262.78,262.143, 261.571,261.437,261.234,261.025,260.882 ,260.738,260.591,260.44,260.211,260.054 ,259.814,259.567,259.4,259.228,258.965, 258.785,258.509,258.321,258.129,257.833 ,257.632,257.426,257.11,256.894,256.673 ,256.335,256.102,255.745,255.505, 255.258,255.0,254.605,254.201,253.913, 253.618,253.318,253.008,252.692,252.368 ,252.033,251.689,251.157,251.013)
ORBIT_NUMBER = 4512
ORBITAL_ECCENTRICITY = 0.57
ORBITAL_INCLINATION = 86.69
ORBITAL_SEMIMAJOR_AXIS = 8534.59
PERIAPSIS_ALTITUDE = 292.69
PERIAPSIS_ARGUMENT_ANGLE = 283.71
PERIAPSIS_TIME = 2007-07-10T02:18:38.000Z
SPACECRAFT_ORIENTATION = (0.0,-1.0,0.0)
^MEX_ORIENTATION_DESC = "MEX_ORIENTATION_DESC.TXT"
SPACECRAFT_POINTING_MODE = ACROSSTRACK
^MEX_POINTING_DESC = "MEX_POINTING_DESC.TXT"
RIGHT_ASCENSION = -1e+32
DECLINATION = -1e+32
OFFSET_ANGLE = 0.35
SPACECRAFT_SOLAR_DISTANCE = 2.08015e+08
TARGET_NAME = MARS
/* CAMERA DATA ELEMENTS */
DETECTOR_TEMPERATURE = 18.3705
FOCAL_PLANE_TEMPERATURE = 8.7872
INST_CMPRS_NAME = "DISCRETE COSINE TRANSFORMATION (DCT)"
INST_CMPRS_RATIO = 16.5501
INST_CMPRS_QUALITY = 0
INST_CMPRS_QUANTZ_TBL_ID = 0
INSTRUMENT_TEMPERATURE = 11.4379
LENS_TEMPERATURE = 8.9911
MACROPIXEL_SIZE = 2
MISSING_FRAMES = 0
PIXEL_SUBSAMPLING_FLAG = N
SIGNAL_CHAIN_ID = 1
/* RADIOMETRIC DATA ELEMENTS */
BANDWIDTH = 178.0
CENTER_FILTER_WAVELENGTH = 679.0
RADIANCE_OFFSET = 8.628
RADIANCE_SCALING_FACTOR = 0.00753605
REFLECTANCE_SCALING_FACTOR = 0.000172688
MEX:REFLECTANCE_OFFSET = 0.19771
/* IMAGE OBJECT DEFINITIONS */
OBJECT = IMAGE
  INTERCHANGE_FORMAT = BINARY
  LINES = 14029
  LINE_SAMPLES = 6611
  SAMPLE_TYPE = UNSIGNED_INTEGER
  SAMPLE_BITS = 8
  BANDS = 1
  BAND_STORAGE_TYPE = BAND_SEQUENTIAL
  MAXIMUM = 255
  MEAN = 184.119
  MINIMUM = 1
  STANDARD_DEVIATION = 80.694
END_OBJECT = IMAGE
/* MAP OBJECT DEFINITIONS */
OBJECT = IMAGE_MAP_PROJECTION
  ^DATA_SET_MAP_PROJECTION_CATALOG= "DSMAP.CAT"
  A_AXIS_RADIUS = 3396.0
  B_AXIS_RADIUS = 3396.0
  C_AXIS_RADIUS = 3396.0
  CENTER_LATITUDE = 0.0
  CENTER_LONGITUDE = 260.0
  COORDINATE_SYSTEM_NAME = PLANETOGRAPHIC
  COORDINATE_SYSTEM_TYPE = "BODY-FIXED ROTATING"
  EASTERNMOST_LONGITUDE = 265.672
  FIRST_STANDARD_PARALLEL = "N/A"
  LINE_FIRST_PIXEL = 1
  LINE_LAST_PIXEL = 14029
  LINE_PROJECTION_OFFSET = -179523.75
  MAP_PROJECTION_ROTATION = 0.0
  MAP_PROJECTION_TYPE = SINUSOIDAL
  MAP_RESOLUTION = 2370.85521546667
  MAP_SCALE = 0.025
  MAXIMUM_LATITUDE = -75.7059
  MINIMUM_LATITUDE = -81.59610000000001
  POSITIVE_LONGITUDE_DIRECTION = EAST
  REFERENCE_LATITUDE = "N/A"
  REFERENCE_LONGITUDE = "N/A"
  SAMPLE_FIRST_PIXEL = 1
  SAMPLE_LAST_PIXEL = 6611
  SAMPLE_PROJECTION_OFFSET = 3385.75
  SECOND_STANDARD_PARALLEL = "N/A"
  WESTERNMOST_LONGITUDE = 251.013
END_OBJECT = IMAGE_MAP_PROJECTION
/* The JPEG2000 image data file associated with this label. */
OBJECT = COMPRESSED_FILE
  FILE_NAME = "H4512_0000_S23.JP2"
  RECORD_TYPE = UNDEFINED
  FILE_RECORDS = UNK
  ENCODING_TYPE = "JP2"
  INTERCHANGE_FORMAT = BINARY
  UNCOMPRESSED_FILE_NAME = "H4512_0000_S23.IMG"
  REQUIRED_STORAGE_BYTES = "92778774"
  ^DESCRIPTION = "JP2INFO.TXT"
END_OBJECT = COMPRESSED_FILE
END
