PDS_VERSION_ID = PDS3
/* FILE DATA ELEMENTS */
RECORD_TYPE = STREAM
/* POINTERS TO DATA OBJECTS */
^COMPRESSED_FILE = "H4514_0000_GR3.JP2"
/* IDENTIFICATION DATA ELEMENTS */
DATA_SET_ID = "MEX-M-HRSC-5-REFDR-MAPPROJECTED-V3.0"
DATA_SET_NAME = "MARS EXPRESS HRSC MAP PROJECTED REFDR V3.0"
DETECTOR_ID = MEX_HRSC_GREEN
EVENT_TYPE = "MARS-REGIONAL-MAPPING-Im-Gl"
INSTRUMENT_HOST_ID = MEX
INSTRUMENT_HOST_NAME = "MARS EXPRESS"
INSTRUMENT_ID = HRSC
INSTRUMENT_NAME = "HIGH RESOLUTION STEREO CAMERA"
MISSION_NAME = "MARS EXPRESS"
MISSION_PHASE_NAME = ME_Phase_8
PROCESSING_LEVEL_ID = 3
PRODUCT_CREATION_TIME = 2016-04-25T16:23:03.000Z
PRODUCT_ID = "H4514_0000_GR3.JP2"
RELEASE_ID = 0052
REVISION_ID = 0000
/* QUALITY DATA ELEMENTS */
DATA_QUALITY_ID = 1
DATA_QUALITY_DESC = "Data calculated based on original SPICE kernels"
/* TIME DATA ELEMENTS */
SPACECRAFT_CLOCK_START_COUNT = "1/0132162227.08392"
SPACECRAFT_CLOCK_STOP_COUNT = "1/0132162406.49613"
START_TIME = 2007-07-10T15:44:12.911Z
STOP_TIME = 2007-07-10T15:46:17.737Z
/* ORBITAL DATA ELEMENTS */
ASCENDING_NODE_LONGITUDE = 133.87
MAXIMUM_RESOLUTION = 92
FOOTPRINT_POINT_LATITUDE = (-78.9198,-78.9644,-79.0178,-79.0587, -79.105,-79.1353,-79.0677,-78.8268, -78.6659,-78.4244,-78.2632,-78.1019, -77.9404,-77.7787,-77.617,-77.3742, -77.2121,-76.9691,-76.7255,-76.5631, -76.4006,-76.1566,-75.9936,-75.831, -75.5861,-75.4227,-75.2595,-75.0962, -74.9332,-74.7708,-74.6075,-74.4439, -74.2803,-74.1167,-73.8713,-73.6257, -73.4619,-73.2981,-73.0525,-72.8886, -72.7247,-72.5607,-72.3967,-72.2328, -72.0689,-71.9049,-71.7404,-71.5764, -71.4126,-71.1581,-70.9879,-70.9316, -70.899,-70.8717,-70.8316,-70.8945, -71.0632,-71.2319,-71.4757,-71.6382, -71.8008,-72.0446,-72.2067,-72.3689, -72.5311,-72.6934,-72.9365,-73.0986, -73.3415,-73.5034,-73.7464,-73.9074, -74.0689,-74.3095,-74.4706,-74.7121, -74.9533,-75.114,-75.2747,-75.4352, -75.5958,-75.7571,-75.9171,-76.1561, -76.3156,-76.4751,-76.714,-76.8729, -77.111,-77.2702,-77.4281,-77.5839, -77.7417,-77.8993,-78.0566,-78.2135, -78.3703,-78.6051,-78.761,-78.9198)
FOOTPRINT_POINT_LONGITUDE = (63.2036,63.9095,64.8014,65.5205, 66.3819,66.9768,67.7074,68.0155,68.2137 ,68.4997,68.6845,68.8632,69.037,69.2066 ,69.3715,69.6107,69.7651,69.9852, 70.2021,70.3402,70.4766,70.6746,70.806, 70.927,71.1149,71.2383,71.3548,71.4679, 71.5757,71.6706,71.7762,71.881,71.9832, 72.0827,72.2276,72.3686,72.461,72.5501, 72.6795,72.7649,72.8479,72.93,73.0111, 73.0879,73.1645,73.2396,73.3178,73.3899 ,73.4591,73.5652,73.634,72.8667,72.2045 ,71.6872,70.9713,70.5343,70.4405, 70.3453,70.2042,70.108,70.0105,69.86, 69.7563,69.6506,69.5432,69.4341,69.2654 ,69.1506,68.973,68.852,68.6664,68.5357, 68.4048,68.1971,68.0578,67.8435,67.6218 ,67.47,67.3149,67.1562,66.9943,66.8322, 66.6613,66.3944,66.2124,66.0266,65.7391 ,65.5411,65.2346,65.0265,64.8084, 64.5764,64.3478,64.1134,63.8722,63.6239 ,63.3694,62.9744,62.7007,63.2036)
ORBIT_NUMBER = 4514
ORBITAL_ECCENTRICITY = 0.57
ORBITAL_INCLINATION = 86.7
ORBITAL_SEMIMAJOR_AXIS = 8535.15
PERIAPSIS_ALTITUDE = 292.12
PERIAPSIS_ARGUMENT_ANGLE = 283.36
PERIAPSIS_TIME = 2007-07-10T15:45:00.000Z
SPACECRAFT_ORIENTATION = (0.0,-1.0,0.0)
^MEX_ORIENTATION_DESC = "MEX_ORIENTATION_DESC.TXT"
SPACECRAFT_POINTING_MODE = ACROSSTRACK
^MEX_POINTING_DESC = "MEX_POINTING_DESC.TXT"
RIGHT_ASCENSION = -1e+32
DECLINATION = -1e+32
OFFSET_ANGLE = -0.04
SPACECRAFT_SOLAR_DISTANCE = 2.08057e+08
TARGET_NAME = MARS
/* CAMERA DATA ELEMENTS */
DETECTOR_TEMPERATURE = 18.3705
FOCAL_PLANE_TEMPERATURE = 9.3989
INST_CMPRS_NAME = "DISCRETE COSINE TRANSFORMATION (DCT)"
INST_CMPRS_RATIO = 28.3949
INST_CMPRS_QUALITY = 0
INST_CMPRS_QUANTZ_TBL_ID = 0
INSTRUMENT_TEMPERATURE = 11.234
LENS_TEMPERATURE = 8.9911
MACROPIXEL_SIZE = 8
MISSING_FRAMES = 0
PIXEL_SUBSAMPLING_FLAG = N
SIGNAL_CHAIN_ID = 2
/* RADIOMETRIC DATA ELEMENTS */
BANDWIDTH = 88.0
CENTER_FILTER_WAVELENGTH = 538.0
RADIANCE_OFFSET = 3.26445
RADIANCE_SCALING_FACTOR = 0.00225913
REFLECTANCE_SCALING_FACTOR = 8.41969e-05
MEX:REFLECTANCE_OFFSET = 0.121665
/* IMAGE OBJECT DEFINITIONS */
OBJECT = IMAGE
  INTERCHANGE_FORMAT = BINARY
  LINES = 4943
  LINE_SAMPLES = 1554
  SAMPLE_TYPE = UNSIGNED_INTEGER
  SAMPLE_BITS = 8
  BANDS = 1
  BAND_STORAGE_TYPE = BAND_SEQUENTIAL
  MAXIMUM = 255
  MEAN = 142.195
  MINIMUM = 11
  STANDARD_DEVIATION = 45.4757
END_OBJECT = IMAGE
/* MAP OBJECT DEFINITIONS */
OBJECT = IMAGE_MAP_PROJECTION
  ^DATA_SET_MAP_PROJECTION_CATALOG= "DSMAP.CAT"
  A_AXIS_RADIUS = 3396.0
  B_AXIS_RADIUS = 3396.0
  C_AXIS_RADIUS = 3396.0
  CENTER_LATITUDE = 0.0
  CENTER_LONGITUDE = 70.0
  COORDINATE_SYSTEM_NAME = PLANETOGRAPHIC
  COORDINATE_SYSTEM_TYPE = "BODY-FIXED ROTATING"
  EASTERNMOST_LONGITUDE = 73.634
  FIRST_STANDARD_PARALLEL = "N/A"
  LINE_FIRST_PIXEL = 1
  LINE_LAST_PIXEL = 4943
  LINE_PROJECTION_OFFSET = -41964.1875
  MAP_PROJECTION_ROTATION = 0.0
  MAP_PROJECTION_TYPE = SINUSOIDAL
  MAP_RESOLUTION = 592.713803866667
  MAP_SCALE = 0.1
  MAXIMUM_LATITUDE = -70.83159999999999
  MINIMUM_LATITUDE = -79.1353
  POSITIVE_LONGITUDE_DIRECTION = EAST
  REFERENCE_LATITUDE = "N/A"
  REFERENCE_LONGITUDE = "N/A"
  SAMPLE_FIRST_PIXEL = 1
  SAMPLE_LAST_PIXEL = 1554
  SAMPLE_PROJECTION_OFFSET = 838.6875
  SECOND_STANDARD_PARALLEL = "N/A"
  WESTERNMOST_LONGITUDE = 62.7007
END_OBJECT = IMAGE_MAP_PROJECTION
/* The JPEG2000 image data file associated with this label. */
OBJECT = COMPRESSED_FILE
  FILE_NAME = "H4514_0000_GR3.JP2"
  RECORD_TYPE = UNDEFINED
  FILE_RECORDS = UNK
  ENCODING_TYPE = "JP2"
  INTERCHANGE_FORMAT = BINARY
  UNCOMPRESSED_FILE_NAME = "H4514_0000_GR3.IMG"
  REQUIRED_STORAGE_BYTES = "7701624"
  ^DESCRIPTION = "JP2INFO.TXT"
END_OBJECT = COMPRESSED_FILE
END
