PDS_VERSION_ID = PDS3
/* FILE DATA ELEMENTS */
RECORD_TYPE = STREAM
/* POINTERS TO DATA OBJECTS */
^COMPRESSED_FILE = "H4514_0000_P23.JP2"
/* IDENTIFICATION DATA ELEMENTS */
DATA_SET_ID = "MEX-M-HRSC-5-REFDR-MAPPROJECTED-V3.0"
DATA_SET_NAME = "MARS EXPRESS HRSC MAP PROJECTED REFDR V3.0"
DETECTOR_ID = MEX_HRSC_P2
EVENT_TYPE = "MARS-REGIONAL-MAPPING-Im-Gl"
INSTRUMENT_HOST_ID = MEX
INSTRUMENT_HOST_NAME = "MARS EXPRESS"
INSTRUMENT_ID = HRSC
INSTRUMENT_NAME = "HIGH RESOLUTION STEREO CAMERA"
MISSION_NAME = "MARS EXPRESS"
MISSION_PHASE_NAME = ME_Phase_8
PROCESSING_LEVEL_ID = 3
PRODUCT_CREATION_TIME = 2016-04-25T16:23:03.000Z
PRODUCT_ID = "H4514_0000_P23.JP2"
RELEASE_ID = 0052
REVISION_ID = 0000
/* QUALITY DATA ELEMENTS */
DATA_QUALITY_ID = 1
DATA_QUALITY_DESC = "Data calculated based on original SPICE kernels"
/* TIME DATA ELEMENTS */
SPACECRAFT_CLOCK_START_COUNT = "1/0132162227.08392"
SPACECRAFT_CLOCK_STOP_COUNT = "1/0132162406.49613"
START_TIME = 2007-07-10T15:44:34.309Z
STOP_TIME = 2007-07-10T15:46:39.699Z
/* ORBITAL DATA ELEMENTS */
ASCENDING_NODE_LONGITUDE = 133.87
MAXIMUM_RESOLUTION = 23.7
FOOTPRINT_POINT_LATITUDE = (-78.8186,-78.8781,-78.9375,-79.0182, -79.0582,-78.8903,-78.7291,-78.5675, -78.3247,-78.1631,-78.001,-77.8387, -77.6766,-77.5139,-77.352,-77.1027, -76.8617,-76.7003,-76.5371,-76.3748, -76.2121,-76.0505,-75.8861,-75.7238, -75.5646,-75.4045,-75.2423,-75.0795, -74.9127,-74.7458,-74.5834,-74.3405, -74.1783,-74.0161,-73.8534,-73.6914, -73.5297,-73.3674,-73.205,-73.0418, -72.8798,-72.6302,-72.4626,-72.2934, -72.0405,-71.7902,-71.6219,-71.4527, -71.2834,-71.1146,-70.9443,-70.9053, -70.8727,-70.8199,-70.7839,-71.0339, -71.2005,-71.3675,-71.5338,-71.7004, -71.8661,-72.1162,-72.2832,-72.4499, -72.6161,-72.7764,-73.0166,-73.1772, -73.4169,-73.5759,-73.7361,-73.8982, -74.0576,-74.2202,-74.3827,-74.5433, -74.7033,-74.8637,-75.0237,-75.2634, -75.423,-75.6619,-75.8181,-75.9791, -76.2199,-76.3795,-76.6181,-76.7771, -76.9365,-77.096,-77.252,-77.4118, -77.5754,-77.7337,-77.9708,-78.2075, -78.3651,-78.5219,-78.6791,-78.8186)
FOOTPRINT_POINT_LONGITUDE = (63.3169,64.2758,65.2922,66.7896, 67.5956,68.0068,68.208,68.403,68.6849, 68.8666,69.0429,69.2142,69.3812,69.5431 ,69.7016,69.9245,70.1483,70.2921, 70.4303,70.5661,70.6981,70.8283,70.9523 ,71.0756,71.1996,71.3198,71.435,71.5469 ,71.6517,71.7539,71.859,72.013,72.1126, 72.2101,72.3049,72.3985,72.4904,72.5799 ,72.6673,72.752,72.8364,72.9621,73.046, 73.1264,73.2448,73.3624,73.4373,73.5098 ,73.5807,73.6507,73.7178,72.926,72.2556 ,71.2223,70.5751,70.4384,70.3453, 70.2492,70.153,70.0539,69.9546,69.7987, 69.6915,69.5825,69.4722,69.3634,69.1962 ,69.0807,68.9056,68.7874,68.6638, 68.5327,68.4054,68.2669,68.1252,67.9855 ,67.8438,67.6978,67.5493,67.3203, 67.1636,66.9225,66.7658,66.5902,66.3204 ,66.1376,65.856,65.6623,65.4616,65.2548 ,65.0547,64.8346,64.5939,64.3658, 64.0119,63.6428,63.3881,63.128,62.8578, 63.3169)
ORBIT_NUMBER = 4514
ORBITAL_ECCENTRICITY = 0.57
ORBITAL_INCLINATION = 86.7
ORBITAL_SEMIMAJOR_AXIS = 8535.15
PERIAPSIS_ALTITUDE = 292.12
PERIAPSIS_ARGUMENT_ANGLE = 283.36
PERIAPSIS_TIME = 2007-07-10T15:45:00.000Z
SPACECRAFT_ORIENTATION = (0.0,-1.0,0.0)
^MEX_ORIENTATION_DESC = "MEX_ORIENTATION_DESC.TXT"
SPACECRAFT_POINTING_MODE = ACROSSTRACK
^MEX_POINTING_DESC = "MEX_POINTING_DESC.TXT"
RIGHT_ASCENSION = -1e+32
DECLINATION = -1e+32
OFFSET_ANGLE = -0.04
SPACECRAFT_SOLAR_DISTANCE = 2.08057e+08
TARGET_NAME = MARS
/* CAMERA DATA ELEMENTS */
DETECTOR_TEMPERATURE = 18.5744
FOCAL_PLANE_TEMPERATURE = 9.3989
INST_CMPRS_NAME = "DISCRETE COSINE TRANSFORMATION (DCT)"
INST_CMPRS_RATIO = 7.5987
INST_CMPRS_QUALITY = 0
INST_CMPRS_QUANTZ_TBL_ID = 0
INSTRUMENT_TEMPERATURE = 11.234
LENS_TEMPERATURE = 8.9911
MACROPIXEL_SIZE = 2
MISSING_FRAMES = 0
PIXEL_SUBSAMPLING_FLAG = N
SIGNAL_CHAIN_ID = 3
/* RADIOMETRIC DATA ELEMENTS */
BANDWIDTH = 177.0
CENTER_FILTER_WAVELENGTH = 676.5
RADIANCE_OFFSET = 9.25883
RADIANCE_SCALING_FACTOR = 0.00920513
REFLECTANCE_SCALING_FACTOR = 0.000211276
MEX:REFLECTANCE_OFFSET = 0.212509
/* IMAGE OBJECT DEFINITIONS */
OBJECT = IMAGE
  INTERCHANGE_FORMAT = BINARY
  LINES = 19771
  LINE_SAMPLES = 6214
  SAMPLE_TYPE = UNSIGNED_INTEGER
  SAMPLE_BITS = 8
  BANDS = 1
  BAND_STORAGE_TYPE = BAND_SEQUENTIAL
  MAXIMUM = 255
  MEAN = 129.065
  MINIMUM = 1
  STANDARD_DEVIATION = 41.9951
END_OBJECT = IMAGE
/* MAP OBJECT DEFINITIONS */
OBJECT = IMAGE_MAP_PROJECTION
  ^DATA_SET_MAP_PROJECTION_CATALOG= "DSMAP.CAT"
  A_AXIS_RADIUS = 3396.0
  B_AXIS_RADIUS = 3396.0
  C_AXIS_RADIUS = 3396.0
  CENTER_LATITUDE = 0.0
  CENTER_LONGITUDE = 70.0
  COORDINATE_SYSTEM_NAME = PLANETOGRAPHIC
  COORDINATE_SYSTEM_TYPE = "BODY-FIXED ROTATING"
  EASTERNMOST_LONGITUDE = 73.7178
  FIRST_STANDARD_PARALLEL = "N/A"
  LINE_FIRST_PIXEL = 1
  LINE_LAST_PIXEL = 19771
  LINE_PROJECTION_OFFSET = -167855.25
  MAP_PROJECTION_ROTATION = 0.0
  MAP_PROJECTION_TYPE = SINUSOIDAL
  MAP_RESOLUTION = 2370.85521546667
  MAP_SCALE = 0.025
  MAXIMUM_LATITUDE = -70.7839
  MINIMUM_LATITUDE = -79.0582
  POSITIVE_LONGITUDE_DIRECTION = EAST
  REFERENCE_LATITUDE = "N/A"
  REFERENCE_LONGITUDE = "N/A"
  SAMPLE_FIRST_PIXEL = 1
  SAMPLE_LAST_PIXEL = 6214
  SAMPLE_PROJECTION_OFFSET = 3356.25
  SECOND_STANDARD_PARALLEL = "N/A"
  WESTERNMOST_LONGITUDE = 62.8578
END_OBJECT = IMAGE_MAP_PROJECTION
/* The JPEG2000 image data file associated with this label. */
OBJECT = COMPRESSED_FILE
  FILE_NAME = "H4514_0000_P23.JP2"
  RECORD_TYPE = UNDEFINED
  FILE_RECORDS = UNK
  ENCODING_TYPE = "JP2"
  INTERCHANGE_FORMAT = BINARY
  UNCOMPRESSED_FILE_NAME = "H4514_0000_P23.IMG"
  REQUIRED_STORAGE_BYTES = "122888064"
  ^DESCRIPTION = "JP2INFO.TXT"
END_OBJECT = COMPRESSED_FILE
END
