PDS_VERSION_ID = PDS3
/* FILE DATA ELEMENTS */
RECORD_TYPE = STREAM
/* POINTERS TO DATA OBJECTS */
^COMPRESSED_FILE = "H4514_0000_S13.JP2"
/* IDENTIFICATION DATA ELEMENTS */
DATA_SET_ID = "MEX-M-HRSC-5-REFDR-MAPPROJECTED-V3.0"
DATA_SET_NAME = "MARS EXPRESS HRSC MAP PROJECTED REFDR V3.0"
DETECTOR_ID = MEX_HRSC_S1
EVENT_TYPE = "MARS-REGIONAL-MAPPING-Im-Gl"
INSTRUMENT_HOST_ID = MEX
INSTRUMENT_HOST_NAME = "MARS EXPRESS"
INSTRUMENT_ID = HRSC
INSTRUMENT_NAME = "HIGH RESOLUTION STEREO CAMERA"
MISSION_NAME = "MARS EXPRESS"
MISSION_PHASE_NAME = ME_Phase_8
PROCESSING_LEVEL_ID = 3
PRODUCT_CREATION_TIME = 2016-04-25T16:23:03.000Z
PRODUCT_ID = "H4514_0000_S13.JP2"
RELEASE_ID = 0052
REVISION_ID = 0000
/* QUALITY DATA ELEMENTS */
DATA_QUALITY_ID = 1
DATA_QUALITY_DESC = "Data calculated based on original SPICE kernels"
/* TIME DATA ELEMENTS */
SPACECRAFT_CLOCK_START_COUNT = "1/0132162227.08392"
SPACECRAFT_CLOCK_STOP_COUNT = "1/0132162406.49613"
START_TIME = 2007-07-10T15:43:51.185Z
STOP_TIME = 2007-07-10T15:45:56.578Z
/* ORBITAL DATA ELEMENTS */
ASCENDING_NODE_LONGITUDE = 133.87
MAXIMUM_RESOLUTION = 24.4
FOOTPRINT_POINT_LATITUDE = (-79.0476,-79.1383,-79.1807,-79.2595, -79.0884,-78.9226,-78.7563,-78.59, -78.4241,-78.2573,-78.0969,-77.9363, -77.7753,-77.5339,-77.372,-77.2126, -76.9704,-76.7268,-76.5656,-76.403, -76.1593,-75.9958,-75.834,-75.5851, -75.4185,-75.2546,-75.0908,-74.9284, -74.7742,-74.6104,-74.4445,-74.2801, -74.0329,-73.786,-73.6209,-73.455, -73.2902,-73.1252,-72.9609,-72.7954, -72.5471,-72.3806,-72.2165,-72.0511, -71.8842,-71.7163,-71.5512,-71.3869, -71.2222,-70.9757,-70.9366,-70.8817, -70.8449,-70.8919,-71.0561,-71.2206, -71.3842,-71.5494,-71.7966,-71.9614, -72.1247,-72.2881,-72.4518,-72.6159, -72.8614,-73.0256,-73.1882,-73.3523, -73.5168,-73.7623,-74.0032,-74.1655, -74.3213,-74.4825,-74.6441,-74.8859, -75.1279,-75.2893,-75.4509,-75.6945, -75.8581,-76.0151,-76.1737,-76.3327, -76.4923,-76.6514,-76.8103,-76.9669, -77.1273,-77.2881,-77.4422,-77.5916, -77.7486,-77.9836,-78.145,-78.3881, -78.5499,-78.7104,-78.8712,-79.0476)
FOOTPRINT_POINT_LONGITUDE = (63.5167,65.035,65.8035,67.3621,67.7909 ,68.0023,68.2085,68.4076,68.5995, 68.7886,68.9637,69.1342,69.3008,69.5412 ,69.6984,69.8447,70.0645,70.2788,70.414 ,70.5488,70.7442,70.8725,70.9936, 71.1834,71.3074,71.4223,71.5343,71.6407 ,71.7279,71.8324,71.9385,72.0393, 72.1873,72.3295,72.4227,72.5152,72.6038 ,72.6905,72.7744,72.8585,72.9814, 73.0626,73.1384,73.2147,73.2917,73.3688 ,73.44,73.5086,73.5764,73.6747,72.929, 71.854,71.1997,70.5515,70.46,70.3669, 70.2718,70.1752,70.0268,69.9253,69.8215 ,69.7157,69.6079,69.4979,69.3287,69.213 ,69.0947,68.9742,68.8512,68.6617, 68.4651,68.3309,68.1928,68.0525,67.9092 ,67.6882,67.4596,67.3029,67.1426, 66.8952,66.7253,66.5511,66.3728,66.1902 ,66.0032,65.8115,65.615,65.4137,65.2071 ,64.9951,64.7781,64.5562,64.3276, 63.9732,63.7203,63.326,63.0536,62.7735, 62.485,63.5167)
ORBIT_NUMBER = 4514
ORBITAL_ECCENTRICITY = 0.57
ORBITAL_INCLINATION = 86.7
ORBITAL_SEMIMAJOR_AXIS = 8535.15
PERIAPSIS_ALTITUDE = 292.12
PERIAPSIS_ARGUMENT_ANGLE = 283.36
PERIAPSIS_TIME = 2007-07-10T15:45:00.000Z
SPACECRAFT_ORIENTATION = (0.0,-1.0,0.0)
^MEX_ORIENTATION_DESC = "MEX_ORIENTATION_DESC.TXT"
SPACECRAFT_POINTING_MODE = ACROSSTRACK
^MEX_POINTING_DESC = "MEX_POINTING_DESC.TXT"
RIGHT_ASCENSION = -1e+32
DECLINATION = -1e+32
OFFSET_ANGLE = -0.04
SPACECRAFT_SOLAR_DISTANCE = 2.08057e+08
TARGET_NAME = MARS
/* CAMERA DATA ELEMENTS */
DETECTOR_TEMPERATURE = 17.5549
FOCAL_PLANE_TEMPERATURE = 9.3989
INST_CMPRS_NAME = "DISCRETE COSINE TRANSFORMATION (DCT)"
INST_CMPRS_RATIO = 12.7154
INST_CMPRS_QUALITY = 0
INST_CMPRS_QUANTZ_TBL_ID = 0
INSTRUMENT_TEMPERATURE = 11.234
LENS_TEMPERATURE = 8.9911
MACROPIXEL_SIZE = 2
MISSING_FRAMES = 0
PIXEL_SUBSAMPLING_FLAG = N
SIGNAL_CHAIN_ID = 1
/* RADIOMETRIC DATA ELEMENTS */
BANDWIDTH = 180.0
CENTER_FILTER_WAVELENGTH = 677.0
RADIANCE_OFFSET = 10.7997
RADIANCE_SCALING_FACTOR = 0.00931139
REFLECTANCE_SCALING_FACTOR = 0.000210291
MEX:REFLECTANCE_OFFSET = 0.243903
/* IMAGE OBJECT DEFINITIONS */
OBJECT = IMAGE
  INTERCHANGE_FORMAT = BINARY
  LINES = 19771
  LINE_SAMPLES = 6214
  SAMPLE_TYPE = UNSIGNED_INTEGER
  SAMPLE_BITS = 8
  BANDS = 1
  BAND_STORAGE_TYPE = BAND_SEQUENTIAL
  MAXIMUM = 255
  MEAN = 130.973
  MINIMUM = 1
  STANDARD_DEVIATION = 38.4996
END_OBJECT = IMAGE
/* MAP OBJECT DEFINITIONS */
OBJECT = IMAGE_MAP_PROJECTION
  ^DATA_SET_MAP_PROJECTION_CATALOG= "DSMAP.CAT"
  A_AXIS_RADIUS = 3396.0
  B_AXIS_RADIUS = 3396.0
  C_AXIS_RADIUS = 3396.0
  CENTER_LATITUDE = 0.0
  CENTER_LONGITUDE = 70.0
  COORDINATE_SYSTEM_NAME = PLANETOGRAPHIC
  COORDINATE_SYSTEM_TYPE = "BODY-FIXED ROTATING"
  EASTERNMOST_LONGITUDE = 73.6747
  FIRST_STANDARD_PARALLEL = "N/A"
  LINE_FIRST_PIXEL = 1
  LINE_LAST_PIXEL = 19771
  LINE_PROJECTION_OFFSET = -167855.25
  MAP_PROJECTION_ROTATION = 0.0
  MAP_PROJECTION_TYPE = SINUSOIDAL
  MAP_RESOLUTION = 2370.85521546667
  MAP_SCALE = 0.025
  MAXIMUM_LATITUDE = -70.8449
  MINIMUM_LATITUDE = -79.2595
  POSITIVE_LONGITUDE_DIRECTION = EAST
  REFERENCE_LATITUDE = "N/A"
  REFERENCE_LONGITUDE = "N/A"
  SAMPLE_FIRST_PIXEL = 1
  SAMPLE_LAST_PIXEL = 6214
  SAMPLE_PROJECTION_OFFSET = 3356.25
  SECOND_STANDARD_PARALLEL = "N/A"
  WESTERNMOST_LONGITUDE = 62.485
END_OBJECT = IMAGE_MAP_PROJECTION
/* The JPEG2000 image data file associated with this label. */
OBJECT = COMPRESSED_FILE
  FILE_NAME = "H4514_0000_S13.JP2"
  RECORD_TYPE = UNDEFINED
  FILE_RECORDS = UNK
  ENCODING_TYPE = "JP2"
  INTERCHANGE_FORMAT = BINARY
  UNCOMPRESSED_FILE_NAME = "H4514_0000_S13.IMG"
  REQUIRED_STORAGE_BYTES = "122888064"
  ^DESCRIPTION = "JP2INFO.TXT"
END_OBJECT = COMPRESSED_FILE
END
