PDS_VERSION_ID = PDS3
/* FILE DATA ELEMENTS */
RECORD_TYPE = STREAM
/* POINTERS TO DATA OBJECTS */
^COMPRESSED_FILE = "H4521_0000_S13.JP2"
/* IDENTIFICATION DATA ELEMENTS */
DATA_SET_ID = "MEX-M-HRSC-5-REFDR-MAPPROJECTED-V3.0"
DATA_SET_NAME = "MARS EXPRESS HRSC MAP PROJECTED REFDR V3.0"
DETECTOR_ID = MEX_HRSC_S1
EVENT_TYPE = "MARS-REGIONAL-MAPPING-Fl-Gl-La"
INSTRUMENT_HOST_ID = MEX
INSTRUMENT_HOST_NAME = "MARS EXPRESS"
INSTRUMENT_ID = HRSC
INSTRUMENT_NAME = "HIGH RESOLUTION STEREO CAMERA"
MISSION_NAME = "MARS EXPRESS"
MISSION_PHASE_NAME = ME_Phase_8
PROCESSING_LEVEL_ID = 3
PRODUCT_CREATION_TIME = 2016-04-25T16:23:03.000Z
PRODUCT_ID = "H4521_0000_S13.JP2"
RELEASE_ID = 0052
REVISION_ID = 0000
/* QUALITY DATA ELEMENTS */
DATA_QUALITY_ID = 1
DATA_QUALITY_DESC = "Data calculated based on original SPICE kernels"
/* TIME DATA ELEMENTS */
SPACECRAFT_CLOCK_START_COUNT = "1/0132331466.09051"
SPACECRAFT_CLOCK_STOP_COUNT = "1/0132331610.40007"
START_TIME = 2007-07-12T14:44:30.191Z
STOP_TIME = 2007-07-12T14:46:00.590Z
/* ORBITAL DATA ELEMENTS */
ASCENDING_NODE_LONGITUDE = 133.73
MAXIMUM_RESOLUTION = 25
FOOTPRINT_POINT_LATITUDE = (-85.1189,-85.3216,-85.4598,-85.5955, -85.7285,-85.8588,-85.9863,-85.8989, -85.8172,-85.7333,-85.6037,-85.5153, -85.4255,-85.334,-85.1971,-85.1064, -85.0144,-84.8744,-84.7799,-84.6842, -84.5876,-84.49,-84.342,-84.2425, -84.1422,-83.9904,-83.8372,-83.7343, -83.579,-83.4748,-83.3174,-83.2118, -83.1056,-82.9982,-82.8944,-82.7381, -82.6336,-82.4242,-82.3177,-82.2118, -82.1064,-81.9478,-81.8417,-81.7355, -81.5751,-81.4679,-81.3603,-81.1991, -81.0913,-80.8969,-80.8383,-80.7712, -80.7106,-80.6043,-80.5325,-80.5324, -80.6355,-80.7381,-80.8409,-80.9429, -81.0446,-81.2462,-81.3981,-81.4988, -81.5986,-81.7476,-81.8465,-81.945, -82.0437,-82.238,-82.4298,-82.5279, -82.6256,-82.7707,-82.8668,-82.9621, -83.0561,-83.1512,-83.2444,-83.3371, -83.4283,-83.5186,-83.6079,-83.6961, -83.7832,-83.8689,-83.9536,-84.0786, -84.1607,-84.2419,-84.3221,-84.3997, -84.5158,-84.5927,-84.7048,-84.8148, -84.8852,-84.9538,-85.0199,-85.1189)
FOOTPRINT_POINT_LONGITUDE = (56.8327,58.3199,59.4274,60.6005, 61.8419,63.1599,64.5584,66.2977,67.5134 ,68.6886,70.3753,71.4425,72.4688, 73.4573,74.8405,75.6995,76.5284,77.7166 ,78.4727,79.2048,79.9118,80.5947,81.577 ,82.2027,82.8075,83.6781,84.506,85.0354 ,85.7978,86.2857,86.9899,87.4419, 87.8809,88.3102,88.7112,89.2911,89.6632 ,90.3741,90.7211,91.0545,91.3755, 91.8416,92.1423,92.4348,92.8621,93.1378 ,93.4074,93.7972,94.0495,94.2206, 93.3522,92.3691,91.5076,90.0873,89.1908 ,88.4087,88.1034,87.7912,87.472,87.1456 ,86.8117,86.1209,85.581,85.2105,84.8312 ,84.2451,83.8424,83.4298,83.0066, 82.1293,81.2076,80.7135,80.2043,79.415, 78.8709,78.3121,77.7389,77.1472,76.5408 ,75.917,75.2769,74.6192,73.9432,73.2487 ,72.5349,71.8021,71.0484,69.8782, 69.0698,68.2373,67.3803,66.5039,65.125, 64.1515,62.6398,61.0544,59.9639,58.8427 ,57.6943,56.8327)
ORBIT_NUMBER = 4521
ORBITAL_ECCENTRICITY = 0.57
ORBITAL_INCLINATION = 86.7
ORBITAL_SEMIMAJOR_AXIS = 8534.85
PERIAPSIS_ALTITUDE = 292.44
PERIAPSIS_ARGUMENT_ANGLE = 282.14
PERIAPSIS_TIME = 2007-07-12T14:47:20.000Z
SPACECRAFT_ORIENTATION = (0.0,-1.0,0.0)
^MEX_ORIENTATION_DESC = "MEX_ORIENTATION_DESC.TXT"
SPACECRAFT_POINTING_MODE = ACROSSTRACK
^MEX_POINTING_DESC = "MEX_POINTING_DESC.TXT"
RIGHT_ASCENSION = -1e+32
DECLINATION = -1e+32
OFFSET_ANGLE = 0.3
SPACECRAFT_SOLAR_DISTANCE = 2.08209e+08
TARGET_NAME = MARS
/* CAMERA DATA ELEMENTS */
DETECTOR_TEMPERATURE = 17.5549
FOCAL_PLANE_TEMPERATURE = 8.3794
INST_CMPRS_NAME = "DISCRETE COSINE TRANSFORMATION (DCT)"
INST_CMPRS_RATIO = 9.14485
INST_CMPRS_QUALITY = 0
INST_CMPRS_QUANTZ_TBL_ID = 0
INSTRUMENT_TEMPERATURE = 11.234
LENS_TEMPERATURE = 8.5833
MACROPIXEL_SIZE = 2
MISSING_FRAMES = 0
PIXEL_SUBSAMPLING_FLAG = N
SIGNAL_CHAIN_ID = 1
/* RADIOMETRIC DATA ELEMENTS */
BANDWIDTH = 180.0
CENTER_FILTER_WAVELENGTH = 677.0
RADIANCE_OFFSET = 8.16046
RADIANCE_SCALING_FACTOR = 0.0140255
REFLECTANCE_SCALING_FACTOR = 0.00031722
MEX:REFLECTANCE_OFFSET = 0.184568
/* IMAGE OBJECT DEFINITIONS */
OBJECT = IMAGE
  INTERCHANGE_FORMAT = BINARY
  LINES = 12780
  LINE_SAMPLES = 9623
  SAMPLE_TYPE = UNSIGNED_INTEGER
  SAMPLE_BITS = 8
  BANDS = 1
  BAND_STORAGE_TYPE = BAND_SEQUENTIAL
  MAXIMUM = 255
  MEAN = 111.138
  MINIMUM = 1
  STANDARD_DEVIATION = 59.8815
END_OBJECT = IMAGE
/* MAP OBJECT DEFINITIONS */
OBJECT = IMAGE_MAP_PROJECTION
  ^DATA_SET_MAP_PROJECTION_CATALOG= "DSMAP.CAT"
  A_AXIS_RADIUS = 3396.0
  B_AXIS_RADIUS = 3396.0
  C_AXIS_RADIUS = 3396.0
  CENTER_LATITUDE = 0.0
  CENTER_LONGITUDE = 82.0
  COORDINATE_SYSTEM_NAME = PLANETOGRAPHIC
  COORDINATE_SYSTEM_TYPE = "BODY-FIXED ROTATING"
  EASTERNMOST_LONGITUDE = 94.2206
  FIRST_STANDARD_PARALLEL = "N/A"
  LINE_FIRST_PIXEL = 1
  LINE_LAST_PIXEL = 12780
  LINE_PROJECTION_OFFSET = -190826.25
  MAP_PROJECTION_ROTATION = 0.0
  MAP_PROJECTION_TYPE = SINUSOIDAL
  MAP_RESOLUTION = 2370.85521546667
  MAP_SCALE = 0.025
  MAXIMUM_LATITUDE = -80.5324
  MINIMUM_LATITUDE = -85.9863
  POSITIVE_LONGITUDE_DIRECTION = EAST
  REFERENCE_LATITUDE = "N/A"
  REFERENCE_LONGITUDE = "N/A"
  SAMPLE_FIRST_PIXEL = 1
  SAMPLE_LAST_PIXEL = 9623
  SAMPLE_PROJECTION_OFFSET = 4955.75
  SECOND_STANDARD_PARALLEL = "N/A"
  WESTERNMOST_LONGITUDE = 56.8327
END_OBJECT = IMAGE_MAP_PROJECTION
/* The JPEG2000 image data file associated with this label. */
OBJECT = COMPRESSED_FILE
  FILE_NAME = "H4521_0000_S13.JP2"
  RECORD_TYPE = UNDEFINED
  FILE_RECORDS = UNK
  ENCODING_TYPE = "JP2"
  INTERCHANGE_FORMAT = BINARY
  UNCOMPRESSED_FILE_NAME = "H4521_0000_S13.IMG"
  REQUIRED_STORAGE_BYTES = "123010809"
  ^DESCRIPTION = "JP2INFO.TXT"
END_OBJECT = COMPRESSED_FILE
END
