PDS_VERSION_ID = PDS3
/* FILE DATA ELEMENTS */
RECORD_TYPE = STREAM
/* POINTERS TO DATA OBJECTS */
^COMPRESSED_FILE = "H4522_0000_RE3.JP2"
/* IDENTIFICATION DATA ELEMENTS */
DATA_SET_ID = "MEX-M-HRSC-5-REFDR-MAPPROJECTED-V3.0"
DATA_SET_NAME = "MARS EXPRESS HRSC MAP PROJECTED REFDR V3.0"
DETECTOR_ID = MEX_HRSC_RED
EVENT_TYPE = "MARS-REGIONAL-MAPPING-Im-Fl-Pf"
INSTRUMENT_HOST_ID = MEX
INSTRUMENT_HOST_NAME = "MARS EXPRESS"
INSTRUMENT_ID = HRSC
INSTRUMENT_NAME = "HIGH RESOLUTION STEREO CAMERA"
MISSION_NAME = "MARS EXPRESS"
MISSION_PHASE_NAME = ME_Phase_8
PROCESSING_LEVEL_ID = 3
PRODUCT_CREATION_TIME = 2016-04-25T16:23:03.000Z
PRODUCT_ID = "H4522_0000_RE3.JP2"
RELEASE_ID = 0052
REVISION_ID = 0000
/* QUALITY DATA ELEMENTS */
DATA_QUALITY_ID = 1
DATA_QUALITY_DESC = "Data calculated based on original SPICE kernels"
/* TIME DATA ELEMENTS */
SPACECRAFT_CLOCK_START_COUNT = "1/0132356069.07288"
SPACECRAFT_CLOCK_STOP_COUNT = "1/0132356289.40219"
START_TIME = 2007-07-12T21:35:32.188Z
STOP_TIME = 2007-07-12T21:38:03.360Z
/* ORBITAL DATA ELEMENTS */
ASCENDING_NODE_LONGITUDE = 133.71
MAXIMUM_RESOLUTION = 61.7
FOOTPRINT_POINT_LATITUDE = (-59.6384,-59.6549,-59.6743,-59.6899, -59.7142,-59.7026,-59.5274,-59.3519, -59.0887,-58.9141,-58.7429,-58.569, -58.3937,-58.2168,-58.0423,-57.8691, -57.6095,-57.4366,-57.1777,-56.9198, -56.6624,-56.4903,-56.319,-56.148, -55.8926,-55.7222,-55.461,-55.2874, -54.9456,-54.7735,-54.5954,-54.4188, -54.2398,-54.0607,-53.879,-53.6077, -53.4259,-53.245,-53.0645,-52.7896, -52.6054,-52.4214,-52.2374,-52.0519, -51.866,-51.678,-51.4,-51.2065,-51.0146 ,-50.8533,-50.8461,-50.8338,-50.8252, -50.8097,-50.799,-50.9823,-51.1712, -51.3605,-51.5475,-51.7353,-51.9248, -52.1091,-52.2921,-52.4748,-52.6571, -52.928,-53.1086,-53.2887,-53.469, -53.6498,-53.9181,-54.0949,-54.2716, -54.4486,-54.6256,-54.7985,-55.0593, -55.2332,-55.4078,-55.5823,-55.9225, -56.0928,-56.4308,-56.6017,-56.8575, -57.0281,-57.2025,-57.3771,-57.5497, -57.7222,-57.8943,-58.0677,-58.2405, -58.4137,-58.6729,-58.9347,-59.11, -59.2835,-59.458,-59.6384)
FOOTPRINT_POINT_LONGITUDE = (7.99744,8.36421,8.82329,9.21362,9.8803 ,10.2612,10.2884,10.3149,10.3537, 10.3795,10.4068,10.432,10.4561,10.4788, 10.5023,10.5262,10.5613,10.5843,10.6183 ,10.6519,10.6848,10.706,10.7272,10.7482 ,10.7796,10.8,10.8301,10.8508,10.8941, 10.9145,10.9334,10.9536,10.9721,10.9901 ,11.0064,11.0343,11.0525,11.0708, 11.0889,11.1162,11.1342,11.152,11.1694, 11.1874,11.2058,11.2227,11.2495,11.2653 ,11.2815,11.0081,10.6476,10.1192, 9.78238,9.25292,8.94012,8.7013,8.68824, 8.67431,8.65963,8.64428,8.62758,8.61441 ,8.59931,8.58429,8.56951,8.54857, 8.53182,8.51528,8.49848,8.48122,8.45427 ,8.43664,8.41894,8.40082,8.38264, 8.36449,8.33566,8.31618,8.29596,8.27535 ,8.23497,8.21431,8.17451,8.15284, 8.12029,8.09826,8.07281,8.04689,8.02248 ,7.99791,7.97336,7.94748,7.92179, 7.89545,7.85602,7.81355,7.78413,7.75607 ,7.72668,7.99744)
ORBIT_NUMBER = 4522
ORBITAL_ECCENTRICITY = 0.57
ORBITAL_INCLINATION = 86.69
ORBITAL_SEMIMAJOR_AXIS = 8533.84
PERIAPSIS_ALTITUDE = 293.25
PERIAPSIS_ARGUMENT_ANGLE = 281.96
PERIAPSIS_TIME = 2007-07-12T21:30:29.000Z
SPACECRAFT_ORIENTATION = (0.0,-1.0,0.0)
^MEX_ORIENTATION_DESC = "MEX_ORIENTATION_DESC.TXT"
SPACECRAFT_POINTING_MODE = NADIR
^MEX_POINTING_DESC = "MEX_POINTING_DESC.TXT"
RIGHT_ASCENSION = -1e+32
DECLINATION = -1e+32
OFFSET_ANGLE = -1e+32
SPACECRAFT_SOLAR_DISTANCE = 2.08232e+08
TARGET_NAME = MARS
/* CAMERA DATA ELEMENTS */
DETECTOR_TEMPERATURE = 18.7783
FOCAL_PLANE_TEMPERATURE = 8.7872
INST_CMPRS_NAME = "DISCRETE COSINE TRANSFORMATION (DCT)"
INST_CMPRS_RATIO = 22.546
INST_CMPRS_QUALITY = 0
INST_CMPRS_QUANTZ_TBL_ID = 0
INSTRUMENT_TEMPERATURE = 11.234
LENS_TEMPERATURE = 9.195
MACROPIXEL_SIZE = 4
MISSING_FRAMES = 0
PIXEL_SUBSAMPLING_FLAG = N
SIGNAL_CHAIN_ID = 2
/* RADIOMETRIC DATA ELEMENTS */
BANDWIDTH = 48.0
CENTER_FILTER_WAVELENGTH = 748.0
RADIANCE_OFFSET = 3.01543
RADIANCE_SCALING_FACTOR = 0.00273379
REFLECTANCE_SCALING_FACTOR = 0.000270512
MEX:REFLECTANCE_OFFSET = 0.298381
/* IMAGE OBJECT DEFINITIONS */
OBJECT = IMAGE
  INTERCHANGE_FORMAT = BINARY
  LINES = 10662
  LINE_SAMPLES = 2284
  SAMPLE_TYPE = UNSIGNED_INTEGER
  SAMPLE_BITS = 8
  BANDS = 1
  BAND_STORAGE_TYPE = BAND_SEQUENTIAL
  MAXIMUM = 255
  MEAN = 134.394
  MINIMUM = 6
  STANDARD_DEVIATION = 49.8473
END_OBJECT = IMAGE
/* MAP OBJECT DEFINITIONS */
OBJECT = IMAGE_MAP_PROJECTION
  ^DATA_SET_MAP_PROJECTION_CATALOG= "DSMAP.CAT"
  A_AXIS_RADIUS = 3396.0
  B_AXIS_RADIUS = 3396.0
  C_AXIS_RADIUS = 3396.0
  CENTER_LATITUDE = 0.0
  CENTER_LONGITUDE = 10.0
  COORDINATE_SYSTEM_NAME = PLANETOGRAPHIC
  COORDINATE_SYSTEM_TYPE = "BODY-FIXED ROTATING"
  EASTERNMOST_LONGITUDE = 11.2815
  FIRST_STANDARD_PARALLEL = "N/A"
  LINE_FIRST_PIXEL = 1
  LINE_LAST_PIXEL = 10662
  LINE_PROJECTION_OFFSET = -60222.125
  MAP_PROJECTION_ROTATION = 0.0
  MAP_PROJECTION_TYPE = SINUSOIDAL
  MAP_RESOLUTION = 1185.42760773333
  MAP_SCALE = 0.05
  MAXIMUM_LATITUDE = -50.799
  MINIMUM_LATITUDE = -59.7142
  POSITIVE_LONGITUDE_DIRECTION = EAST
  REFERENCE_LATITUDE = "N/A"
  REFERENCE_LONGITUDE = "N/A"
  SAMPLE_FIRST_PIXEL = 1
  SAMPLE_LAST_PIXEL = 2284
  SAMPLE_PROJECTION_OFFSET = 1363.875
  SECOND_STANDARD_PARALLEL = "N/A"
  WESTERNMOST_LONGITUDE = 7.72668
END_OBJECT = IMAGE_MAP_PROJECTION
/* The JPEG2000 image data file associated with this label. */
OBJECT = COMPRESSED_FILE
  FILE_NAME = "H4522_0000_RE3.JP2"
  RECORD_TYPE = UNDEFINED
  FILE_RECORDS = UNK
  ENCODING_TYPE = "JP2"
  INTERCHANGE_FORMAT = BINARY
  UNCOMPRESSED_FILE_NAME = "H4522_0000_RE3.IMG"
  REQUIRED_STORAGE_BYTES = "24374848"
  ^DESCRIPTION = "JP2INFO.TXT"
END_OBJECT = COMPRESSED_FILE
END
