PDS_VERSION_ID = PDS3
/* FILE DATA ELEMENTS */
RECORD_TYPE = STREAM
/* POINTERS TO DATA OBJECTS */
^COMPRESSED_FILE = "H4524_0000_P23.JP2"
/* IDENTIFICATION DATA ELEMENTS */
DATA_SET_ID = "MEX-M-HRSC-5-REFDR-MAPPROJECTED-V3.0"
DATA_SET_NAME = "MARS EXPRESS HRSC MAP PROJECTED REFDR V3.0"
DETECTOR_ID = MEX_HRSC_P2
EVENT_TYPE = "MARS-REGIONAL-MAPPING-Im-Eo"
INSTRUMENT_HOST_ID = MEX
INSTRUMENT_HOST_NAME = "MARS EXPRESS"
INSTRUMENT_ID = HRSC
INSTRUMENT_NAME = "HIGH RESOLUTION STEREO CAMERA"
MISSION_NAME = "MARS EXPRESS"
MISSION_PHASE_NAME = ME_Phase_8
PROCESSING_LEVEL_ID = 3
PRODUCT_CREATION_TIME = 2016-04-25T16:23:03.000Z
PRODUCT_ID = "H4524_0000_P23.JP2"
RELEASE_ID = 0052
REVISION_ID = 0000
/* QUALITY DATA ELEMENTS */
DATA_QUALITY_ID = 1
DATA_QUALITY_DESC = "Data calculated based on original SPICE kernels"
/* TIME DATA ELEMENTS */
SPACECRAFT_CLOCK_START_COUNT = "1/0132404513.07283"
SPACECRAFT_CLOCK_STOP_COUNT = "1/0132404793.62018"
START_TIME = 2007-07-13T11:02:55.764Z
STOP_TIME = 2007-07-13T11:06:14.551Z
/* ORBITAL DATA ELEMENTS */
ASCENDING_NODE_LONGITUDE = 133.67
MAXIMUM_RESOLUTION = 33
FOOTPRINT_POINT_LATITUDE = (-56.0634,-56.0985,-56.1225,-56.1345, -55.9858,-55.588,-55.3815,-55.1719, -54.8615,-54.6583,-54.4471,-54.2363, -54.0269,-53.8176,-53.6046,-53.3904, -53.1765,-52.9629,-52.7454,-52.5274, -52.3115,-52.0917,-51.8692,-51.5366, -51.2022,-50.9766,-50.6384,-50.4105, -50.1804,-49.9511,-49.7198,-49.486, -49.2532,-48.8992,-48.6629,-48.3066, -48.0672,-47.827,-47.5835,-47.3395, -47.097,-46.8496,-46.4793,-46.1027, -45.8518,-45.5972,-45.3432,-45.0863, -44.829,-44.778,-44.776,-44.7657, -44.758,-44.7464,-44.7379,-44.7261, -44.9831,-45.2409,-45.4946,-45.8757, -46.1253,-46.4999,-46.7463,-47.1154, -47.3581,-47.6012,-47.8416,-48.0803, -48.4375,-48.6725,-48.9081,-49.1444, -49.3743,-49.6068,-49.9517,-50.1807, -50.5239,-50.7487,-50.9742,-51.3113, -51.6429,-51.8643,-52.0841,-52.301, -52.6269,-52.8443,-53.1638,-53.3785, -53.5909,-53.802,-54.0106,-54.2199, -54.4288,-54.6364,-54.9446,-55.1499, -55.3556,-55.5604,-55.7615,-56.0634)
FOOTPRINT_POINT_LONGITUDE = (171.853,172.73,173.418,173.798,174.195 ,174.247,174.271,174.293,174.326, 174.351,174.374,174.396,174.419,174.441 ,174.464,174.486,174.507,174.529,174.55 ,174.571,174.593,174.612,174.633, 174.663,174.693,174.713,174.742,174.762 ,174.781,174.8,174.818,174.837,174.855, 174.882,174.901,174.928,174.947,174.964 ,174.982,174.999,175.017,175.035, 175.061,175.087,175.103,175.12,175.137, 175.153,175.17,174.722,174.432,174.008, 173.691,173.163,172.873,172.441,172.433 ,172.425,172.416,172.402,172.393, 172.378,172.368,172.353,172.342,172.331 ,172.32,172.309,172.291,172.279,172.267 ,172.252,172.24,172.226,172.204,172.189 ,172.165,172.15,172.133,172.108,172.082 ,172.065,172.047,172.029,172.002, 171.983,171.955,171.934,171.915,171.895 ,171.875,171.854,171.833,171.812, 171.779,171.756,171.733,171.709,171.686 ,171.853)
ORBIT_NUMBER = 4524
ORBITAL_ECCENTRICITY = 0.57
ORBITAL_INCLINATION = 86.69
ORBITAL_SEMIMAJOR_AXIS = 8534.09
PERIAPSIS_ALTITUDE = 293.52
PERIAPSIS_ARGUMENT_ANGLE = 281.63
PERIAPSIS_TIME = 2007-07-13T10:56:54.000Z
SPACECRAFT_ORIENTATION = (0.0,-1.0,0.0)
^MEX_ORIENTATION_DESC = "MEX_ORIENTATION_DESC.TXT"
SPACECRAFT_POINTING_MODE = NADIR
^MEX_POINTING_DESC = "MEX_POINTING_DESC.TXT"
RIGHT_ASCENSION = -1e+32
DECLINATION = -1e+32
OFFSET_ANGLE = -1e+32
SPACECRAFT_SOLAR_DISTANCE = 2.08277e+08
TARGET_NAME = MARS
/* CAMERA DATA ELEMENTS */
DETECTOR_TEMPERATURE = 18.5744
FOCAL_PLANE_TEMPERATURE = 8.7872
INST_CMPRS_NAME = "DISCRETE COSINE TRANSFORMATION (DCT)"
INST_CMPRS_RATIO = 8.45828
INST_CMPRS_QUALITY = 0
INST_CMPRS_QUANTZ_TBL_ID = 0
INSTRUMENT_TEMPERATURE = 11.234
LENS_TEMPERATURE = 8.9911
MACROPIXEL_SIZE = 2
MISSING_FRAMES = 0
PIXEL_SUBSAMPLING_FLAG = N
SIGNAL_CHAIN_ID = 3
/* RADIOMETRIC DATA ELEMENTS */
BANDWIDTH = 177.0
CENTER_FILTER_WAVELENGTH = 676.5
RADIANCE_OFFSET = 10.3601
RADIANCE_SCALING_FACTOR = 0.0241089
REFLECTANCE_SCALING_FACTOR = 0.000554523
MEX:REFLECTANCE_OFFSET = 0.238291
/* IMAGE OBJECT DEFINITIONS */
OBJECT = IMAGE
  INTERCHANGE_FORMAT = BINARY
  LINES = 27184
  LINE_SAMPLES = 5290
  SAMPLE_TYPE = UNSIGNED_INTEGER
  SAMPLE_BITS = 8
  BANDS = 1
  BAND_STORAGE_TYPE = BAND_SEQUENTIAL
  MAXIMUM = 255
  MEAN = 145.017
  MINIMUM = 1
  STANDARD_DEVIATION = 61.3731
END_OBJECT = IMAGE
/* MAP OBJECT DEFINITIONS */
OBJECT = IMAGE_MAP_PROJECTION
  ^DATA_SET_MAP_PROJECTION_CATALOG= "DSMAP.CAT"
  A_AXIS_RADIUS = 3396.0
  B_AXIS_RADIUS = 3396.0
  C_AXIS_RADIUS = 3396.0
  CENTER_LATITUDE = 0.0
  CENTER_LONGITUDE = 173.0
  COORDINATE_SYSTEM_NAME = PLANETOGRAPHIC
  COORDINATE_SYSTEM_TYPE = "BODY-FIXED ROTATING"
  EASTERNMOST_LONGITUDE = 175.17
  FIRST_STANDARD_PARALLEL = "N/A"
  LINE_FIRST_PIXEL = 1
  LINE_LAST_PIXEL = 27184
  LINE_PROJECTION_OFFSET = -106039.25
  MAP_PROJECTION_ROTATION = 0.0
  MAP_PROJECTION_TYPE = SINUSOIDAL
  MAP_RESOLUTION = 2370.85521546667
  MAP_SCALE = 0.025
  MAXIMUM_LATITUDE = -44.7261
  MINIMUM_LATITUDE = -56.1345
  POSITIVE_LONGITUDE_DIRECTION = EAST
  REFERENCE_LATITUDE = "N/A"
  REFERENCE_LONGITUDE = "N/A"
  SAMPLE_FIRST_PIXEL = 1
  SAMPLE_LAST_PIXEL = 5290
  SAMPLE_PROJECTION_OFFSET = 1766.25
  SECOND_STANDARD_PARALLEL = "N/A"
  WESTERNMOST_LONGITUDE = 171.686
END_OBJECT = IMAGE_MAP_PROJECTION
/* The JPEG2000 image data file associated with this label. */
OBJECT = COMPRESSED_FILE
  FILE_NAME = "H4524_0000_P23.JP2"
  RECORD_TYPE = UNDEFINED
  FILE_RECORDS = UNK
  ENCODING_TYPE = "JP2"
  INTERCHANGE_FORMAT = BINARY
  UNCOMPRESSED_FILE_NAME = "H4524_0000_P23.IMG"
  REQUIRED_STORAGE_BYTES = "143829810"
  ^DESCRIPTION = "JP2INFO.TXT"
END_OBJECT = COMPRESSED_FILE
END
