PDS_VERSION_ID = PDS3
/* FILE DATA ELEMENTS */
RECORD_TYPE = STREAM
/* POINTERS TO DATA OBJECTS */
^COMPRESSED_FILE = "H4527_0000_P13.JP2"
/* IDENTIFICATION DATA ELEMENTS */
DATA_SET_ID = "MEX-M-HRSC-5-REFDR-MAPPROJECTED-V3.0"
DATA_SET_NAME = "MARS EXPRESS HRSC MAP PROJECTED REFDR V3.0"
DETECTOR_ID = MEX_HRSC_P1
EVENT_TYPE = "MARS-LOCAL-STEREO-Gl-La"
INSTRUMENT_HOST_ID = MEX
INSTRUMENT_HOST_NAME = "MARS EXPRESS"
INSTRUMENT_ID = HRSC
INSTRUMENT_NAME = "HIGH RESOLUTION STEREO CAMERA"
MISSION_NAME = "MARS EXPRESS"
MISSION_PHASE_NAME = ME_Phase_8
PROCESSING_LEVEL_ID = 3
PRODUCT_CREATION_TIME = 2016-04-25T16:23:03.000Z
PRODUCT_ID = "H4527_0000_P13.JP2"
RELEASE_ID = 0052
REVISION_ID = 0000
/* QUALITY DATA ELEMENTS */
DATA_QUALITY_ID = 1
DATA_QUALITY_DESC = "Data calculated based on original SPICE kernels"
/* TIME DATA ELEMENTS */
SPACECRAFT_CLOCK_START_COUNT = "1/0132476527.08434"
SPACECRAFT_CLOCK_STOP_COUNT = "1/0132476718.26232"
START_TIME = 2007-07-14T07:02:22.927Z
STOP_TIME = 2007-07-14T07:04:33.676Z
/* ORBITAL DATA ELEMENTS */
ASCENDING_NODE_LONGITUDE = 133.62
MAXIMUM_RESOLUTION = 25.4
FOOTPRINT_POINT_LATITUDE = (-85.727,-85.8292,-85.9277,-86.0218, -86.1106,-86.193,-86.2984,-86.554, -86.7188,-86.8807,-87.0427,-87.205, -87.367,-87.6071,-87.8447,-88.0019, -88.1555,-88.3069,-88.4515,-88.5921, -88.788,-88.9065,-89.0086,-89.1216, -89.1609,-89.1562,-89.1106,-88.9902, -88.825,-88.6973,-88.56,-88.4154, -88.2702,-88.1212,-87.9695,-87.8154, -87.6592,-87.4217,-87.1817,-87.0205, -86.8589,-86.6965,-86.5331,-86.3685, -86.2039,-86.0393,-85.8771,-85.557, -85.3961,-85.2351,-84.9719,-84.9465, -84.9144,-84.8762,-84.7936,-84.8125, -85.0358,-85.1835,-85.4753,-85.6936, -85.8402,-85.9851,-86.1278,-86.2683, -86.4063,-86.6081,-86.7386,-86.9275, -87.0482,-87.164,-87.2744,-87.3786, -87.4757,-87.5658,-87.65,-87.7237, -87.7841,-87.8344,-87.8853,-87.902, -87.9008,-87.8823,-87.8505,-87.7792, -87.7161,-87.6436,-87.5604,-87.4689, -87.3699,-87.2639,-87.0949,-86.9744, -86.8493,-86.7211,-86.5891,-86.4545, -86.3174,-86.1074,-85.9649,-85.727)
FOOTPRINT_POINT_LONGITUDE = (96.0477,93.9468,91.6944,89.2775, 86.6907,83.925,79.6159,78.6738,79.3613, 80.1678,81.0523,82.0215,83.1031,85.0211 ,87.3595,89.2051,91.3938,93.9574, 97.0818,100.812,107.999,114.145,121.685 ,135.878,147.023,164.629,175.612, 189.484,200.075,205.525,210.021,213.564 ,216.402,218.886,220.864,222.595, 224.153,226.171,227.817,228.757,229.562 ,230.3,230.992,231.672,232.25,232.76, 233.192,234.012,234.396,234.748,233.951 ,231.702,229.545,227.473,223.929, 221.585,220.462,219.654,217.883,216.368 ,215.252,214.044,212.757,211.372, 209.882,207.42,205.626,202.65,200.435, 198.042,195.469,192.666,189.614,186.411 ,182.88,179.018,174.799,170.491,163.71, 159.051,152.011,147.369,142.847,136.386 ,132.331,128.529,124.965,121.654, 118.588,115.755,111.914,109.602,107.473 ,105.511,103.701,102.029,100.482,98.372 ,97.0908,96.0477)
ORBIT_NUMBER = 4527
ORBITAL_ECCENTRICITY = 0.57
ORBITAL_INCLINATION = 86.7
ORBITAL_SEMIMAJOR_AXIS = 8532.23
PERIAPSIS_ALTITUDE = 292.33
PERIAPSIS_ARGUMENT_ANGLE = 281.1
PERIAPSIS_TIME = 2007-07-14T07:06:25.000Z
SPACECRAFT_ORIENTATION = (0.0,-1.0,0.0)
^MEX_ORIENTATION_DESC = "MEX_ORIENTATION_DESC.TXT"
SPACECRAFT_POINTING_MODE = ACROSSTRACK
^MEX_POINTING_DESC = "MEX_POINTING_DESC.TXT"
RIGHT_ASCENSION = -1e+32
DECLINATION = -1e+32
OFFSET_ANGLE = -1.71
SPACECRAFT_SOLAR_DISTANCE = 2.08346e+08
TARGET_NAME = MARS
/* CAMERA DATA ELEMENTS */
DETECTOR_TEMPERATURE = 17.7588
FOCAL_PLANE_TEMPERATURE = 8.5833
INST_CMPRS_NAME = "DISCRETE COSINE TRANSFORMATION (DCT)"
INST_CMPRS_RATIO = 17.1105
INST_CMPRS_QUALITY = 0
INST_CMPRS_QUANTZ_TBL_ID = 0
INSTRUMENT_TEMPERATURE = 11.8457
LENS_TEMPERATURE = 9.195
MACROPIXEL_SIZE = 2
MISSING_FRAMES = 0
PIXEL_SUBSAMPLING_FLAG = N
SIGNAL_CHAIN_ID = 3
/* RADIOMETRIC DATA ELEMENTS */
BANDWIDTH = 174.0
CENTER_FILTER_WAVELENGTH = 675.0
RADIANCE_OFFSET = 6.65705
RADIANCE_SCALING_FACTOR = 0.0213389
REFLECTANCE_SCALING_FACTOR = 0.000498226
MEX:REFLECTANCE_OFFSET = 0.155431
/* IMAGE OBJECT DEFINITIONS */
OBJECT = IMAGE
  INTERCHANGE_FORMAT = BINARY
  LINES = 11000
  LINE_SAMPLES = 19355
  SAMPLE_TYPE = UNSIGNED_INTEGER
  SAMPLE_BITS = 8
  BANDS = 1
  BAND_STORAGE_TYPE = BAND_SEQUENTIAL
  MAXIMUM = 255
  MEAN = 62.1497
  MINIMUM = 1
  STANDARD_DEVIATION = 40.1115
END_OBJECT = IMAGE
/* MAP OBJECT DEFINITIONS */
OBJECT = IMAGE_MAP_PROJECTION
  ^DATA_SET_MAP_PROJECTION_CATALOG= "DSMAP.CAT"
  A_AXIS_RADIUS = 3396.0
  B_AXIS_RADIUS = 3396.0
  C_AXIS_RADIUS = 3396.0
  CENTER_LATITUDE = -90.0
  CENTER_LONGITUDE = 0.0
  COORDINATE_SYSTEM_NAME = PLANETOGRAPHIC
  COORDINATE_SYSTEM_TYPE = "BODY-FIXED ROTATING"
  EASTERNMOST_LONGITUDE = 234.748
  FIRST_STANDARD_PARALLEL = "N/A"
  LINE_FIRST_PIXEL = 1
  LINE_LAST_PIXEL = 11000
  LINE_PROJECTION_OFFSET = 1497.25
  MAP_PROJECTION_ROTATION = 0.0
  MAP_PROJECTION_TYPE = STEREOGRAPHIC
  MAP_RESOLUTION = 2370.85521546667
  MAP_SCALE = 0.025
  MAXIMUM_LATITUDE = -84.7936
  MINIMUM_LATITUDE = -89.1609
  POSITIVE_LONGITUDE_DIRECTION = EAST
  REFERENCE_LATITUDE = "N/A"
  REFERENCE_LONGITUDE = "N/A"
  SAMPLE_FIRST_PIXEL = 1
  SAMPLE_LAST_PIXEL = 19355
  SAMPLE_PROJECTION_OFFSET = 9579.75
  SECOND_STANDARD_PARALLEL = "N/A"
  WESTERNMOST_LONGITUDE = 78.6738
END_OBJECT = IMAGE_MAP_PROJECTION
/* The JPEG2000 image data file associated with this label. */
OBJECT = COMPRESSED_FILE
  FILE_NAME = "H4527_0000_P13.JP2"
  RECORD_TYPE = UNDEFINED
  FILE_RECORDS = UNK
  ENCODING_TYPE = "JP2"
  INTERCHANGE_FORMAT = BINARY
  UNCOMPRESSED_FILE_NAME = "H4527_0000_P13.IMG"
  REQUIRED_STORAGE_BYTES = "212963065"
  ^DESCRIPTION = "JP2INFO.TXT"
END_OBJECT = COMPRESSED_FILE
END
