PDS_VERSION_ID = PDS3
/* FILE DATA ELEMENTS */
RECORD_TYPE = STREAM
/* POINTERS TO DATA OBJECTS */
^COMPRESSED_FILE = "H4528_0000_S23.JP2"
/* IDENTIFICATION DATA ELEMENTS */
DATA_SET_ID = "MEX-M-HRSC-5-REFDR-MAPPROJECTED-V3.0"
DATA_SET_NAME = "MARS EXPRESS HRSC MAP PROJECTED REFDR V3.0"
DETECTOR_ID = MEX_HRSC_S2
EVENT_TYPE = "MARS-REGIONAL-MAPPING-Im-Gl-La"
INSTRUMENT_HOST_ID = MEX
INSTRUMENT_HOST_NAME = "MARS EXPRESS"
INSTRUMENT_ID = HRSC
INSTRUMENT_NAME = "HIGH RESOLUTION STEREO CAMERA"
MISSION_NAME = "MARS EXPRESS"
MISSION_PHASE_NAME = ME_Phase_8
PROCESSING_LEVEL_ID = 3
PRODUCT_CREATION_TIME = 2016-04-25T16:23:03.000Z
PRODUCT_ID = "H4528_0000_S23.JP2"
RELEASE_ID = 0052
REVISION_ID = 0000
/* QUALITY DATA ELEMENTS */
DATA_QUALITY_ID = 1
DATA_QUALITY_DESC = "Data calculated based on original SPICE kernels"
/* TIME DATA ELEMENTS */
SPACECRAFT_CLOCK_START_COUNT = "1/0132500934.09040"
SPACECRAFT_CLOCK_STOP_COUNT = "1/0132501141.17693"
START_TIME = 2007-07-14T13:49:50.055Z
STOP_TIME = 2007-07-14T13:52:23.330Z
/* ORBITAL DATA ELEMENTS */
ASCENDING_NODE_LONGITUDE = 133.59
MAXIMUM_RESOLUTION = 24.7
FOOTPRINT_POINT_LATITUDE = (-79.2119,-79.3292,-79.4071,-79.4671, -79.6036,-79.41,-79.219,-79.0329, -78.8428,-78.6485,-78.3639,-78.1727, -77.8853,-77.6947,-77.5043,-77.3144, -77.1245,-76.9332,-76.7403,-76.5413, -76.2442,-76.0456,-75.8477,-75.6493, -75.4507,-75.2529,-75.0552,-74.8575, -74.6593,-74.462,-74.2644,-74.0662, -73.8687,-73.5732,-73.3758,-73.179, -72.8841,-72.6878,-72.4928,-72.3021, -72.1036,-71.9012,-71.6997,-71.4971, -71.2933,-71.091,-70.8878,-70.5846, -70.3821,-70.1798,-69.9774,-69.7754, -69.7206,-69.6672,-69.6295,-69.5941, -69.7961,-69.9978,-70.1985,-70.3989, -70.5995,-70.799,-71.0018,-71.2035, -71.4045,-71.7058,-71.9043,-72.101, -72.399,-72.5937,-72.785,-72.9798, -73.1741,-73.4615,-73.6564,-73.8521, -74.0473,-74.2422,-74.4366,-74.6304, -74.8248,-75.0193,-75.2144,-75.5097, -75.7062,-75.8988,-76.1901,-76.3839, -76.5761,-76.8571,-77.0457,-77.3263, -77.5136,-77.6932,-77.9776,-78.257, -78.4426,-78.7211,-78.9081,-79.2119)
FOOTPRINT_POINT_LONGITUDE = (125.834,127.685,129.037,130.162, 130.838,131.115,131.384,131.643,131.893 ,132.133,132.48,132.701,133.019,133.223 ,133.421,133.612,133.798,133.977, 134.152,134.327,134.581,134.743,134.901 ,135.054,135.203,135.348,135.489, 135.626,135.759,135.888,136.015,136.137 ,136.257,136.431,136.543,136.652, 136.812,136.915,137.016,137.117,137.215 ,137.312,137.408,137.501,137.59,137.679 ,137.765,137.89,137.972,138.051,138.129 ,138.205,137.475,136.372,135.67,135.051 ,134.953,134.853,134.752,134.65,134.545 ,134.439,134.326,134.212,134.096, 133.917,133.798,133.676,133.476,133.345 ,133.217,133.079,132.939,132.73,132.579 ,132.423,132.264,132.1,131.934,131.764, 131.587,131.406,131.218,130.918,130.712 ,130.509,130.186,129.963,129.735, 129.386,129.14,128.763,128.5,128.252, 127.816,127.372,127.065,126.582,126.239 ,125.834)
ORBIT_NUMBER = 4528
ORBITAL_ECCENTRICITY = 0.57
ORBITAL_INCLINATION = 86.69
ORBITAL_SEMIMAJOR_AXIS = 8534.37
PERIAPSIS_ALTITUDE = 293.64
PERIAPSIS_ARGUMENT_ANGLE = 280.94
PERIAPSIS_TIME = 2007-07-14T13:49:38.000Z
SPACECRAFT_ORIENTATION = (0.0,-1.0,0.0)
^MEX_ORIENTATION_DESC = "MEX_ORIENTATION_DESC.TXT"
SPACECRAFT_POINTING_MODE = NADIR
^MEX_POINTING_DESC = "MEX_POINTING_DESC.TXT"
RIGHT_ASCENSION = -1e+32
DECLINATION = -1e+32
OFFSET_ANGLE = -1e+32
SPACECRAFT_SOLAR_DISTANCE = 2.08369e+08
TARGET_NAME = MARS
/* CAMERA DATA ELEMENTS */
DETECTOR_TEMPERATURE = 18.5744
FOCAL_PLANE_TEMPERATURE = 7.9716
INST_CMPRS_NAME = "DISCRETE COSINE TRANSFORMATION (DCT)"
INST_CMPRS_RATIO = 11.5242
INST_CMPRS_QUALITY = 0
INST_CMPRS_QUANTZ_TBL_ID = 0
INSTRUMENT_TEMPERATURE = 11.6418
LENS_TEMPERATURE = 8.7872
MACROPIXEL_SIZE = 2
MISSING_FRAMES = 0
PIXEL_SUBSAMPLING_FLAG = N
SIGNAL_CHAIN_ID = 1
/* RADIOMETRIC DATA ELEMENTS */
BANDWIDTH = 178.0
CENTER_FILTER_WAVELENGTH = 679.0
RADIANCE_OFFSET = 9.5126
RADIANCE_SCALING_FACTOR = 0.013728
REFLECTANCE_SCALING_FACTOR = 0.000315648
MEX:REFLECTANCE_OFFSET = 0.218724
/* IMAGE OBJECT DEFINITIONS */
OBJECT = IMAGE
  INTERCHANGE_FORMAT = BINARY
  LINES = 23727
  LINE_SAMPLES = 7023
  SAMPLE_TYPE = UNSIGNED_INTEGER
  SAMPLE_BITS = 8
  BANDS = 1
  BAND_STORAGE_TYPE = BAND_SEQUENTIAL
  MAXIMUM = 253
  MEAN = 116.307
  MINIMUM = 1
  STANDARD_DEVIATION = 47.374
END_OBJECT = IMAGE
/* MAP OBJECT DEFINITIONS */
OBJECT = IMAGE_MAP_PROJECTION
  ^DATA_SET_MAP_PROJECTION_CATALOG= "DSMAP.CAT"
  A_AXIS_RADIUS = 3396.0
  B_AXIS_RADIUS = 3396.0
  C_AXIS_RADIUS = 3396.0
  CENTER_LATITUDE = 0.0
  CENTER_LONGITUDE = 134.0
  COORDINATE_SYSTEM_NAME = PLANETOGRAPHIC
  COORDINATE_SYSTEM_TYPE = "BODY-FIXED ROTATING"
  EASTERNMOST_LONGITUDE = 138.205
  FIRST_STANDARD_PARALLEL = "N/A"
  LINE_FIRST_PIXEL = 1
  LINE_LAST_PIXEL = 23727
  LINE_PROJECTION_OFFSET = -165057.75
  MAP_PROJECTION_ROTATION = 0.0
  MAP_PROJECTION_TYPE = SINUSOIDAL
  MAP_RESOLUTION = 2370.85521546667
  MAP_SCALE = 0.025
  MAXIMUM_LATITUDE = -69.5941
  MINIMUM_LATITUDE = -79.6036
  POSITIVE_LONGITUDE_DIRECTION = EAST
  REFERENCE_LATITUDE = "N/A"
  REFERENCE_LONGITUDE = "N/A"
  SAMPLE_FIRST_PIXEL = 1
  SAMPLE_LAST_PIXEL = 7023
  SAMPLE_PROJECTION_OFFSET = 3690.25
  SECOND_STANDARD_PARALLEL = "N/A"
  WESTERNMOST_LONGITUDE = 125.834
END_OBJECT = IMAGE_MAP_PROJECTION
/* The JPEG2000 image data file associated with this label. */
OBJECT = COMPRESSED_FILE
  FILE_NAME = "H4528_0000_S23.JP2"
  RECORD_TYPE = UNDEFINED
  FILE_RECORDS = UNK
  ENCODING_TYPE = "JP2"
  INTERCHANGE_FORMAT = BINARY
  UNCOMPRESSED_FILE_NAME = "H4528_0000_S23.IMG"
  REQUIRED_STORAGE_BYTES = "166669836"
  ^DESCRIPTION = "JP2INFO.TXT"
END_OBJECT = COMPRESSED_FILE
END
