PDS_VERSION_ID = PDS3
/* FILE DATA ELEMENTS */
RECORD_TYPE = STREAM
/* POINTERS TO DATA OBJECTS */
^COMPRESSED_FILE = "H4529_0009_ND3.JP2"
/* IDENTIFICATION DATA ELEMENTS */
DATA_SET_ID = "MEX-M-HRSC-5-REFDR-MAPPROJECTED-V3.0"
DATA_SET_NAME = "MARS EXPRESS HRSC MAP PROJECTED REFDR V3.0"
DETECTOR_ID = MEX_HRSC_NADIR
EVENT_TYPE = "MARS-REGIONAL-MAPPING-Gl-Eo-La"
INSTRUMENT_HOST_ID = MEX
INSTRUMENT_HOST_NAME = "MARS EXPRESS"
INSTRUMENT_ID = HRSC
INSTRUMENT_NAME = "HIGH RESOLUTION STEREO CAMERA"
MISSION_NAME = "MARS EXPRESS"
MISSION_PHASE_NAME = ME_Phase_8
PROCESSING_LEVEL_ID = 3
PRODUCT_CREATION_TIME = 2016-04-25T16:23:03.000Z
PRODUCT_ID = "H4529_0009_ND3.JP2"
RELEASE_ID = 0052
REVISION_ID = 0000
/* QUALITY DATA ELEMENTS */
DATA_QUALITY_ID = 1
DATA_QUALITY_DESC = "Data calculated based on original SPICE kernels"
/* TIME DATA ELEMENTS */
SPACECRAFT_CLOCK_START_COUNT = "1/0132525009.07309"
SPACECRAFT_CLOCK_STOP_COUNT = "1/0132525182.40074"
START_TIME = 2007-07-14T20:30:43.026Z
STOP_TIME = 2007-07-14T20:32:37.029Z
/* ORBITAL DATA ELEMENTS */
ASCENDING_NODE_LONGITUDE = 133.57
MAXIMUM_RESOLUTION = 12.1
FOOTPRINT_POINT_LATITUDE = (-86.8396,-86.9482,-87.0535,-87.1546, -87.2499,-87.3381,-87.4399,-87.3325, -87.1813,-87.0294,-86.8775,-86.7252, -86.5762,-86.4273,-86.2783,-86.129, -85.9795,-85.8297,-85.6804,-85.53, -85.3797,-85.2292,-85.0787,-84.928, -84.7768,-84.6257,-84.4746,-84.3235, -84.1724,-84.0212,-83.8697,-83.7179, -83.5661,-83.4142,-83.2623,-83.1103, -82.9582,-82.8062,-82.654,-82.5018, -82.3496,-82.1973,-82.0451,-81.8928, -81.7438,-81.4494,-81.1552,-80.8606, -80.5659,-80.271,-80.1233,-79.9618, -79.9418,-79.9162,-79.8866,-79.8422, -79.8121,-80.102,-80.3914,-80.6804, -80.9689,-81.2569,-81.4726,-81.7636, -81.9119,-82.06,-82.208,-82.3556, -82.503,-82.6502,-82.7972,-82.944, -83.0905,-83.2365,-83.3825,-83.5274, -83.6723,-83.8169,-83.9611,-84.1049, -84.2484,-84.3907,-84.5328,-84.6741, -84.815,-84.9553,-85.095,-85.2341, -85.3708,-85.5073,-85.643,-85.7775, -85.9108,-86.0426,-86.1734,-86.3028, -86.4339,-86.5626,-86.6889,-86.8396)
FOOTPRINT_POINT_LONGITUDE = (7.83143,10.2689,12.9527,15.9127, 19.1696,22.7518,27.9851,31.7724,32.6736 ,33.4836,34.259,34.9649,35.5309,36.048, 36.5418,36.9943,37.4141,37.8044,38.2157 ,38.5411,38.859,39.1583,39.4526,39.7248 ,39.9531,40.184,40.412,40.6306,40.8488, 41.0581,41.2386,41.396,41.5537,41.7026, 41.8435,41.9795,42.1092,42.2347,42.3554 ,42.4683,42.5804,42.6898,42.7965, 42.9021,42.9898,43.1613,43.3463,43.4939 ,43.6333,43.7608,43.8023,43.4945, 42.2077,40.8972,39.6407,38.0535,37.1111 ,36.7926,36.4527,36.0902,35.7033, 35.2917,34.9636,34.4921,34.2365,33.97, 33.6974,33.4075,33.1064,32.7953,32.4713 ,32.1362,31.7865,31.4167,31.0378, 30.6202,30.1942,29.7508,29.2877,28.8039 ,28.2975,27.7487,27.1805,26.5778, 25.9488,25.286,24.5897,23.8586,23.043, 22.1989,21.3091,20.3629,19.3539,18.2784 ,17.138,15.8496,14.4832,13.0116,11.4267 ,7.83143)
ORBIT_NUMBER = 4529
ORBITAL_ECCENTRICITY = 0.57
ORBITAL_INCLINATION = 86.69
ORBITAL_SEMIMAJOR_AXIS = 8533.67
PERIAPSIS_ALTITUDE = 293.1
PERIAPSIS_ARGUMENT_ANGLE = 280.77
PERIAPSIS_TIME = 2007-07-14T20:32:48.000Z
SPACECRAFT_ORIENTATION = (0.0,-1.0,0.0)
^MEX_ORIENTATION_DESC = "MEX_ORIENTATION_DESC.TXT"
SPACECRAFT_POINTING_MODE = ACROSSTRACK
^MEX_POINTING_DESC = "MEX_POINTING_DESC.TXT"
RIGHT_ASCENSION = -1e+32
DECLINATION = -1e+32
OFFSET_ANGLE = -1.8
SPACECRAFT_SOLAR_DISTANCE = 2.08392e+08
TARGET_NAME = MARS
/* CAMERA DATA ELEMENTS */
DETECTOR_TEMPERATURE = 18.9822
FOCAL_PLANE_TEMPERATURE = 9.3989
INST_CMPRS_NAME = "DISCRETE COSINE TRANSFORMATION (DCT)"
INST_CMPRS_RATIO = 6.36859
INST_CMPRS_QUALITY = 0
INST_CMPRS_QUANTZ_TBL_ID = 0
INSTRUMENT_TEMPERATURE = 14.2925
LENS_TEMPERATURE = 9.8067
MACROPIXEL_SIZE = 1
MISSING_FRAMES = 0
PIXEL_SUBSAMPLING_FLAG = N
SIGNAL_CHAIN_ID = 0
/* RADIOMETRIC DATA ELEMENTS */
BANDWIDTH = 177.0
CENTER_FILTER_WAVELENGTH = 677.5
RADIANCE_OFFSET = 7.59722
RADIANCE_SCALING_FACTOR = 0.029793
REFLECTANCE_SCALING_FACTOR = 0.000687326
MEX:REFLECTANCE_OFFSET = 0.175268
/* IMAGE OBJECT DEFINITIONS */
OBJECT = IMAGE
  INTERCHANGE_FORMAT = BINARY
  LINES = 36254
  LINE_SAMPLES = 13978
  SAMPLE_TYPE = UNSIGNED_INTEGER
  SAMPLE_BITS = 8
  BANDS = 1
  BAND_STORAGE_TYPE = BAND_SEQUENTIAL
  MAXIMUM = 255
  MEAN = 121.766
  MINIMUM = 1
  STANDARD_DEVIATION = 78.6621
END_OBJECT = IMAGE
/* MAP OBJECT DEFINITIONS */
OBJECT = IMAGE_MAP_PROJECTION
  ^DATA_SET_MAP_PROJECTION_CATALOG= "DSMAP.CAT"
  A_AXIS_RADIUS = 3396.0
  B_AXIS_RADIUS = 3396.0
  C_AXIS_RADIUS = 3396.0
  CENTER_LATITUDE = 0.0
  CENTER_LONGITUDE = 36.0
  COORDINATE_SYSTEM_NAME = PLANETOGRAPHIC
  COORDINATE_SYSTEM_TYPE = "BODY-FIXED ROTATING"
  EASTERNMOST_LONGITUDE = 43.8023
  FIRST_STANDARD_PARALLEL = "N/A"
  LINE_FIRST_PIXEL = 1
  LINE_LAST_PIXEL = 36254
  LINE_PROJECTION_OFFSET = -378372.0
  MAP_PROJECTION_ROTATION = 0.0
  MAP_PROJECTION_TYPE = SINUSOIDAL
  MAP_RESOLUTION = 4741.71043093333
  MAP_SCALE = 0.0125
  MAXIMUM_LATITUDE = -79.8121
  MINIMUM_LATITUDE = -87.43989999999999
  POSITIVE_LONGITUDE_DIRECTION = EAST
  REFERENCE_LATITUDE = "N/A"
  REFERENCE_LONGITUDE = "N/A"
  SAMPLE_FIRST_PIXEL = 1
  SAMPLE_LAST_PIXEL = 13978
  SAMPLE_PROJECTION_OFFSET = 7363.0
  SECOND_STANDARD_PARALLEL = "N/A"
  WESTERNMOST_LONGITUDE = 7.83143
END_OBJECT = IMAGE_MAP_PROJECTION
/* The JPEG2000 image data file associated with this label. */
OBJECT = COMPRESSED_FILE
  FILE_NAME = "H4529_0009_ND3.JP2"
  RECORD_TYPE = UNDEFINED
  FILE_RECORDS = UNK
  ENCODING_TYPE = "JP2"
  INTERCHANGE_FORMAT = BINARY
  UNCOMPRESSED_FILE_NAME = "H4529_0009_ND3.IMG"
  REQUIRED_STORAGE_BYTES = "506800346"
  ^DESCRIPTION = "JP2INFO.TXT"
END_OBJECT = COMPRESSED_FILE
END
