PDS_VERSION_ID = PDS3
/* FILE DATA ELEMENTS */
RECORD_TYPE = STREAM
/* POINTERS TO DATA OBJECTS */
^COMPRESSED_FILE = "H4530_0000_GR3.JP2"
/* IDENTIFICATION DATA ELEMENTS */
DATA_SET_ID = "MEX-M-HRSC-5-REFDR-MAPPROJECTED-V3.0"
DATA_SET_NAME = "MARS EXPRESS HRSC MAP PROJECTED REFDR V3.0"
DETECTOR_ID = MEX_HRSC_GREEN
EVENT_TYPE = "MARS-REGIONAL-MAPPING-Gl-Eo-La"
INSTRUMENT_HOST_ID = MEX
INSTRUMENT_HOST_NAME = "MARS EXPRESS"
INSTRUMENT_ID = HRSC
INSTRUMENT_NAME = "HIGH RESOLUTION STEREO CAMERA"
MISSION_NAME = "MARS EXPRESS"
MISSION_PHASE_NAME = ME_Phase_8
PROCESSING_LEVEL_ID = 3
PRODUCT_CREATION_TIME = 2016-04-25T16:23:03.000Z
PRODUCT_ID = "H4530_0000_GR3.JP2"
RELEASE_ID = 0052
REVISION_ID = 0000
/* QUALITY DATA ELEMENTS */
DATA_QUALITY_ID = 1
DATA_QUALITY_DESC = "Data calculated based on original SPICE kernels"
/* TIME DATA ELEMENTS */
SPACECRAFT_CLOCK_START_COUNT = "1/0132549242.09067"
SPACECRAFT_CLOCK_STOP_COUNT = "1/0132549406.09772"
START_TIME = 2007-07-15T03:14:30.371Z
STOP_TIME = 2007-07-15T03:16:15.606Z
/* ORBITAL DATA ELEMENTS */
ASCENDING_NODE_LONGITUDE = 133.55
MAXIMUM_RESOLUTION = 48.1
FOOTPRINT_POINT_LATITUDE = (-84.884,-84.9418,-84.9966,-85.0481, -85.0955,-85.1384,-85.1763,-85.2056, -85.0658,-84.8559,-84.6458,-84.5055, -84.2949,-84.0841,-83.8731,-83.7324, -83.5916,-83.4507,-83.3097,-83.1686, -82.957,-82.8158,-82.6745,-82.4626, -82.3212,-82.1091,-81.9676,-81.8261, -81.6846,-81.543,-81.4051,-81.2683, -81.1315,-80.9947,-80.8578,-80.721, -80.5841,-80.4471,-80.2417,-80.1047, -79.9677,-79.7621,-79.5567,-79.4196, -79.2138,-79.0767,-78.871,-78.7338, -78.5967,-78.4595,-78.3222,-78.2056, -78.1917,-78.1799,-78.1644,-78.1495, -78.1334,-78.1136,-78.3168,-78.4523, -78.6554,-78.8585,-78.9937,-79.1289, -79.3988,-79.5337,-79.8033,-80.0054, -80.14,-80.2745,-80.4089,-80.6774, -80.8115,-81.0125,-81.1463,-81.2799, -81.4157,-81.5538,-81.6919,-81.8297, -82.0362,-82.2423,-82.3794,-82.5846, -82.7213,-82.8576,-82.9938,-83.1295, -83.2651,-83.4003,-83.5353,-83.6699, -83.8711,-84.0049,-84.1382,-84.3373, -84.4695,-84.6012,-84.7323,-84.884)
FOOTPRINT_POINT_LONGITUDE = (286.518,288.177,289.916,291.741,293.65 ,295.648,297.738,300.943,301.205, 301.557,301.921,302.128,302.414,302.686 ,302.931,303.082,303.227,303.369, 303.504,303.644,303.838,303.956,304.071 ,304.23,304.332,304.474,304.569,304.656 ,304.743,304.827,304.906,304.98,305.052 ,305.121,305.189,305.251,305.313,305.37 ,305.457,305.512,305.565,305.653, 305.708,305.758,305.835,305.885,305.946 ,305.99,306.029,306.069,306.113,304.976 ,303.966,303.249,302.45,301.772,301.112 ,300.363,300.21,300.101,299.932,299.734 ,299.61,299.488,299.262,299.123,298.868 ,298.652,298.501,298.333,298.17,297.847 ,297.663,297.376,297.191,296.997, 296.779,296.552,296.334,296.103,295.743 ,295.371,295.098,294.664,294.376, 294.072,293.765,293.416,293.069,292.708 ,292.334,291.943,291.322,290.887, 290.431,289.707,289.195,288.658,288.093 ,286.518)
ORBIT_NUMBER = 4530
ORBITAL_ECCENTRICITY = 0.57
ORBITAL_INCLINATION = 86.69
ORBITAL_SEMIMAJOR_AXIS = 8532.29
PERIAPSIS_ALTITUDE = 293.29
PERIAPSIS_ARGUMENT_ANGLE = 280.61
PERIAPSIS_TIME = 2007-07-15T03:16:03.000Z
SPACECRAFT_ORIENTATION = (0.0,-1.0,0.0)
^MEX_ORIENTATION_DESC = "MEX_ORIENTATION_DESC.TXT"
SPACECRAFT_POINTING_MODE = ACROSSTRACK
^MEX_POINTING_DESC = "MEX_POINTING_DESC.TXT"
RIGHT_ASCENSION = -1e+32
DECLINATION = -1e+32
OFFSET_ANGLE = -1.8
SPACECRAFT_SOLAR_DISTANCE = 2.08416e+08
TARGET_NAME = MARS
/* CAMERA DATA ELEMENTS */
DETECTOR_TEMPERATURE = 18.3705
FOCAL_PLANE_TEMPERATURE = 8.9911
INST_CMPRS_NAME = "DISCRETE COSINE TRANSFORMATION (DCT)"
INST_CMPRS_RATIO = 14.4352
INST_CMPRS_QUALITY = 0
INST_CMPRS_QUANTZ_TBL_ID = 0
INSTRUMENT_TEMPERATURE = 11.234
LENS_TEMPERATURE = 9.6028
MACROPIXEL_SIZE = 4
MISSING_FRAMES = 0
PIXEL_SUBSAMPLING_FLAG = N
SIGNAL_CHAIN_ID = 2
/* RADIOMETRIC DATA ELEMENTS */
BANDWIDTH = 88.0
CENTER_FILTER_WAVELENGTH = 538.0
RADIANCE_OFFSET = 2.99465
RADIANCE_SCALING_FACTOR = 0.0189302
REFLECTANCE_SCALING_FACTOR = 0.000707955
MEX:REFLECTANCE_OFFSET = 0.111995
/* IMAGE OBJECT DEFINITIONS */
OBJECT = IMAGE
  INTERCHANGE_FORMAT = BINARY
  LINES = 8418
  LINE_SAMPLES = 2774
  SAMPLE_TYPE = UNSIGNED_INTEGER
  SAMPLE_BITS = 8
  BANDS = 1
  BAND_STORAGE_TYPE = BAND_SEQUENTIAL
  MAXIMUM = 255
  MEAN = 110.615
  MINIMUM = 1
  STANDARD_DEVIATION = 74.9758
END_OBJECT = IMAGE
/* MAP OBJECT DEFINITIONS */
OBJECT = IMAGE_MAP_PROJECTION
  ^DATA_SET_MAP_PROJECTION_CATALOG= "DSMAP.CAT"
  A_AXIS_RADIUS = 3396.0
  B_AXIS_RADIUS = 3396.0
  C_AXIS_RADIUS = 3396.0
  CENTER_LATITUDE = 0.0
  CENTER_LONGITUDE = 301.0
  COORDINATE_SYSTEM_NAME = PLANETOGRAPHIC
  COORDINATE_SYSTEM_TYPE = "BODY-FIXED ROTATING"
  EASTERNMOST_LONGITUDE = 306.113
  FIRST_STANDARD_PARALLEL = "N/A"
  LINE_FIRST_PIXEL = 1
  LINE_LAST_PIXEL = 8418
  LINE_PROJECTION_OFFSET = -92563.375
  MAP_PROJECTION_ROTATION = 0.0
  MAP_PROJECTION_TYPE = SINUSOIDAL
  MAP_RESOLUTION = 1185.42760773333
  MAP_SCALE = 0.05
  MAXIMUM_LATITUDE = -78.11360000000001
  MINIMUM_LATITUDE = -85.2056
  POSITIVE_LONGITUDE_DIRECTION = EAST
  REFERENCE_LATITUDE = "N/A"
  REFERENCE_LONGITUDE = "N/A"
  SAMPLE_FIRST_PIXEL = 1
  SAMPLE_LAST_PIXEL = 2774
  SAMPLE_PROJECTION_OFFSET = 1521.625
  SECOND_STANDARD_PARALLEL = "N/A"
  WESTERNMOST_LONGITUDE = 286.518
END_OBJECT = IMAGE_MAP_PROJECTION
/* The JPEG2000 image data file associated with this label. */
OBJECT = COMPRESSED_FILE
  FILE_NAME = "H4530_0000_GR3.JP2"
  RECORD_TYPE = UNDEFINED
  FILE_RECORDS = UNK
  ENCODING_TYPE = "JP2"
  INTERCHANGE_FORMAT = BINARY
  UNCOMPRESSED_FILE_NAME = "H4530_0000_GR3.IMG"
  REQUIRED_STORAGE_BYTES = "23373724"
  ^DESCRIPTION = "JP2INFO.TXT"
END_OBJECT = COMPRESSED_FILE
END
