PDS_VERSION_ID = PDS3
/* FILE DATA ELEMENTS */
RECORD_TYPE = STREAM
/* POINTERS TO DATA OBJECTS */
^COMPRESSED_FILE = "H4531_0000_GR3.JP2"
/* IDENTIFICATION DATA ELEMENTS */
DATA_SET_ID = "MEX-M-HRSC-5-REFDR-MAPPROJECTED-V3.0"
DATA_SET_NAME = "MARS EXPRESS HRSC MAP PROJECTED REFDR V3.0"
DETECTOR_ID = MEX_HRSC_GREEN
EVENT_TYPE = "MARS-REGIONAL-MAPPING-Im-Gl-La"
INSTRUMENT_HOST_ID = MEX
INSTRUMENT_HOST_NAME = "MARS EXPRESS"
INSTRUMENT_ID = HRSC
INSTRUMENT_NAME = "HIGH RESOLUTION STEREO CAMERA"
MISSION_NAME = "MARS EXPRESS"
MISSION_PHASE_NAME = ME_Phase_8
PROCESSING_LEVEL_ID = 3
PRODUCT_CREATION_TIME = 2016-04-25T16:23:03.000Z
PRODUCT_ID = "H4531_0000_GR3.JP2"
RELEASE_ID = 0052
REVISION_ID = 0000
/* QUALITY DATA ELEMENTS */
DATA_QUALITY_ID = 1
DATA_QUALITY_DESC = "Data calculated based on original SPICE kernels"
/* TIME DATA ELEMENTS */
SPACECRAFT_CLOCK_START_COUNT = "1/0132573515.08409"
SPACECRAFT_CLOCK_STOP_COUNT = "1/0132573721.15824"
START_TIME = 2007-07-15T09:59:00.655Z
STOP_TIME = 2007-07-15T10:01:30.364Z
/* ORBITAL DATA ELEMENTS */
ASCENDING_NODE_LONGITUDE = 133.53
MAXIMUM_RESOLUTION = 46.2
FOOTPRINT_POINT_LATITUDE = (-79.4159,-79.5001,-79.5602,-79.6514, -79.4699,-79.2811,-79.092,-78.808, -78.6183,-78.4285,-78.2384,-78.0482, -77.8578,-77.6672,-77.381,-77.0945, -76.9033,-76.712,-76.5206,-76.329, -76.1375,-75.8499,-75.5617,-75.3694, -75.1775,-74.9855,-74.7933,-74.5964, -74.3965,-74.1965,-73.9967,-73.6972, -73.4982,-73.2982,-73.0982,-72.898, -72.6978,-72.4977,-72.2975,-72.0973, -71.8971,-71.6971,-71.397,-71.1969, -70.9969,-70.7968,-70.5967,-70.3967, -70.1898,-69.9825,-69.831,-69.7902, -69.7341,-69.807,-70.0128,-70.2186, -70.4171,-70.6154,-70.8139,-71.0121, -71.2105,-71.4089,-71.6071,-71.8052, -72.1023,-72.3003,-72.4986,-72.7956, -72.9935,-73.2902,-73.4879,-73.7841, -73.9815,-74.1787,-74.3757,-74.5705, -74.7601,-75.0442,-75.3276,-75.5163, -75.7049,-75.8936,-76.1761,-76.3642, -76.552,-76.7396,-76.9269,-77.1144, -77.3945,-77.5809,-77.767,-77.9527, -78.138,-78.3231,-78.508,-78.6924, -78.8763,-79.1516,-79.3347,-79.4159)
FOOTPRINT_POINT_LONGITUDE = (191.381,192.709,193.731,195.428, 196.175,196.444,196.704,197.078,197.317 ,197.547,197.771,197.987,198.196, 198.399,198.691,198.97,199.149,199.323, 199.492,199.656,199.814,200.044,200.269 ,200.415,200.552,200.685,200.816, 200.947,201.079,201.206,201.329,201.503 ,201.609,201.722,201.831,201.94,202.045 ,202.147,202.247,202.345,202.44,202.531 ,202.666,202.753,202.837,202.921, 203.002,203.083,203.163,203.241,202.602 ,201.775,200.75,200.18,200.079,199.976, 199.874,199.769,199.662,199.552,199.441 ,199.326,199.209,199.088,198.901, 198.773,198.642,198.44,198.3,198.084, 197.936,197.705,197.546,197.382,197.214 ,197.043,196.873,196.608,196.331,196.14 ,195.944,195.743,195.43,195.214,194.991 ,194.762,194.525,194.284,193.904, 193.641,193.369,193.089,192.799,192.5, 192.192,191.872,191.542,191.025,190.667 ,191.381)
ORBIT_NUMBER = 4531
ORBITAL_ECCENTRICITY = 0.57
ORBITAL_INCLINATION = 86.7
ORBITAL_SEMIMAJOR_AXIS = 8532.39
PERIAPSIS_ALTITUDE = 292.76
PERIAPSIS_ARGUMENT_ANGLE = 280.42
PERIAPSIS_TIME = 2007-07-15T09:59:12.000Z
SPACECRAFT_ORIENTATION = (0.0,-1.0,0.0)
^MEX_ORIENTATION_DESC = "MEX_ORIENTATION_DESC.TXT"
SPACECRAFT_POINTING_MODE = NADIR
^MEX_POINTING_DESC = "MEX_POINTING_DESC.TXT"
RIGHT_ASCENSION = -1e+32
DECLINATION = -1e+32
OFFSET_ANGLE = -1e+32
SPACECRAFT_SOLAR_DISTANCE = 2.0844e+08
TARGET_NAME = MARS
/* CAMERA DATA ELEMENTS */
DETECTOR_TEMPERATURE = 18.3705
FOCAL_PLANE_TEMPERATURE = 10.2145
INST_CMPRS_NAME = "DISCRETE COSINE TRANSFORMATION (DCT)"
INST_CMPRS_RATIO = 15.4678
INST_CMPRS_QUALITY = 0
INST_CMPRS_QUANTZ_TBL_ID = 0
INSTRUMENT_TEMPERATURE = 11.4379
LENS_TEMPERATURE = 9.195
MACROPIXEL_SIZE = 4
MISSING_FRAMES = 0
PIXEL_SUBSAMPLING_FLAG = N
SIGNAL_CHAIN_ID = 2
/* RADIOMETRIC DATA ELEMENTS */
BANDWIDTH = 88.0
CENTER_FILTER_WAVELENGTH = 538.0
RADIANCE_OFFSET = 2.87668
RADIANCE_SCALING_FACTOR = 0.00361248
REFLECTANCE_SCALING_FACTOR = 0.000135131
MEX:REFLECTANCE_OFFSET = 0.107607
/* IMAGE OBJECT DEFINITIONS */
OBJECT = IMAGE
  INTERCHANGE_FORMAT = BINARY
  LINES = 11785
  LINE_SAMPLES = 3535
  SAMPLE_TYPE = UNSIGNED_INTEGER
  SAMPLE_BITS = 8
  BANDS = 1
  BAND_STORAGE_TYPE = BAND_SEQUENTIAL
  MAXIMUM = 255
  MEAN = 133.739
  MINIMUM = 1
  STANDARD_DEVIATION = 65.2229
END_OBJECT = IMAGE
/* MAP OBJECT DEFINITIONS */
OBJECT = IMAGE_MAP_PROJECTION
  ^DATA_SET_MAP_PROJECTION_CATALOG= "DSMAP.CAT"
  A_AXIS_RADIUS = 3396.0
  B_AXIS_RADIUS = 3396.0
  C_AXIS_RADIUS = 3396.0
  CENTER_LATITUDE = 0.0
  CENTER_LONGITUDE = 199.0
  COORDINATE_SYSTEM_NAME = PLANETOGRAPHIC
  COORDINATE_SYSTEM_TYPE = "BODY-FIXED ROTATING"
  EASTERNMOST_LONGITUDE = 203.241
  FIRST_STANDARD_PARALLEL = "N/A"
  LINE_FIRST_PIXEL = 1
  LINE_LAST_PIXEL = 11785
  LINE_PROJECTION_OFFSET = -82628.875
  MAP_PROJECTION_ROTATION = 0.0
  MAP_PROJECTION_TYPE = SINUSOIDAL
  MAP_RESOLUTION = 1185.42760773333
  MAP_SCALE = 0.05
  MAXIMUM_LATITUDE = -69.7341
  MINIMUM_LATITUDE = -79.6514
  POSITIVE_LONGITUDE_DIRECTION = EAST
  REFERENCE_LATITUDE = "N/A"
  REFERENCE_LONGITUDE = "N/A"
  SAMPLE_FIRST_PIXEL = 1
  SAMPLE_LAST_PIXEL = 3535
  SAMPLE_PROJECTION_OFFSET = 1798.125
  SECOND_STANDARD_PARALLEL = "N/A"
  WESTERNMOST_LONGITUDE = 190.667
END_OBJECT = IMAGE_MAP_PROJECTION
/* The JPEG2000 image data file associated with this label. */
OBJECT = COMPRESSED_FILE
  FILE_NAME = "H4531_0000_GR3.JP2"
  RECORD_TYPE = UNDEFINED
  FILE_RECORDS = UNK
  ENCODING_TYPE = "JP2"
  INTERCHANGE_FORMAT = BINARY
  UNCOMPRESSED_FILE_NAME = "H4531_0000_GR3.IMG"
  REQUIRED_STORAGE_BYTES = "41684720"
  ^DESCRIPTION = "JP2INFO.TXT"
END_OBJECT = COMPRESSED_FILE
END
