PDS_VERSION_ID = PDS3
/* FILE DATA ELEMENTS */
RECORD_TYPE = STREAM
/* POINTERS TO DATA OBJECTS */
^COMPRESSED_FILE = "H4531_0000_IR3.JP2"
/* IDENTIFICATION DATA ELEMENTS */
DATA_SET_ID = "MEX-M-HRSC-5-REFDR-MAPPROJECTED-V3.0"
DATA_SET_NAME = "MARS EXPRESS HRSC MAP PROJECTED REFDR V3.0"
DETECTOR_ID = MEX_HRSC_IR
EVENT_TYPE = "MARS-REGIONAL-MAPPING-Im-Gl-La"
INSTRUMENT_HOST_ID = MEX
INSTRUMENT_HOST_NAME = "MARS EXPRESS"
INSTRUMENT_ID = HRSC
INSTRUMENT_NAME = "HIGH RESOLUTION STEREO CAMERA"
MISSION_NAME = "MARS EXPRESS"
MISSION_PHASE_NAME = ME_Phase_8
PROCESSING_LEVEL_ID = 3
PRODUCT_CREATION_TIME = 2016-04-25T16:23:03.000Z
PRODUCT_ID = "H4531_0000_IR3.JP2"
RELEASE_ID = 0052
REVISION_ID = 0000
/* QUALITY DATA ELEMENTS */
DATA_QUALITY_ID = 1
DATA_QUALITY_DESC = "Data calculated based on original SPICE kernels"
/* TIME DATA ELEMENTS */
SPACECRAFT_CLOCK_START_COUNT = "1/0132573515.08409"
SPACECRAFT_CLOCK_STOP_COUNT = "1/0132573721.15824"
START_TIME = 2007-07-15T09:58:43.703Z
STOP_TIME = 2007-07-15T10:01:12.846Z
/* ORBITAL DATA ELEMENTS */
ASCENDING_NODE_LONGITUDE = 133.53
MAXIMUM_RESOLUTION = 48.2
FOOTPRINT_POINT_LATITUDE = (-79.4884,-79.5598,-79.6189,-79.6618, -79.7396,-79.5801,-79.3919,-79.2034, -79.0147,-78.7309,-78.5414,-78.2565, -78.0663,-77.8758,-77.6849,-77.3983, -77.2072,-76.9199,-76.7281,-76.5362, -76.3439,-76.1521,-75.8638,-75.5723, -75.3773,-75.1855,-74.993,-74.8, -74.6065,-74.4121,-74.2168,-74.0232, -73.7335,-73.5448,-73.2415,-72.9378, -72.7353,-72.5327,-72.229,-72.0261, -71.8244,-71.6223,-71.4202,-71.117, -70.9143,-70.7112,-70.4074,-70.205, -69.9013,-69.8291,-69.8069,-69.7734, -69.7464,-69.7232,-69.6997,-70.0012, -70.2022,-70.4034,-70.6039,-70.8049, -71.0054,-71.2064,-71.4074,-71.608, -71.8078,-72.1074,-72.3072,-72.5081, -72.8085,-73.1084,-73.308,-73.5998, -73.7911,-73.9826,-74.1737,-74.3644, -74.5554,-74.7461,-74.937,-75.1271, -75.316,-75.5048,-75.6939,-75.9781, -76.2611,-76.4495,-76.6375,-76.8248, -77.0137,-77.2943,-77.4809,-77.667, -77.8524,-78.1297,-78.4071,-78.5916, -78.8673,-79.0507,-79.2328,-79.4884)
FOOTPRINT_POINT_LONGITUDE = (191.292,192.403,193.389,194.147, 195.635,196.049,196.322,196.586,196.84, 197.207,197.44,197.777,197.992,198.201, 198.404,198.696,198.883,199.153,199.327 ,199.495,199.66,199.818,200.047,200.274 ,200.422,200.557,200.691,200.822,200.95 ,201.076,201.202,201.32,201.49,201.587, 201.758,201.922,202.028,202.132,202.282 ,202.38,202.473,202.565,202.655,202.785 ,202.871,202.954,203.076,203.154, 203.268,202.605,202.152,201.531,201.051 ,200.658,200.255,200.107,200.006, 199.902,199.796,199.688,199.576,199.463 ,199.347,199.227,199.105,198.916, 198.786,198.653,198.448,198.234,198.087 ,197.865,197.714,197.559,197.4,197.237, 197.07,196.898,196.722,196.541,196.354, 196.163,195.966,195.661,195.342,195.122 ,194.895,194.661,194.421,194.047, 193.788,193.52,193.244,192.814,192.362, 192.048,191.558,191.217,190.864, 191.292)
ORBIT_NUMBER = 4531
ORBITAL_ECCENTRICITY = 0.57
ORBITAL_INCLINATION = 86.7
ORBITAL_SEMIMAJOR_AXIS = 8532.39
PERIAPSIS_ALTITUDE = 292.76
PERIAPSIS_ARGUMENT_ANGLE = 280.42
PERIAPSIS_TIME = 2007-07-15T09:59:12.000Z
SPACECRAFT_ORIENTATION = (0.0,-1.0,0.0)
^MEX_ORIENTATION_DESC = "MEX_ORIENTATION_DESC.TXT"
SPACECRAFT_POINTING_MODE = NADIR
^MEX_POINTING_DESC = "MEX_POINTING_DESC.TXT"
RIGHT_ASCENSION = -1e+32
DECLINATION = -1e+32
OFFSET_ANGLE = -1e+32
SPACECRAFT_SOLAR_DISTANCE = 2.0844e+08
TARGET_NAME = MARS
/* CAMERA DATA ELEMENTS */
DETECTOR_TEMPERATURE = 17.9627
FOCAL_PLANE_TEMPERATURE = 10.2145
INST_CMPRS_NAME = "DISCRETE COSINE TRANSFORMATION (DCT)"
INST_CMPRS_RATIO = 11.9866
INST_CMPRS_QUALITY = 0
INST_CMPRS_QUANTZ_TBL_ID = 0
INSTRUMENT_TEMPERATURE = 11.4379
LENS_TEMPERATURE = 9.195
MACROPIXEL_SIZE = 4
MISSING_FRAMES = 0
PIXEL_SUBSAMPLING_FLAG = N
SIGNAL_CHAIN_ID = 2
/* RADIOMETRIC DATA ELEMENTS */
BANDWIDTH = 81.0
CENTER_FILTER_WAVELENGTH = 955.5
RADIANCE_OFFSET = 1.94726
RADIANCE_SCALING_FACTOR = 0.00415506
REFLECTANCE_SCALING_FACTOR = 0.000389463
MEX:REFLECTANCE_OFFSET = 0.182522
/* IMAGE OBJECT DEFINITIONS */
OBJECT = IMAGE
  INTERCHANGE_FORMAT = BINARY
  LINES = 11785
  LINE_SAMPLES = 3535
  SAMPLE_TYPE = UNSIGNED_INTEGER
  SAMPLE_BITS = 8
  BANDS = 1
  BAND_STORAGE_TYPE = BAND_SEQUENTIAL
  MAXIMUM = 255
  MEAN = 127.728
  MINIMUM = 1
  STANDARD_DEVIATION = 65.6956
END_OBJECT = IMAGE
/* MAP OBJECT DEFINITIONS */
OBJECT = IMAGE_MAP_PROJECTION
  ^DATA_SET_MAP_PROJECTION_CATALOG= "DSMAP.CAT"
  A_AXIS_RADIUS = 3396.0
  B_AXIS_RADIUS = 3396.0
  C_AXIS_RADIUS = 3396.0
  CENTER_LATITUDE = 0.0
  CENTER_LONGITUDE = 199.0
  COORDINATE_SYSTEM_NAME = PLANETOGRAPHIC
  COORDINATE_SYSTEM_TYPE = "BODY-FIXED ROTATING"
  EASTERNMOST_LONGITUDE = 203.268
  FIRST_STANDARD_PARALLEL = "N/A"
  LINE_FIRST_PIXEL = 1
  LINE_LAST_PIXEL = 11785
  LINE_PROJECTION_OFFSET = -82628.875
  MAP_PROJECTION_ROTATION = 0.0
  MAP_PROJECTION_TYPE = SINUSOIDAL
  MAP_RESOLUTION = 1185.42760773333
  MAP_SCALE = 0.05
  MAXIMUM_LATITUDE = -69.69970000000001
  MINIMUM_LATITUDE = -79.7396
  POSITIVE_LONGITUDE_DIRECTION = EAST
  REFERENCE_LATITUDE = "N/A"
  REFERENCE_LONGITUDE = "N/A"
  SAMPLE_FIRST_PIXEL = 1
  SAMPLE_LAST_PIXEL = 3535
  SAMPLE_PROJECTION_OFFSET = 1798.125
  SECOND_STANDARD_PARALLEL = "N/A"
  WESTERNMOST_LONGITUDE = 190.864
END_OBJECT = IMAGE_MAP_PROJECTION
/* The JPEG2000 image data file associated with this label. */
OBJECT = COMPRESSED_FILE
  FILE_NAME = "H4531_0000_IR3.JP2"
  RECORD_TYPE = UNDEFINED
  FILE_RECORDS = UNK
  ENCODING_TYPE = "JP2"
  INTERCHANGE_FORMAT = BINARY
  UNCOMPRESSED_FILE_NAME = "H4531_0000_IR3.IMG"
  REQUIRED_STORAGE_BYTES = "41684720"
  ^DESCRIPTION = "JP2INFO.TXT"
END_OBJECT = COMPRESSED_FILE
END
