PDS_VERSION_ID = PDS3
/* FILE DATA ELEMENTS */
RECORD_TYPE = STREAM
/* POINTERS TO DATA OBJECTS */
^COMPRESSED_FILE = "H4532_0000_RE3.JP2"
/* IDENTIFICATION DATA ELEMENTS */
DATA_SET_ID = "MEX-M-HRSC-5-REFDR-MAPPROJECTED-V3.0"
DATA_SET_NAME = "MARS EXPRESS HRSC MAP PROJECTED REFDR V3.0"
DETECTOR_ID = MEX_HRSC_RED
EVENT_TYPE = "MARS-REGIONAL-MAPPING-Fl-Gl-La"
INSTRUMENT_HOST_ID = MEX
INSTRUMENT_HOST_NAME = "MARS EXPRESS"
INSTRUMENT_ID = HRSC
INSTRUMENT_NAME = "HIGH RESOLUTION STEREO CAMERA"
MISSION_NAME = "MARS EXPRESS"
MISSION_PHASE_NAME = ME_Phase_8
PROCESSING_LEVEL_ID = 3
PRODUCT_CREATION_TIME = 2016-04-25T16:23:03.000Z
PRODUCT_ID = "H4532_0000_RE3.JP2"
RELEASE_ID = 0052
REVISION_ID = 0000
/* QUALITY DATA ELEMENTS */
DATA_QUALITY_ID = 1
DATA_QUALITY_DESC = "Data calculated based on original SPICE kernels"
/* TIME DATA ELEMENTS */
SPACECRAFT_CLOCK_START_COUNT = "1/0132597602.09071"
SPACECRAFT_CLOCK_STOP_COUNT = "1/0132597746.58718"
START_TIME = 2007-07-15T16:40:57.338Z
STOP_TIME = 2007-07-15T16:42:24.428Z
/* ORBITAL DATA ELEMENTS */
ASCENDING_NODE_LONGITUDE = 133.51
MAXIMUM_RESOLUTION = 48.7
FOOTPRINT_POINT_LATITUDE = (-84.3725,-84.4629,-84.5913,-84.7163, -84.8378,-84.9557,-85.0702,-85.133, -85.0188,-84.9406,-84.8612,-84.7429, -84.6624,-84.5807,-84.4977,-84.4134, -84.2849,-84.198,-84.1102,-84.0214, -83.8865,-83.7954,-83.7036,-83.5644, -83.4236,-83.329,-83.1858,-83.0415, -82.9445,-82.847,-82.749,-82.6012, -82.4521,-82.3522,-82.2017,-82.1009, -81.9999,-81.8476,-81.6944,-81.5917, -81.49,-81.3867,-81.2831,-81.1791, -81.075,-80.9183,-80.7608,-80.6557, -80.5504,-80.4416,-80.4116,-80.3666, -80.3087,-80.24,-80.1507,-80.0676, -80.2175,-80.3171,-80.4657,-80.5644, -80.6623,-80.809,-80.9063,-81.0032, -81.0996,-81.2434,-81.3862,-81.4808, -81.575,-81.7152,-81.8078,-81.9458, -82.037,-82.1277,-82.2623,-82.3955, -82.4834,-82.5705,-82.6569,-82.7424, -82.8691,-82.9525,-83.035,-83.1569, -83.2369,-83.3159,-83.4323,-83.5461, -83.6205,-83.6936,-83.7654,-83.8358, -83.9049,-83.9725,-84.0387,-84.1047, -84.17,-84.2336,-84.3254,-84.3725)
FOOTPRINT_POINT_LONGITUDE = (54.3969,55.058,56.0437,57.0603,58.1079 ,59.1867,60.2994,61.6821,63.3025, 64.3369,65.3362,66.7388,67.6385,68.5092 ,69.3547,70.1769,71.3652,72.126,72.8616 ,73.5774,74.6127,75.2772,75.9226, 76.8557,77.7483,78.3213,79.1501,79.943, 80.4542,80.9509,81.4335,82.133,82.8063, 83.2403,83.8688,84.2742,84.6677,85.241, 85.7935,86.1515,86.4914,86.8329,87.1663 ,87.4922,87.81,88.2724,88.7209,89.0099, 89.2926,88.9544,88.4644,87.7559,86.88, 85.8895,84.6754,83.6024,83.108,82.7698, 82.2496,81.8921,81.5403,80.9812,80.5975 ,80.2079,79.8088,79.1933,78.5556,78.118 ,77.6673,76.9719,76.5026,75.776,75.2753 ,74.763,73.9762,73.1567,72.5949,72.017, 71.4241,70.8167,69.8778,69.2329,68.5742 ,67.5567,66.8585,66.1418,65.0343, 63.8854,63.0964,62.2881,61.4601,60.613, 59.7452,58.8596,57.9549,57.0017,56.0209 ,55.019,53.4718,54.3969)
ORBIT_NUMBER = 4532
ORBITAL_ECCENTRICITY = 0.57
ORBITAL_INCLINATION = 86.7
ORBITAL_SEMIMAJOR_AXIS = 8533.5
PERIAPSIS_ALTITUDE = 292.61
PERIAPSIS_ARGUMENT_ANGLE = 280.23
PERIAPSIS_TIME = 2007-07-15T16:42:26.000Z
SPACECRAFT_ORIENTATION = (0.0,-1.0,0.0)
^MEX_ORIENTATION_DESC = "MEX_ORIENTATION_DESC.TXT"
SPACECRAFT_POINTING_MODE = ACROSSTRACK
^MEX_POINTING_DESC = "MEX_POINTING_DESC.TXT"
RIGHT_ASCENSION = -1e+32
DECLINATION = -1e+32
OFFSET_ANGLE = 1.0
SPACECRAFT_SOLAR_DISTANCE = 2.08464e+08
TARGET_NAME = MARS
/* CAMERA DATA ELEMENTS */
DETECTOR_TEMPERATURE = 19.39
FOCAL_PLANE_TEMPERATURE = 8.9911
INST_CMPRS_NAME = "DISCRETE COSINE TRANSFORMATION (DCT)"
INST_CMPRS_RATIO = 26.4627
INST_CMPRS_QUALITY = 0
INST_CMPRS_QUANTZ_TBL_ID = 0
INSTRUMENT_TEMPERATURE = 11.8457
LENS_TEMPERATURE = 9.6028
MACROPIXEL_SIZE = 4
MISSING_FRAMES = 0
PIXEL_SUBSAMPLING_FLAG = N
SIGNAL_CHAIN_ID = 2
/* RADIOMETRIC DATA ELEMENTS */
BANDWIDTH = 48.0
CENTER_FILTER_WAVELENGTH = 748.0
RADIANCE_OFFSET = 1.8032
RADIANCE_SCALING_FACTOR = 0.00365355
REFLECTANCE_SCALING_FACTOR = 0.000362328
MEX:REFLECTANCE_OFFSET = 0.178826
/* IMAGE OBJECT DEFINITIONS */
OBJECT = IMAGE
  INTERCHANGE_FORMAT = BINARY
  LINES = 6154
  LINE_SAMPLES = 5203
  SAMPLE_TYPE = UNSIGNED_INTEGER
  SAMPLE_BITS = 8
  BANDS = 1
  BAND_STORAGE_TYPE = BAND_SEQUENTIAL
  MAXIMUM = 254
  MEAN = 120.253
  MINIMUM = 1
  STANDARD_DEVIATION = 61.5848
END_OBJECT = IMAGE
/* MAP OBJECT DEFINITIONS */
OBJECT = IMAGE_MAP_PROJECTION
  ^DATA_SET_MAP_PROJECTION_CATALOG= "DSMAP.CAT"
  A_AXIS_RADIUS = 3396.0
  B_AXIS_RADIUS = 3396.0
  C_AXIS_RADIUS = 3396.0
  CENTER_LATITUDE = 0.0
  CENTER_LONGITUDE = 76.0
  COORDINATE_SYSTEM_NAME = PLANETOGRAPHIC
  COORDINATE_SYSTEM_TYPE = "BODY-FIXED ROTATING"
  EASTERNMOST_LONGITUDE = 89.29259999999999
  FIRST_STANDARD_PARALLEL = "N/A"
  LINE_FIRST_PIXEL = 1
  LINE_LAST_PIXEL = 6154
  LINE_PROJECTION_OFFSET = -94944.375
  MAP_PROJECTION_ROTATION = 0.0
  MAP_PROJECTION_TYPE = SINUSOIDAL
  MAP_RESOLUTION = 1185.42760773333
  MAP_SCALE = 0.05
  MAXIMUM_LATITUDE = -80.0676
  MINIMUM_LATITUDE = -85.133
  POSITIVE_LONGITUDE_DIRECTION = EAST
  REFERENCE_LATITUDE = "N/A"
  REFERENCE_LONGITUDE = "N/A"
  SAMPLE_FIRST_PIXEL = 1
  SAMPLE_LAST_PIXEL = 5203
  SAMPLE_PROJECTION_OFFSET = 2582.625
  SECOND_STANDARD_PARALLEL = "N/A"
  WESTERNMOST_LONGITUDE = 53.4718
END_OBJECT = IMAGE_MAP_PROJECTION
/* The JPEG2000 image data file associated with this label. */
OBJECT = COMPRESSED_FILE
  FILE_NAME = "H4532_0000_RE3.JP2"
  RECORD_TYPE = UNDEFINED
  FILE_RECORDS = UNK
  ENCODING_TYPE = "JP2"
  INTERCHANGE_FORMAT = BINARY
  UNCOMPRESSED_FILE_NAME = "H4532_0000_RE3.IMG"
  REQUIRED_STORAGE_BYTES = "32045277"
  ^DESCRIPTION = "JP2INFO.TXT"
END_OBJECT = COMPRESSED_FILE
END
