PDS_VERSION_ID = PDS3
/* FILE DATA ELEMENTS */
RECORD_TYPE = STREAM
/* POINTERS TO DATA OBJECTS */
^COMPRESSED_FILE = "H4534_0000_P13.JP2"
/* IDENTIFICATION DATA ELEMENTS */
DATA_SET_ID = "MEX-M-HRSC-5-REFDR-MAPPROJECTED-V3.0"
DATA_SET_NAME = "MARS EXPRESS HRSC MAP PROJECTED REFDR V3.0"
DETECTOR_ID = MEX_HRSC_P1
EVENT_TYPE = "MARS-LOCAL-MAPPING-Gl-Pf-La"
INSTRUMENT_HOST_ID = MEX
INSTRUMENT_HOST_NAME = "MARS EXPRESS"
INSTRUMENT_ID = HRSC
INSTRUMENT_NAME = "HIGH RESOLUTION STEREO CAMERA"
MISSION_NAME = "MARS EXPRESS"
MISSION_PHASE_NAME = ME_Phase_8
PROCESSING_LEVEL_ID = 3
PRODUCT_CREATION_TIME = 2016-04-25T16:23:03.000Z
PRODUCT_ID = "H4534_0000_P13.JP2"
RELEASE_ID = 0052
REVISION_ID = 0000
/* QUALITY DATA ELEMENTS */
DATA_QUALITY_ID = 1
DATA_QUALITY_DESC = "Data calculated based on original SPICE kernels"
/* TIME DATA ELEMENTS */
SPACECRAFT_CLOCK_START_COUNT = "1/0132645917.07299"
SPACECRAFT_CLOCK_STOP_COUNT = "1/0132646136.15236"
START_TIME = 2007-07-16T06:05:31.720Z
STOP_TIME = 2007-07-16T06:08:15.202Z
/* ORBITAL DATA ELEMENTS */
ASCENDING_NODE_LONGITUDE = 133.47
MAXIMUM_RESOLUTION = 47.7
FOOTPRINT_POINT_LATITUDE = (-86.1301,-86.3987,-86.6625,-87.0045, -87.166,-87.3787,-87.5052,-87.6186, -87.7151,-87.7907,-87.8694,-87.8941, -87.894,-87.8736,-87.8298,-87.7254, -87.6337,-87.4672,-87.3438,-87.1389, -86.9911,-86.8359,-86.6743,-86.5071, -86.3344,-86.1581,-85.9779,-85.7942, -85.6081,-85.3248,-85.1348,-84.9485, -84.7603,-84.5706,-84.2836,-84.0908, -83.8969,-83.7015,-83.4081,-83.2114, -83.0141,-82.8153,-82.6158,-82.4168, -82.2169,-81.916,-81.7148,-81.5137, -81.2106,-81.0264,-80.9685,-80.9176, -80.8681,-80.7782,-80.9734,-81.1677, -81.3619,-81.5548,-81.7473,-81.9387, -82.1289,-82.4124,-82.6003,-82.8796, -83.156,-83.3385,-83.5192,-83.787, -83.9628,-84.1363,-84.3072,-84.477, -84.6429,-84.8127,-85.0606,-85.2204, -85.3761,-85.5268,-85.6719,-85.8111, -85.9439,-86.0693,-86.2427,-86.3962, -86.4861,-86.5667,-86.6362,-86.6926, -86.751,-86.7772,-86.7762,-86.7604, -86.7303,-86.6854,-86.6264,-86.553, -86.467,-86.3694,-86.2612,-86.1301)
FOOTPRINT_POINT_LONGITUDE = (154.188,151.499,148.334,143.128, 144.778,150.237,154.373,158.938,163.926 ,169.165,177.601,183.484,189.383, 195.294,200.981,208.945,213.838,220.445 ,224.266,229.346,232.303,234.969, 237.391,239.594,241.658,243.467,245.138 ,246.678,248.058,249.911,251.017, 252.007,252.941,253.811,255.01,255.744, 256.435,257.093,257.983,258.535,259.056 ,259.56,260.038,260.475,260.895,261.488 ,261.859,262.207,262.706,262.412,260.82 ,259.566,258.457,256.625,256.176, 255.707,255.214,254.701,254.161,253.596 ,253.004,252.06,251.389,250.316,249.156 ,248.328,247.454,246.049,245.045, 243.983,242.859,241.653,240.381,238.969 ,236.672,235.017,233.244,231.351, 229.332,227.177,224.877,222.433,218.469 ,214.145,211.068,207.77,204.276,200.657 ,195.045,189.307,185.443,181.586, 177.804,174.071,170.426,166.871,163.482 ,160.274,157.251,154.188)
ORBIT_NUMBER = 4534
ORBITAL_ECCENTRICITY = 0.57
ORBITAL_INCLINATION = 86.69
ORBITAL_SEMIMAJOR_AXIS = 8532.26
PERIAPSIS_ALTITUDE = 292.99
PERIAPSIS_ARGUMENT_ANGLE = 279.9
PERIAPSIS_TIME = 2007-07-16T06:08:50.000Z
SPACECRAFT_ORIENTATION = (0.0,-1.0,0.0)
^MEX_ORIENTATION_DESC = "MEX_ORIENTATION_DESC.TXT"
SPACECRAFT_POINTING_MODE = ACROSSTRACK
^MEX_POINTING_DESC = "MEX_POINTING_DESC.TXT"
RIGHT_ASCENSION = -1e+32
DECLINATION = -1e+32
OFFSET_ANGLE = -0.6
SPACECRAFT_SOLAR_DISTANCE = 2.08512e+08
TARGET_NAME = MARS
/* CAMERA DATA ELEMENTS */
DETECTOR_TEMPERATURE = 17.5549
FOCAL_PLANE_TEMPERATURE = 8.5833
INST_CMPRS_NAME = "DISCRETE COSINE TRANSFORMATION (DCT)"
INST_CMPRS_RATIO = 17.9797
INST_CMPRS_QUALITY = 0
INST_CMPRS_QUANTZ_TBL_ID = 0
INSTRUMENT_TEMPERATURE = 11.0301
LENS_TEMPERATURE = 8.5833
MACROPIXEL_SIZE = 4
MISSING_FRAMES = 0
PIXEL_SUBSAMPLING_FLAG = N
SIGNAL_CHAIN_ID = 3
/* RADIOMETRIC DATA ELEMENTS */
BANDWIDTH = 174.0
CENTER_FILTER_WAVELENGTH = 675.0
RADIANCE_OFFSET = 6.46737
RADIANCE_SCALING_FACTOR = 0.0213577
REFLECTANCE_SCALING_FACTOR = 0.000499459
MEX:REFLECTANCE_OFFSET = 0.151243
/* IMAGE OBJECT DEFINITIONS */
OBJECT = IMAGE
  INTERCHANGE_FORMAT = BINARY
  LINES = 2723
  LINE_SAMPLES = 12738
  SAMPLE_TYPE = UNSIGNED_INTEGER
  SAMPLE_BITS = 8
  BANDS = 1
  BAND_STORAGE_TYPE = BAND_SEQUENTIAL
  MAXIMUM = 255
  MEAN = 82.3707
  MINIMUM = 1
  STANDARD_DEVIATION = 45.4728
END_OBJECT = IMAGE
/* MAP OBJECT DEFINITIONS */
OBJECT = IMAGE_MAP_PROJECTION
  ^DATA_SET_MAP_PROJECTION_CATALOG= "DSMAP.CAT"
  A_AXIS_RADIUS = 3396.0
  B_AXIS_RADIUS = 3396.0
  C_AXIS_RADIUS = 3396.0
  CENTER_LATITUDE = -90.0
  CENTER_LONGITUDE = 0.0
  COORDINATE_SYSTEM_NAME = PLANETOGRAPHIC
  COORDINATE_SYSTEM_TYPE = "BODY-FIXED ROTATING"
  EASTERNMOST_LONGITUDE = 262.706
  FIRST_STANDARD_PARALLEL = "N/A"
  LINE_FIRST_PIXEL = 1
  LINE_LAST_PIXEL = 2723
  LINE_PROJECTION_OFFSET = -1383.375
  MAP_PROJECTION_ROTATION = 0.0
  MAP_PROJECTION_TYPE = STEREOGRAPHIC
  MAP_RESOLUTION = 1185.42760773333
  MAP_SCALE = 0.05
  MAXIMUM_LATITUDE = -80.7782
  MINIMUM_LATITUDE = -87.89409999999999
  POSITIVE_LONGITUDE_DIRECTION = EAST
  REFERENCE_LATITUDE = "N/A"
  REFERENCE_LONGITUDE = "N/A"
  SAMPLE_FIRST_PIXEL = 1
  SAMPLE_LAST_PIXEL = 12738
  SAMPLE_PROJECTION_OFFSET = 10684.125
  SECOND_STANDARD_PARALLEL = "N/A"
  WESTERNMOST_LONGITUDE = 143.128
END_OBJECT = IMAGE_MAP_PROJECTION
/* The JPEG2000 image data file associated with this label. */
OBJECT = COMPRESSED_FILE
  FILE_NAME = "H4534_0000_P13.JP2"
  RECORD_TYPE = UNDEFINED
  FILE_RECORDS = UNK
  ENCODING_TYPE = "JP2"
  INTERCHANGE_FORMAT = BINARY
  UNCOMPRESSED_FILE_NAME = "H4534_0000_P13.IMG"
  REQUIRED_STORAGE_BYTES = "34723788"
  ^DESCRIPTION = "JP2INFO.TXT"
END_OBJECT = COMPRESSED_FILE
END
