PDS_VERSION_ID = PDS3
/* FILE DATA ELEMENTS */
RECORD_TYPE = STREAM
/* POINTERS TO DATA OBJECTS */
^COMPRESSED_FILE = "H4534_0000_P23.JP2"
/* IDENTIFICATION DATA ELEMENTS */
DATA_SET_ID = "MEX-M-HRSC-5-REFDR-MAPPROJECTED-V3.0"
DATA_SET_NAME = "MARS EXPRESS HRSC MAP PROJECTED REFDR V3.0"
DETECTOR_ID = MEX_HRSC_P2
EVENT_TYPE = "MARS-LOCAL-MAPPING-Gl-Pf-La"
INSTRUMENT_HOST_ID = MEX
INSTRUMENT_HOST_NAME = "MARS EXPRESS"
INSTRUMENT_ID = HRSC
INSTRUMENT_NAME = "HIGH RESOLUTION STEREO CAMERA"
MISSION_NAME = "MARS EXPRESS"
MISSION_PHASE_NAME = ME_Phase_8
PROCESSING_LEVEL_ID = 3
PRODUCT_CREATION_TIME = 2016-04-25T16:23:03.000Z
PRODUCT_ID = "H4534_0000_P23.JP2"
RELEASE_ID = 0052
REVISION_ID = 0000
/* QUALITY DATA ELEMENTS */
DATA_QUALITY_ID = 1
DATA_QUALITY_DESC = "Data calculated based on original SPICE kernels"
/* TIME DATA ELEMENTS */
SPACECRAFT_CLOCK_START_COUNT = "1/0132645917.07299"
SPACECRAFT_CLOCK_STOP_COUNT = "1/0132646136.15236"
START_TIME = 2007-07-16T06:06:10.044Z
STOP_TIME = 2007-07-16T06:08:49.314Z
/* ORBITAL DATA ELEMENTS */
ASCENDING_NODE_LONGITUDE = 133.47
MAXIMUM_RESOLUTION = 47.7
FOOTPRINT_POINT_LATITUDE = (-86.3209,-86.5771,-86.7033,-86.8276, -86.9497,-87.0914,-87.3158,-87.4481, -87.5667,-87.6683,-87.7505,-87.8387, -87.8736,-87.8845,-87.858,-87.8123, -87.7448,-87.6607,-87.5042,-87.3819, -87.25,-87.0325,-86.8802,-86.7222, -86.5586,-86.3936,-86.2217,-85.9582, -85.6863,-85.4072,-85.123,-84.9315, -84.7395,-84.4491,-84.1565,-83.96, -83.7648,-83.5658,-83.3671,-83.1673, -82.9672,-82.7673,-82.5682,-82.3662, -82.164,-81.8613,-81.6587,-81.3553, -81.1521,-80.9881,-80.9392,-80.8785, -80.777,-80.9177,-81.1139,-81.3088, -81.5035,-81.6971,-81.8903,-82.0828, -82.2746,-82.465,-82.7493,-83.0303, -83.2159,-83.4004,-83.5834,-83.7648, -83.9444,-84.1224,-84.2988,-84.5565, -84.7253,-84.8903,-85.0522,-85.211, -85.3652,-85.5147,-85.6597,-85.7989, -85.9321,-86.0587,-86.1776,-86.2906, -86.3959,-86.4906,-86.6112,-86.6761, -86.7483,-86.7786,-86.7944,-86.7951, -86.7682,-86.7322,-86.6827,-86.619, -86.54,-86.4483,-86.3447,-86.3209)
FOOTPRINT_POINT_LONGITUDE = (155.98,153.165,151.571,149.837,147.944 ,145.463,149.026,153.027,157.435, 162.224,167.275,175.441,181.113,186.991 ,195.786,201.457,206.861,211.888, 218.706,222.762,226.434,231.254,234.01, 236.505,238.766,240.827,242.697,245.203 ,247.392,249.311,251.005,252.028,252.98 ,254.284,255.458,256.176,256.857, 257.484,258.077,258.633,259.158,259.656 ,260.134,260.575,260.994,261.588, 261.958,262.485,262.805,261.57,260.56, 259.397,257.596,256.324,255.86,255.375, 254.867,254.334,253.775,253.188,252.57, 251.922,250.882,249.757,248.956,248.107 ,247.208,246.257,245.246,244.172, 243.027,241.181,239.848,238.432,236.919 ,235.299,233.571,231.728,229.752, 227.645,225.393,222.988,220.433,217.659 ,214.671,211.51,206.464,202.911,197.346 ,193.522,189.625,185.726,179.945, 176.167,172.524,168.939,165.401,162.029 ,158.833,155.98)
ORBIT_NUMBER = 4534
ORBITAL_ECCENTRICITY = 0.57
ORBITAL_INCLINATION = 86.69
ORBITAL_SEMIMAJOR_AXIS = 8532.26
PERIAPSIS_ALTITUDE = 292.99
PERIAPSIS_ARGUMENT_ANGLE = 279.9
PERIAPSIS_TIME = 2007-07-16T06:08:50.000Z
SPACECRAFT_ORIENTATION = (0.0,-1.0,0.0)
^MEX_ORIENTATION_DESC = "MEX_ORIENTATION_DESC.TXT"
SPACECRAFT_POINTING_MODE = ACROSSTRACK
^MEX_POINTING_DESC = "MEX_POINTING_DESC.TXT"
RIGHT_ASCENSION = -1e+32
DECLINATION = -1e+32
OFFSET_ANGLE = -0.6
SPACECRAFT_SOLAR_DISTANCE = 2.08512e+08
TARGET_NAME = MARS
/* CAMERA DATA ELEMENTS */
DETECTOR_TEMPERATURE = 18.3705
FOCAL_PLANE_TEMPERATURE = 8.5833
INST_CMPRS_NAME = "DISCRETE COSINE TRANSFORMATION (DCT)"
INST_CMPRS_RATIO = 12.3707
INST_CMPRS_QUALITY = 0
INST_CMPRS_QUANTZ_TBL_ID = 0
INSTRUMENT_TEMPERATURE = 11.0301
LENS_TEMPERATURE = 8.5833
MACROPIXEL_SIZE = 4
MISSING_FRAMES = 0
PIXEL_SUBSAMPLING_FLAG = N
SIGNAL_CHAIN_ID = 3
/* RADIOMETRIC DATA ELEMENTS */
BANDWIDTH = 177.0
CENTER_FILTER_WAVELENGTH = 676.5
RADIANCE_OFFSET = 5.74317
RADIANCE_SCALING_FACTOR = 0.0216755
REFLECTANCE_SCALING_FACTOR = 0.000499674
MEX:REFLECTANCE_OFFSET = 0.132394
/* IMAGE OBJECT DEFINITIONS */
OBJECT = IMAGE
  INTERCHANGE_FORMAT = BINARY
  LINES = 2723
  LINE_SAMPLES = 12738
  SAMPLE_TYPE = UNSIGNED_INTEGER
  SAMPLE_BITS = 8
  BANDS = 1
  BAND_STORAGE_TYPE = BAND_SEQUENTIAL
  MAXIMUM = 255
  MEAN = 84.1569
  MINIMUM = 1
  STANDARD_DEVIATION = 44.9022
END_OBJECT = IMAGE
/* MAP OBJECT DEFINITIONS */
OBJECT = IMAGE_MAP_PROJECTION
  ^DATA_SET_MAP_PROJECTION_CATALOG= "DSMAP.CAT"
  A_AXIS_RADIUS = 3396.0
  B_AXIS_RADIUS = 3396.0
  C_AXIS_RADIUS = 3396.0
  CENTER_LATITUDE = -90.0
  CENTER_LONGITUDE = 0.0
  COORDINATE_SYSTEM_NAME = PLANETOGRAPHIC
  COORDINATE_SYSTEM_TYPE = "BODY-FIXED ROTATING"
  EASTERNMOST_LONGITUDE = 262.805
  FIRST_STANDARD_PARALLEL = "N/A"
  LINE_FIRST_PIXEL = 1
  LINE_LAST_PIXEL = 2723
  LINE_PROJECTION_OFFSET = -1383.375
  MAP_PROJECTION_ROTATION = 0.0
  MAP_PROJECTION_TYPE = STEREOGRAPHIC
  MAP_RESOLUTION = 1185.42760773333
  MAP_SCALE = 0.05
  MAXIMUM_LATITUDE = -80.777
  MINIMUM_LATITUDE = -87.8845
  POSITIVE_LONGITUDE_DIRECTION = EAST
  REFERENCE_LATITUDE = "N/A"
  REFERENCE_LONGITUDE = "N/A"
  SAMPLE_FIRST_PIXEL = 1
  SAMPLE_LAST_PIXEL = 12738
  SAMPLE_PROJECTION_OFFSET = 10684.125
  SECOND_STANDARD_PARALLEL = "N/A"
  WESTERNMOST_LONGITUDE = 145.463
END_OBJECT = IMAGE_MAP_PROJECTION
/* The JPEG2000 image data file associated with this label. */
OBJECT = COMPRESSED_FILE
  FILE_NAME = "H4534_0000_P23.JP2"
  RECORD_TYPE = UNDEFINED
  FILE_RECORDS = UNK
  ENCODING_TYPE = "JP2"
  INTERCHANGE_FORMAT = BINARY
  UNCOMPRESSED_FILE_NAME = "H4534_0000_P23.IMG"
  REQUIRED_STORAGE_BYTES = "34723788"
  ^DESCRIPTION = "JP2INFO.TXT"
END_OBJECT = COMPRESSED_FILE
END
