PDS_VERSION_ID = PDS3
/* FILE DATA ELEMENTS */
RECORD_TYPE = STREAM
/* POINTERS TO DATA OBJECTS */
^COMPRESSED_FILE = "H4540_0000_BL3.JP2"
/* IDENTIFICATION DATA ELEMENTS */
DATA_SET_ID = "MEX-M-HRSC-5-REFDR-MAPPROJECTED-V3.0"
DATA_SET_NAME = "MARS EXPRESS HRSC MAP PROJECTED REFDR V3.0"
DETECTOR_ID = MEX_HRSC_BLUE
EVENT_TYPE = "MARS-REGIONAL-MAPPING-Vo-Te-Gl"
INSTRUMENT_HOST_ID = MEX
INSTRUMENT_HOST_NAME = "MARS EXPRESS"
INSTRUMENT_ID = HRSC
INSTRUMENT_NAME = "HIGH RESOLUTION STEREO CAMERA"
MISSION_NAME = "MARS EXPRESS"
MISSION_PHASE_NAME = ME_Phase_8
PROCESSING_LEVEL_ID = 3
PRODUCT_CREATION_TIME = 2016-04-25T16:23:03.000Z
PRODUCT_ID = "H4540_0000_BL3.JP2"
RELEASE_ID = 0052
REVISION_ID = 0000
/* QUALITY DATA ELEMENTS */
DATA_QUALITY_ID = 1
DATA_QUALITY_DESC = "Data calculated based on original SPICE kernels"
/* TIME DATA ELEMENTS */
SPACECRAFT_CLOCK_START_COUNT = "1/0132791340.08262"
SPACECRAFT_CLOCK_STOP_COUNT = "1/0132791630.54615"
START_TIME = 2007-07-17T22:29:34.946Z
STOP_TIME = 2007-07-17T22:33:21.253Z
/* ORBITAL DATA ELEMENTS */
ASCENDING_NODE_LONGITUDE = 133.35
MAXIMUM_RESOLUTION = 47.8
FOOTPRINT_POINT_LATITUDE = (-74.2264,-74.2929,-74.3534,-74.1336, -73.8724,-73.4809,-73.2198,-72.8143, -72.5433,-72.1369,-71.8662,-71.5957, -71.1898,-70.7836,-70.5134,-70.0996, -69.82,-69.5404,-69.2609,-68.9817, -68.7029,-68.4236,-68.1443,-67.8571, -67.5681,-67.2811,-66.9937,-66.7061, -66.4187,-66.1255,-65.8288,-65.5325, -65.2365,-64.9407,-64.6453,-64.3502, -64.0557,-63.7617,-63.468,-63.1747, -62.8814,-62.5886,-62.296,-62.0039, -61.6769,-61.3294,-60.9823,-60.6358, -60.2899,-59.9444,-59.8874,-59.8527, -59.8143,-60.1329,-60.4774,-60.8224, -61.168,-61.5141,-61.8455,-62.1362, -62.4273,-62.7187,-63.0103,-63.3023, -63.5947,-63.8873,-64.1803,-64.4735, -64.7671,-65.0609,-65.5026,-65.797, -66.2367,-66.5221,-66.8076,-67.0934, -67.3794,-67.6653,-68.0907,-68.5059, -68.7827,-69.0597,-69.3368,-69.7526, -70.0299,-70.4363,-70.7043,-71.1063, -71.3742,-71.642,-71.9098,-72.1775, -72.4453,-72.8466,-73.1089,-73.3666, -73.6242,-73.8816,-74.1388,-74.2264)
FOOTPRINT_POINT_LONGITUDE = (32.1531,33.2226,34.2863,34.9496, 35.1388,35.4108,35.5848,35.8436,36.0097 ,36.2488,36.4019,36.5503,36.7643, 36.9687,37.1,37.2937,37.4198,37.5422, 37.6611,37.7766,37.8889,37.9978,38.1037 ,38.2106,38.3139,38.4149,38.513,38.6083 ,38.7009,38.793,38.8835,38.9717,39.0575 ,39.1409,39.2222,39.3014,39.3787, 39.4541,39.5276,39.5994,39.6692,39.7373 ,39.8037,39.8686,39.9401,40.0136,40.085 ,40.1544,40.222,40.2876,39.6828,38.8934 ,38.1223,37.566,37.4923,37.4164,37.3376 ,37.2558,37.1751,37.1032,37.0274, 36.9506,36.872,36.7907,36.7069,36.6198, 36.5306,36.4385,36.3428,36.2435,36.0835 ,35.9776,35.8079,35.6984,35.5849,35.468 ,35.3457,35.2241,35.0309,34.8376, 34.7064,34.5695,34.4282,34.2073,34.0539 ,33.8174,33.6504,33.3932,33.2142, 33.0345,32.8469,32.6505,32.446,32.1296, 31.9123,31.6929,31.4671,31.2329,30.9909 ,32.1531)
ORBIT_NUMBER = 4540
ORBITAL_ECCENTRICITY = 0.57
ORBITAL_INCLINATION = 86.69
ORBITAL_SEMIMAJOR_AXIS = 8532.61
PERIAPSIS_ALTITUDE = 293.35
PERIAPSIS_ARGUMENT_ANGLE = 278.86
PERIAPSIS_TIME = 2007-07-17T22:27:54.000Z
SPACECRAFT_ORIENTATION = (0.0,-1.0,0.0)
^MEX_ORIENTATION_DESC = "MEX_ORIENTATION_DESC.TXT"
SPACECRAFT_POINTING_MODE = ACROSSTRACK
^MEX_POINTING_DESC = "MEX_POINTING_DESC.TXT"
RIGHT_ASCENSION = -1e+32
DECLINATION = -1e+32
OFFSET_ANGLE = 0.45
SPACECRAFT_SOLAR_DISTANCE = 2.0866e+08
TARGET_NAME = MARS
/* CAMERA DATA ELEMENTS */
DETECTOR_TEMPERATURE = 18.3705
FOCAL_PLANE_TEMPERATURE = 8.5833
INST_CMPRS_NAME = "DISCRETE COSINE TRANSFORMATION (DCT)"
INST_CMPRS_RATIO = 6.90365
INST_CMPRS_QUALITY = 0
INST_CMPRS_QUANTZ_TBL_ID = 0
INSTRUMENT_TEMPERATURE = 11.4379
LENS_TEMPERATURE = 8.7872
MACROPIXEL_SIZE = 4
MISSING_FRAMES = 0
PIXEL_SUBSAMPLING_FLAG = N
SIGNAL_CHAIN_ID = 2
/* RADIOMETRIC DATA ELEMENTS */
BANDWIDTH = 76.0
CENTER_FILTER_WAVELENGTH = 444.0
RADIANCE_OFFSET = 1.22108
RADIANCE_SCALING_FACTOR = 0.00101497
REFLECTANCE_SCALING_FACTOR = 4.54033e-05
MEX:REFLECTANCE_OFFSET = 0.0546237
/* IMAGE OBJECT DEFINITIONS */
OBJECT = IMAGE
  INTERCHANGE_FORMAT = BINARY
  LINES = 17331
  LINE_SAMPLES = 3893
  SAMPLE_TYPE = UNSIGNED_INTEGER
  SAMPLE_BITS = 8
  BANDS = 1
  BAND_STORAGE_TYPE = BAND_SEQUENTIAL
  MAXIMUM = 254
  MEAN = 135.541
  MINIMUM = 1
  STANDARD_DEVIATION = 44.0659
END_OBJECT = IMAGE
/* MAP OBJECT DEFINITIONS */
OBJECT = IMAGE_MAP_PROJECTION
  ^DATA_SET_MAP_PROJECTION_CATALOG= "DSMAP.CAT"
  A_AXIS_RADIUS = 3396.0
  B_AXIS_RADIUS = 3396.0
  C_AXIS_RADIUS = 3396.0
  CENTER_LATITUDE = 0.0
  CENTER_LONGITUDE = 37.0
  COORDINATE_SYSTEM_NAME = PLANETOGRAPHIC
  COORDINATE_SYSTEM_TYPE = "BODY-FIXED ROTATING"
  EASTERNMOST_LONGITUDE = 40.2876
  FIRST_STANDARD_PARALLEL = "N/A"
  LINE_FIRST_PIXEL = 1
  LINE_LAST_PIXEL = 17331
  LINE_PROJECTION_OFFSET = -70865.875
  MAP_PROJECTION_ROTATION = 0.0
  MAP_PROJECTION_TYPE = SINUSOIDAL
  MAP_RESOLUTION = 1185.42760773333
  MAP_SCALE = 0.05
  MAXIMUM_LATITUDE = -59.8143
  MINIMUM_LATITUDE = -74.35339999999999
  POSITIVE_LONGITUDE_DIRECTION = EAST
  REFERENCE_LATITUDE = "N/A"
  REFERENCE_LONGITUDE = "N/A"
  SAMPLE_FIRST_PIXEL = 1
  SAMPLE_LAST_PIXEL = 3893
  SAMPLE_PROJECTION_OFFSET = 1938.625
  SECOND_STANDARD_PARALLEL = "N/A"
  WESTERNMOST_LONGITUDE = 30.9909
END_OBJECT = IMAGE_MAP_PROJECTION
/* The JPEG2000 image data file associated with this label. */
OBJECT = COMPRESSED_FILE
  FILE_NAME = "H4540_0000_BL3.JP2"
  RECORD_TYPE = UNDEFINED
  FILE_RECORDS = UNK
  ENCODING_TYPE = "JP2"
  INTERCHANGE_FORMAT = BINARY
  UNCOMPRESSED_FILE_NAME = "H4540_0000_BL3.IMG"
  REQUIRED_STORAGE_BYTES = "67492941"
  ^DESCRIPTION = "JP2INFO.TXT"
END_OBJECT = COMPRESSED_FILE
END
