PDS_VERSION_ID = PDS3
/* FILE DATA ELEMENTS */
RECORD_TYPE = STREAM
/* POINTERS TO DATA OBJECTS */
^COMPRESSED_FILE = "H4542_0000_IR3.JP2"
/* IDENTIFICATION DATA ELEMENTS */
DATA_SET_ID = "MEX-M-HRSC-5-REFDR-MAPPROJECTED-V3.0"
DATA_SET_NAME = "MARS EXPRESS HRSC MAP PROJECTED REFDR V3.0"
DETECTOR_ID = MEX_HRSC_IR
EVENT_TYPE = "MARS-REGIONAL-MAPPING-Gl-Pf-La"
INSTRUMENT_HOST_ID = MEX
INSTRUMENT_HOST_NAME = "MARS EXPRESS"
INSTRUMENT_ID = HRSC
INSTRUMENT_NAME = "HIGH RESOLUTION STEREO CAMERA"
MISSION_NAME = "MARS EXPRESS"
MISSION_PHASE_NAME = ME_Phase_8
PROCESSING_LEVEL_ID = 3
PRODUCT_CREATION_TIME = 2016-04-25T16:23:03.000Z
PRODUCT_ID = "H4542_0000_IR3.JP2"
RELEASE_ID = 0052
REVISION_ID = 0000
/* QUALITY DATA ELEMENTS */
DATA_QUALITY_ID = 1
DATA_QUALITY_DESC = "Data calculated based on original SPICE kernels"
/* TIME DATA ELEMENTS */
SPACECRAFT_CLOCK_START_COUNT = "1/0132839523.08396"
SPACECRAFT_CLOCK_STOP_COUNT = "1/0132839711.39578"
START_TIME = 2007-07-18T11:52:12.049Z
STOP_TIME = 2007-07-18T11:54:26.343Z
/* ORBITAL DATA ELEMENTS */
ASCENDING_NODE_LONGITUDE = 133.31
MAXIMUM_RESOLUTION = 48.2
FOOTPRINT_POINT_LATITUDE = (-85.7207,-85.9074,-86.1882,-86.4637, -86.632,-86.5413,-86.3919,-86.2849, -86.1735,-86.0591,-85.8787,-85.7532, -85.6235,-85.4909,-85.3555,-85.2171, -85.0764,-84.9326,-84.7868,-84.5644, -84.4138,-84.2613,-84.1073,-83.9518, -83.7949,-83.6367,-83.4774,-83.3169, -83.1554,-82.9929,-82.8295,-82.6652, -82.5,-82.3402,-82.18,-82.019,-81.8575, -81.6953,-81.5326,-81.3694,-81.2058, -81.0416,-80.8771,-80.7121,-80.5467, -80.298,-80.1317,-79.965,-79.7963, -79.6298,-79.4626,-79.2949,-79.107, -79.0226,-78.8881,-78.881,-79.0441, -79.2881,-79.45,-79.6921,-79.8525, -80.0124,-80.3297,-80.488,-80.6457, -80.958,-81.192,-81.3469,-81.5005, -81.6531,-81.9554,-82.1082,-82.2624, -82.4154,-82.5671,-82.7174,-82.8663, -83.0136,-83.1592,-83.3031,-83.4449, -83.585,-83.7231,-83.859,-84.0583, -84.1873,-84.3135,-84.4974,-84.6157, -84.7316,-84.8426,-84.9523,-85.0574, -85.1574,-85.2527,-85.3435,-85.4312, -85.5123,-85.5874,-85.7207)
FOOTPRINT_POINT_LONGITUDE = (141.46,142.398,143.999,145.847,148.597 ,151.292,155.059,157.37,159.525,161.525 ,164.321,166.051,167.692,169.227, 170.668,172.03,173.31,174.527,175.674, 177.277,178.276,179.223,180.122,180.974 ,181.784,182.554,183.287,183.985, 184.651,185.286,185.892,186.471,187.026 ,187.537,188.026,188.497,188.949, 189.383,189.801,190.203,190.59,190.963, 191.322,191.669,192.004,192.484,192.791 ,193.088,193.38,193.656,193.923,194.183 ,194.057,192.64,190.637,189.268,188.945 ,188.443,188.094,187.551,187.174, 186.784,185.966,185.536,185.092,184.156 ,183.411,182.891,182.352,181.794, 180.613,179.975,179.301,178.599,177.868 ,177.107,176.313,175.486,174.624, 173.724,172.786,171.806,170.782,169.713 ,168.019,166.827,165.583,163.611, 162.225,160.773,159.263,157.674,156.02, 154.3,152.511,150.639,148.639,146.571, 144.429,141.46)
ORBIT_NUMBER = 4542
ORBITAL_ECCENTRICITY = 0.57
ORBITAL_INCLINATION = 86.7
ORBITAL_SEMIMAJOR_AXIS = 8531.59
PERIAPSIS_ALTITUDE = 293.01
PERIAPSIS_ARGUMENT_ANGLE = 278.52
PERIAPSIS_TIME = 2007-07-18T11:54:18.000Z
SPACECRAFT_ORIENTATION = (0.0,-1.0,0.0)
^MEX_ORIENTATION_DESC = "MEX_ORIENTATION_DESC.TXT"
SPACECRAFT_POINTING_MODE = ACROSSTRACK
^MEX_POINTING_DESC = "MEX_POINTING_DESC.TXT"
RIGHT_ASCENSION = -1e+32
DECLINATION = -1e+32
OFFSET_ANGLE = 0.2
SPACECRAFT_SOLAR_DISTANCE = 2.08711e+08
TARGET_NAME = MARS
/* CAMERA DATA ELEMENTS */
DETECTOR_TEMPERATURE = 17.351
FOCAL_PLANE_TEMPERATURE = 8.7872
INST_CMPRS_NAME = "DISCRETE COSINE TRANSFORMATION (DCT)"
INST_CMPRS_RATIO = 8.45497
INST_CMPRS_QUALITY = 0
INST_CMPRS_QUANTZ_TBL_ID = 0
INSTRUMENT_TEMPERATURE = 11.4379
LENS_TEMPERATURE = 8.9911
MACROPIXEL_SIZE = 4
MISSING_FRAMES = 0
PIXEL_SUBSAMPLING_FLAG = N
SIGNAL_CHAIN_ID = 2
/* RADIOMETRIC DATA ELEMENTS */
BANDWIDTH = 81.0
CENTER_FILTER_WAVELENGTH = 955.5
RADIANCE_OFFSET = 1.54724
RADIANCE_SCALING_FACTOR = 0.00248047
REFLECTANCE_SCALING_FACTOR = 0.000233104
MEX:REFLECTANCE_OFFSET = 0.145403
/* IMAGE OBJECT DEFINITIONS */
OBJECT = IMAGE
  INTERCHANGE_FORMAT = BINARY
  LINES = 9240
  LINE_SAMPLES = 6417
  SAMPLE_TYPE = UNSIGNED_INTEGER
  SAMPLE_BITS = 8
  BANDS = 1
  BAND_STORAGE_TYPE = BAND_SEQUENTIAL
  MAXIMUM = 255
  MEAN = 101.75
  MINIMUM = 1
  STANDARD_DEVIATION = 41.4345
END_OBJECT = IMAGE
/* MAP OBJECT DEFINITIONS */
OBJECT = IMAGE_MAP_PROJECTION
  ^DATA_SET_MAP_PROJECTION_CATALOG= "DSMAP.CAT"
  A_AXIS_RADIUS = 3396.0
  B_AXIS_RADIUS = 3396.0
  C_AXIS_RADIUS = 3396.0
  CENTER_LATITUDE = 0.0
  CENTER_LONGITUDE = 181.0
  COORDINATE_SYSTEM_NAME = PLANETOGRAPHIC
  COORDINATE_SYSTEM_TYPE = "BODY-FIXED ROTATING"
  EASTERNMOST_LONGITUDE = 194.183
  FIRST_STANDARD_PARALLEL = "N/A"
  LINE_FIRST_PIXEL = 1
  LINE_LAST_PIXEL = 9240
  LINE_PROJECTION_OFFSET = -93411.125
  MAP_PROJECTION_ROTATION = 0.0
  MAP_PROJECTION_TYPE = SINUSOIDAL
  MAP_RESOLUTION = 1185.42760773333
  MAP_SCALE = 0.05
  MAXIMUM_LATITUDE = -78.881
  MINIMUM_LATITUDE = -86.63200000000001
  POSITIVE_LONGITUDE_DIRECTION = EAST
  REFERENCE_LATITUDE = "N/A"
  REFERENCE_LONGITUDE = "N/A"
  SAMPLE_FIRST_PIXEL = 1
  SAMPLE_LAST_PIXEL = 6417
  SAMPLE_PROJECTION_OFFSET = 3408.375
  SECOND_STANDARD_PARALLEL = "N/A"
  WESTERNMOST_LONGITUDE = 141.46
END_OBJECT = IMAGE_MAP_PROJECTION
/* The JPEG2000 image data file associated with this label. */
OBJECT = COMPRESSED_FILE
  FILE_NAME = "H4542_0000_IR3.JP2"
  RECORD_TYPE = UNDEFINED
  FILE_RECORDS = UNK
  ENCODING_TYPE = "JP2"
  INTERCHANGE_FORMAT = BINARY
  UNCOMPRESSED_FILE_NAME = "H4542_0000_IR3.IMG"
  REQUIRED_STORAGE_BYTES = "59325165"
  ^DESCRIPTION = "JP2INFO.TXT"
END_OBJECT = COMPRESSED_FILE
END
