PDS_VERSION_ID = PDS3
/* FILE DATA ELEMENTS */
RECORD_TYPE = STREAM
/* POINTERS TO DATA OBJECTS */
^COMPRESSED_FILE = "H4542_0000_P13.JP2"
/* IDENTIFICATION DATA ELEMENTS */
DATA_SET_ID = "MEX-M-HRSC-5-REFDR-MAPPROJECTED-V3.0"
DATA_SET_NAME = "MARS EXPRESS HRSC MAP PROJECTED REFDR V3.0"
DETECTOR_ID = MEX_HRSC_P1
EVENT_TYPE = "MARS-REGIONAL-MAPPING-Gl-Pf-La"
INSTRUMENT_HOST_ID = MEX
INSTRUMENT_HOST_NAME = "MARS EXPRESS"
INSTRUMENT_ID = HRSC
INSTRUMENT_NAME = "HIGH RESOLUTION STEREO CAMERA"
MISSION_NAME = "MARS EXPRESS"
MISSION_PHASE_NAME = ME_Phase_8
PROCESSING_LEVEL_ID = 3
PRODUCT_CREATION_TIME = 2016-04-25T16:23:03.000Z
PRODUCT_ID = "H4542_0000_P13.JP2"
RELEASE_ID = 0052
REVISION_ID = 0000
/* QUALITY DATA ELEMENTS */
DATA_QUALITY_ID = 1
DATA_QUALITY_DESC = "Data calculated based on original SPICE kernels"
/* TIME DATA ELEMENTS */
SPACECRAFT_CLOCK_START_COUNT = "1/0132839523.08396"
SPACECRAFT_CLOCK_STOP_COUNT = "1/0132839711.39578"
START_TIME = 2007-07-18T11:52:16.828Z
STOP_TIME = 2007-07-18T11:54:30.781Z
/* ORBITAL DATA ELEMENTS */
ASCENDING_NODE_LONGITUDE = 133.31
MAXIMUM_RESOLUTION = 47.4
FOOTPRINT_POINT_LATITUDE = (-85.7146,-86.0395,-86.2382,-86.4762, -86.6242,-86.5329,-86.4342,-86.3314, -86.2248,-86.1126,-85.9953,-85.8735, -85.7477,-85.6176,-85.4845,-85.3486, -85.2097,-85.0683,-84.9241,-84.7039, -84.5546,-84.4034,-84.2505,-84.096, -83.94,-83.7827,-83.6241,-83.4643, -83.3034,-83.1415,-82.9786,-82.7337, -82.5747,-82.4151,-82.2549,-82.094, -81.9324,-81.7703,-81.6077,-81.4446, -81.2809,-81.1169,-80.9523,-80.7874, -80.622,-80.4564,-80.2903,-80.1239, -79.9572,-79.7888,-79.622,-79.4547, -79.1201,-79.0416,-78.9469,-78.8765, -78.8771,-79.0403,-79.2027,-79.3654, -79.6078,-79.7689,-79.9291,-80.1685, -80.3268,-80.4853,-80.6432,-80.956, -81.1124,-81.3453,-81.4991,-81.652, -81.955,-82.2538,-82.4063,-82.5585, -82.7092,-82.8586,-83.0064,-83.1525, -83.2969,-83.5098,-83.6494,-83.7869, -83.9223,-84.0549,-84.1848,-84.3115, -84.4359,-84.5564,-84.674,-84.8432, -84.9532,-85.0587,-85.159,-85.3007, -85.3886,-85.4704,-85.5493,-85.7146)
FOOTPRINT_POINT_LONGITUDE = (141.738,143.477,144.704,146.378, 148.704,151.399,153.952,156.299,158.47, 160.531,162.483,164.325,166.059,167.701 ,169.24,170.685,172.049,173.333,174.552 ,176.251,177.306,178.306,179.253, 180.152,181.005,181.815,182.585,183.318 ,184.016,184.681,185.316,186.211, 186.757,187.28,187.781,188.261,188.723, 189.167,189.593,190.004,190.398,190.779 ,191.145,191.499,191.84,192.168,192.486 ,192.793,193.09,193.382,193.658,193.925 ,194.436,193.067,191.57,190.55,189.274, 188.952,188.619,188.277,187.742,187.372 ,186.989,186.39,185.974,185.544,185.1, 184.163,183.671,182.899,182.36,181.801, 180.618,179.344,178.646,177.916,177.155 ,176.362,175.535,174.673,173.773, 172.348,171.346,170.299,169.204,168.061 ,166.867,165.619,164.314,162.953, 161.529,159.277,157.685,156.026,154.3, 151.578,149.676,147.707,145.594, 141.738)
ORBIT_NUMBER = 4542
ORBITAL_ECCENTRICITY = 0.57
ORBITAL_INCLINATION = 86.7
ORBITAL_SEMIMAJOR_AXIS = 8531.59
PERIAPSIS_ALTITUDE = 293.01
PERIAPSIS_ARGUMENT_ANGLE = 278.52
PERIAPSIS_TIME = 2007-07-18T11:54:18.000Z
SPACECRAFT_ORIENTATION = (0.0,-1.0,0.0)
^MEX_ORIENTATION_DESC = "MEX_ORIENTATION_DESC.TXT"
SPACECRAFT_POINTING_MODE = ACROSSTRACK
^MEX_POINTING_DESC = "MEX_POINTING_DESC.TXT"
RIGHT_ASCENSION = -1e+32
DECLINATION = -1e+32
OFFSET_ANGLE = 0.2
SPACECRAFT_SOLAR_DISTANCE = 2.08711e+08
TARGET_NAME = MARS
/* CAMERA DATA ELEMENTS */
DETECTOR_TEMPERATURE = 17.351
FOCAL_PLANE_TEMPERATURE = 8.7872
INST_CMPRS_NAME = "DISCRETE COSINE TRANSFORMATION (DCT)"
INST_CMPRS_RATIO = 15.9333
INST_CMPRS_QUALITY = 0
INST_CMPRS_QUANTZ_TBL_ID = 0
INSTRUMENT_TEMPERATURE = 11.4379
LENS_TEMPERATURE = 8.9911
MACROPIXEL_SIZE = 4
MISSING_FRAMES = 0
PIXEL_SUBSAMPLING_FLAG = N
SIGNAL_CHAIN_ID = 3
/* RADIOMETRIC DATA ELEMENTS */
BANDWIDTH = 174.0
CENTER_FILTER_WAVELENGTH = 675.0
RADIANCE_OFFSET = 6.66524
RADIANCE_SCALING_FACTOR = 0.00816818
REFLECTANCE_SCALING_FACTOR = 0.000191381
MEX:REFLECTANCE_OFFSET = 0.156167
/* IMAGE OBJECT DEFINITIONS */
OBJECT = IMAGE
  INTERCHANGE_FORMAT = BINARY
  LINES = 9240
  LINE_SAMPLES = 6417
  SAMPLE_TYPE = UNSIGNED_INTEGER
  SAMPLE_BITS = 8
  BANDS = 1
  BAND_STORAGE_TYPE = BAND_SEQUENTIAL
  MAXIMUM = 255
  MEAN = 102.094
  MINIMUM = 1
  STANDARD_DEVIATION = 50.3585
END_OBJECT = IMAGE
/* MAP OBJECT DEFINITIONS */
OBJECT = IMAGE_MAP_PROJECTION
  ^DATA_SET_MAP_PROJECTION_CATALOG= "DSMAP.CAT"
  A_AXIS_RADIUS = 3396.0
  B_AXIS_RADIUS = 3396.0
  C_AXIS_RADIUS = 3396.0
  CENTER_LATITUDE = 0.0
  CENTER_LONGITUDE = 181.0
  COORDINATE_SYSTEM_NAME = PLANETOGRAPHIC
  COORDINATE_SYSTEM_TYPE = "BODY-FIXED ROTATING"
  EASTERNMOST_LONGITUDE = 194.436
  FIRST_STANDARD_PARALLEL = "N/A"
  LINE_FIRST_PIXEL = 1
  LINE_LAST_PIXEL = 9240
  LINE_PROJECTION_OFFSET = -93411.125
  MAP_PROJECTION_ROTATION = 0.0
  MAP_PROJECTION_TYPE = SINUSOIDAL
  MAP_RESOLUTION = 1185.42760773333
  MAP_SCALE = 0.05
  MAXIMUM_LATITUDE = -78.87649999999999
  MINIMUM_LATITUDE = -86.6242
  POSITIVE_LONGITUDE_DIRECTION = EAST
  REFERENCE_LATITUDE = "N/A"
  REFERENCE_LONGITUDE = "N/A"
  SAMPLE_FIRST_PIXEL = 1
  SAMPLE_LAST_PIXEL = 6417
  SAMPLE_PROJECTION_OFFSET = 3408.375
  SECOND_STANDARD_PARALLEL = "N/A"
  WESTERNMOST_LONGITUDE = 141.738
END_OBJECT = IMAGE_MAP_PROJECTION
/* The JPEG2000 image data file associated with this label. */
OBJECT = COMPRESSED_FILE
  FILE_NAME = "H4542_0000_P13.JP2"
  RECORD_TYPE = UNDEFINED
  FILE_RECORDS = UNK
  ENCODING_TYPE = "JP2"
  INTERCHANGE_FORMAT = BINARY
  UNCOMPRESSED_FILE_NAME = "H4542_0000_P13.IMG"
  REQUIRED_STORAGE_BYTES = "59325165"
  ^DESCRIPTION = "JP2INFO.TXT"
END_OBJECT = COMPRESSED_FILE
END
