PDS_VERSION_ID = PDS3
/* FILE DATA ELEMENTS */
RECORD_TYPE = STREAM
/* POINTERS TO DATA OBJECTS */
^COMPRESSED_FILE = "H4544_0000_IR3.JP2"
/* IDENTIFICATION DATA ELEMENTS */
DATA_SET_ID = "MEX-M-HRSC-5-REFDR-MAPPROJECTED-V3.0"
DATA_SET_NAME = "MARS EXPRESS HRSC MAP PROJECTED REFDR V3.0"
DETECTOR_ID = MEX_HRSC_IR
EVENT_TYPE = "MARS-REGIONAL-MAPPING-Gl-Pf-La"
INSTRUMENT_HOST_ID = MEX
INSTRUMENT_HOST_NAME = "MARS EXPRESS"
INSTRUMENT_ID = HRSC
INSTRUMENT_NAME = "HIGH RESOLUTION STEREO CAMERA"
MISSION_NAME = "MARS EXPRESS"
MISSION_PHASE_NAME = ME_Phase_8
PROCESSING_LEVEL_ID = 3
PRODUCT_CREATION_TIME = 2016-04-25T16:23:03.000Z
PRODUCT_ID = "H4544_0000_IR3.JP2"
RELEASE_ID = 0052
REVISION_ID = 0000
/* QUALITY DATA ELEMENTS */
DATA_QUALITY_ID = 1
DATA_QUALITY_DESC = "Data calculated based on original SPICE kernels"
/* TIME DATA ELEMENTS */
SPACECRAFT_CLOCK_START_COUNT = "1/0132887984.08251"
SPACECRAFT_CLOCK_STOP_COUNT = "1/0132888100.14812"
START_TIME = 2007-07-19T01:19:52.700Z
STOP_TIME = 2007-07-19T01:20:54.684Z
/* ORBITAL DATA ELEMENTS */
ASCENDING_NODE_LONGITUDE = 133.27
MAXIMUM_RESOLUTION = 48.4
FOOTPRINT_POINT_LATITUDE = (-82.7229,-82.7921,-82.8988,-82.9879, -83.0529,-83.1232,-83.172,-83.1099, -82.9947,-82.9179,-82.8409,-82.7257, -82.576,-82.4257,-82.3502,-82.2369, -82.1609,-82.085,-82.0088,-81.8569, -81.78,-81.6655,-81.5888,-81.512, -81.4353,-81.3584,-81.2814,-81.1657, -81.0498,-80.9724,-80.8948,-80.8173, -80.7397,-80.662,-80.5842,-80.5063, -80.4284,-80.3505,-80.2725,-80.1945, -80.1164,-80.0381,-79.96,-79.8816, -79.7641,-79.6463,-79.5282,-79.4495, -79.3707,-79.2918,-79.176,-79.1404, -79.1006,-79.0759,-79.0276,-78.9977, -78.9673,-78.9208,-78.9817,-79.0578, -79.1344,-79.2111,-79.2875,-79.3637, -79.4398,-79.5155,-79.5913,-79.6672, -79.7809,-79.8565,-79.9318,-80.0445, -80.1571,-80.2694,-80.3441,-80.4187, -80.5305,-80.6049,-80.6792,-80.7534, -80.8274,-80.9012,-81.0116,-81.0851, -81.1949,-81.3044,-81.3772,-81.45, -81.5225,-81.6669,-81.7389,-81.8824, -82.0248,-82.1309,-82.2718,-82.3802, -82.4524,-82.5604,-82.6311,-82.7229)
FOOTPRINT_POINT_LONGITUDE = (342.747,343.666,345.173,346.53,347.586 ,348.799,349.691,350.217,350.625, 350.887,351.145,351.519,351.988,352.44, 352.659,352.98,353.19,353.395,353.598, 353.986,354.179,354.457,354.639,354.818 ,354.993,355.164,355.334,355.582, 355.824,355.982,356.137,356.29,356.44, 356.587,356.732,356.875,357.015,357.153 ,357.288,357.421,357.553,357.682, 357.809,357.935,358.118,358.299,358.475 ,358.591,358.704,358.817,358.356, 357.675,356.953,356.522,355.712,355.24, 354.77,354.07,353.679,353.535,353.389, 353.241,353.09,352.938,352.783,352.626, 352.466,352.304,352.057,351.889,351.718 ,351.457,351.191,350.917,350.732, 350.543,350.254,350.058,349.858,349.656 ,349.449,349.24,348.919,348.701,348.367 ,348.024,347.79,347.553,347.311,346.815 ,346.561,346.038,345.497,345.078, 344.501,344.042,343.725,343.239,342.908 ,342.747)
ORBIT_NUMBER = 4544
ORBITAL_ECCENTRICITY = 0.57
ORBITAL_INCLINATION = 86.69
ORBITAL_SEMIMAJOR_AXIS = 8531.64
PERIAPSIS_ALTITUDE = 293.67
PERIAPSIS_ARGUMENT_ANGLE = 278.15
PERIAPSIS_TIME = 2007-07-19T01:20:41.000Z
SPACECRAFT_ORIENTATION = (0.0,-1.0,0.0)
^MEX_ORIENTATION_DESC = "MEX_ORIENTATION_DESC.TXT"
SPACECRAFT_POINTING_MODE = NADIR
^MEX_POINTING_DESC = "MEX_POINTING_DESC.TXT"
RIGHT_ASCENSION = -1e+32
DECLINATION = -1e+32
OFFSET_ANGLE = -1e+32
SPACECRAFT_SOLAR_DISTANCE = 2.08762e+08
TARGET_NAME = MARS
/* CAMERA DATA ELEMENTS */
DETECTOR_TEMPERATURE = 17.351
FOCAL_PLANE_TEMPERATURE = 8.3794
INST_CMPRS_NAME = "DISCRETE COSINE TRANSFORMATION (DCT)"
INST_CMPRS_RATIO = 31.5815
INST_CMPRS_QUALITY = 0
INST_CMPRS_QUANTZ_TBL_ID = 0
INSTRUMENT_TEMPERATURE = 11.4379
LENS_TEMPERATURE = 8.7872
MACROPIXEL_SIZE = 4
MISSING_FRAMES = 0
PIXEL_SUBSAMPLING_FLAG = N
SIGNAL_CHAIN_ID = 2
/* RADIOMETRIC DATA ELEMENTS */
BANDWIDTH = 81.0
CENTER_FILTER_WAVELENGTH = 955.5
RADIANCE_OFFSET = 2.49135
RADIANCE_SCALING_FACTOR = 0.0046604
REFLECTANCE_SCALING_FACTOR = 0.000438181
MEX:REFLECTANCE_OFFSET = 0.234242
/* IMAGE OBJECT DEFINITIONS */
OBJECT = IMAGE
  INTERCHANGE_FORMAT = BINARY
  LINES = 4972
  LINE_SAMPLES = 2868
  SAMPLE_TYPE = UNSIGNED_INTEGER
  SAMPLE_BITS = 8
  BANDS = 1
  BAND_STORAGE_TYPE = BAND_SEQUENTIAL
  MAXIMUM = 255
  MEAN = 247.153
  MINIMUM = 3
  STANDARD_DEVIATION = 28.5964
END_OBJECT = IMAGE
/* MAP OBJECT DEFINITIONS */
OBJECT = IMAGE_MAP_PROJECTION
  ^DATA_SET_MAP_PROJECTION_CATALOG= "DSMAP.CAT"
  A_AXIS_RADIUS = 3396.0
  B_AXIS_RADIUS = 3396.0
  C_AXIS_RADIUS = 3396.0
  CENTER_LATITUDE = 0.0
  CENTER_LONGITUDE = 352.0
  COORDINATE_SYSTEM_NAME = PLANETOGRAPHIC
  COORDINATE_SYSTEM_TYPE = "BODY-FIXED ROTATING"
  EASTERNMOST_LONGITUDE = 358.817
  FIRST_STANDARD_PARALLEL = "N/A"
  LINE_FIRST_PIXEL = 1
  LINE_LAST_PIXEL = 4972
  LINE_PROJECTION_OFFSET = -93518.625
  MAP_PROJECTION_ROTATION = 0.0
  MAP_PROJECTION_TYPE = SINUSOIDAL
  MAP_RESOLUTION = 1185.42760773333
  MAP_SCALE = 0.05
  MAXIMUM_LATITUDE = -78.9208
  MINIMUM_LATITUDE = -83.172
  POSITIVE_LONGITUDE_DIRECTION = EAST
  REFERENCE_LATITUDE = "N/A"
  REFERENCE_LONGITUDE = "N/A"
  SAMPLE_FIRST_PIXEL = 1
  SAMPLE_LAST_PIXEL = 2868
  SAMPLE_PROJECTION_OFFSET = 1344.625
  SECOND_STANDARD_PARALLEL = "N/A"
  WESTERNMOST_LONGITUDE = 342.747
END_OBJECT = IMAGE_MAP_PROJECTION
/* The JPEG2000 image data file associated with this label. */
OBJECT = COMPRESSED_FILE
  FILE_NAME = "H4544_0000_IR3.JP2"
  RECORD_TYPE = UNDEFINED
  FILE_RECORDS = UNK
  ENCODING_TYPE = "JP2"
  INTERCHANGE_FORMAT = BINARY
  UNCOMPRESSED_FILE_NAME = "H4544_0000_IR3.IMG"
  REQUIRED_STORAGE_BYTES = "14282640"
  ^DESCRIPTION = "JP2INFO.TXT"
END_OBJECT = COMPRESSED_FILE
END
