PDS_VERSION_ID = PDS3
/* FILE DATA ELEMENTS */
RECORD_TYPE = STREAM
/* POINTERS TO DATA OBJECTS */
^COMPRESSED_FILE = "H4544_0000_ND3.JP2"
/* IDENTIFICATION DATA ELEMENTS */
DATA_SET_ID = "MEX-M-HRSC-5-REFDR-MAPPROJECTED-V3.0"
DATA_SET_NAME = "MARS EXPRESS HRSC MAP PROJECTED REFDR V3.0"
DETECTOR_ID = MEX_HRSC_NADIR
EVENT_TYPE = "MARS-REGIONAL-MAPPING-Gl-Pf-La"
INSTRUMENT_HOST_ID = MEX
INSTRUMENT_HOST_NAME = "MARS EXPRESS"
INSTRUMENT_ID = HRSC
INSTRUMENT_NAME = "HIGH RESOLUTION STEREO CAMERA"
MISSION_NAME = "MARS EXPRESS"
MISSION_PHASE_NAME = ME_Phase_8
PROCESSING_LEVEL_ID = 3
PRODUCT_CREATION_TIME = 2016-04-25T16:23:03.000Z
PRODUCT_ID = "H4544_0000_ND3.JP2"
RELEASE_ID = 0052
REVISION_ID = 0000
/* QUALITY DATA ELEMENTS */
DATA_QUALITY_ID = 1
DATA_QUALITY_DESC = "Data calculated based on original SPICE kernels"
/* TIME DATA ELEMENTS */
SPACECRAFT_CLOCK_START_COUNT = "1/0132887984.08251"
SPACECRAFT_CLOCK_STOP_COUNT = "1/0132888100.14812"
START_TIME = 2007-07-19T01:20:14.183Z
STOP_TIME = 2007-07-19T01:21:16.175Z
/* ORBITAL DATA ELEMENTS */
ASCENDING_NODE_LONGITUDE = 133.27
MAXIMUM_RESOLUTION = 11.6
FOOTPRINT_POINT_LATITUDE = (-82.6912,-82.7976,-82.8642,-82.9117, -82.9948,-83.0584,-83.0584,-82.9447, -82.8687,-82.7543,-82.6779,-82.6014, -82.4865,-82.4097,-82.2943,-82.2172, -82.14,-82.0627,-81.9853,-81.9078, -81.8302,-81.7525,-81.6747,-81.5968, -81.5188,-81.4407,-81.3626,-81.2844, -81.1669,-81.0885,-81.01,-80.9314, -80.8528,-80.7741,-80.6953,-80.6165, -80.4981,-80.4192,-80.3006,-80.2214, -80.1422,-80.063,-79.9837,-79.9044, -79.825,-79.7058,-79.6263,-79.5468, -79.4672,-79.3876,-79.3079,-79.2283, -79.1591,-79.103,-79.0578,-79.0255, -78.9921,-78.945,-78.8813,-78.9976, -79.1524,-79.2682,-79.4224,-79.5763, -79.6915,-79.8448,-79.9213,-79.9976, -80.0739,-80.1501,-80.2262,-80.3022, -80.4159,-80.4916,-80.5672,-80.6804, -80.7557,-80.8309,-80.9059,-81.0182, -81.1302,-81.2418,-81.3161,-81.3902, -81.4641,-81.5748,-81.6483,-81.7217, -81.8314,-81.9043,-81.977,-82.0857, -82.1938,-82.2657,-82.3374,-82.4089, -82.48,-82.551,-82.6215,-82.6912)
FOOTPRINT_POINT_LONGITUDE = (343.778,345.283,346.288,347.036, 348.422,349.556,350.378,350.777,351.035 ,351.41,351.654,351.895,352.245,352.473 ,352.807,353.024,353.237,353.446, 353.651,353.85,354.048,354.24,354.429, 354.615,354.798,354.976,355.152,355.325 ,355.578,355.743,355.905,356.064, 356.221,356.375,356.526,356.674,356.893 ,357.035,357.244,357.38,357.515,357.647 ,357.777,357.905,358.031,358.216, 358.337,358.456,358.574,358.689,358.803 ,358.916,358.57,357.489,356.675,356.118 ,355.564,354.815,353.85,353.636,353.343 ,353.117,352.808,352.489,352.244, 351.908,351.735,351.56,351.382,351.201, 351.018,350.831,350.546,350.352,350.155 ,349.853,349.648,349.439,349.226,348.9, 348.566,348.223,347.989,347.752,347.51, 347.139,346.886,346.629,346.234,345.965 ,345.69,345.269,344.835,344.539,344.238 ,343.931,343.618,343.298,342.97, 343.778)
ORBIT_NUMBER = 4544
ORBITAL_ECCENTRICITY = 0.57
ORBITAL_INCLINATION = 86.69
ORBITAL_SEMIMAJOR_AXIS = 8531.64
PERIAPSIS_ALTITUDE = 293.67
PERIAPSIS_ARGUMENT_ANGLE = 278.15
PERIAPSIS_TIME = 2007-07-19T01:20:41.000Z
SPACECRAFT_ORIENTATION = (0.0,-1.0,0.0)
^MEX_ORIENTATION_DESC = "MEX_ORIENTATION_DESC.TXT"
SPACECRAFT_POINTING_MODE = NADIR
^MEX_POINTING_DESC = "MEX_POINTING_DESC.TXT"
RIGHT_ASCENSION = -1e+32
DECLINATION = -1e+32
OFFSET_ANGLE = -1e+32
SPACECRAFT_SOLAR_DISTANCE = 2.08762e+08
TARGET_NAME = MARS
/* CAMERA DATA ELEMENTS */
DETECTOR_TEMPERATURE = 18.3705
FOCAL_PLANE_TEMPERATURE = 8.3794
INST_CMPRS_NAME = "DISCRETE COSINE TRANSFORMATION (DCT)"
INST_CMPRS_RATIO = 6.61216
INST_CMPRS_QUALITY = 0
INST_CMPRS_QUANTZ_TBL_ID = 0
INSTRUMENT_TEMPERATURE = 11.4379
LENS_TEMPERATURE = 8.7872
MACROPIXEL_SIZE = 1
MISSING_FRAMES = 0
PIXEL_SUBSAMPLING_FLAG = N
SIGNAL_CHAIN_ID = 0
/* RADIOMETRIC DATA ELEMENTS */
BANDWIDTH = 177.0
CENTER_FILTER_WAVELENGTH = 677.5
RADIANCE_OFFSET = 9.33901
RADIANCE_SCALING_FACTOR = 0.0223811
REFLECTANCE_SCALING_FACTOR = 0.000518162
MEX:REFLECTANCE_OFFSET = 0.216215
/* IMAGE OBJECT DEFINITIONS */
OBJECT = IMAGE
  INTERCHANGE_FORMAT = BINARY
  LINES = 19886
  LINE_SAMPLES = 11470
  SAMPLE_TYPE = UNSIGNED_INTEGER
  SAMPLE_BITS = 8
  BANDS = 1
  BAND_STORAGE_TYPE = BAND_SEQUENTIAL
  MAXIMUM = 255
  MEAN = 192.668
  MINIMUM = 1
  STANDARD_DEVIATION = 32.9624
END_OBJECT = IMAGE
/* MAP OBJECT DEFINITIONS */
OBJECT = IMAGE_MAP_PROJECTION
  ^DATA_SET_MAP_PROJECTION_CATALOG= "DSMAP.CAT"
  A_AXIS_RADIUS = 3396.0
  B_AXIS_RADIUS = 3396.0
  C_AXIS_RADIUS = 3396.0
  CENTER_LATITUDE = 0.0
  CENTER_LONGITUDE = 352.0
  COORDINATE_SYSTEM_NAME = PLANETOGRAPHIC
  COORDINATE_SYSTEM_TYPE = "BODY-FIXED ROTATING"
  EASTERNMOST_LONGITUDE = 358.916
  FIRST_STANDARD_PARALLEL = "N/A"
  LINE_FIRST_PIXEL = 1
  LINE_LAST_PIXEL = 19886
  LINE_PROJECTION_OFFSET = -374073.0
  MAP_PROJECTION_ROTATION = 0.0
  MAP_PROJECTION_TYPE = SINUSOIDAL
  MAP_RESOLUTION = 4741.71043093333
  MAP_SCALE = 0.0125
  MAXIMUM_LATITUDE = -78.8813
  MINIMUM_LATITUDE = -83.05840000000001
  POSITIVE_LONGITUDE_DIRECTION = EAST
  REFERENCE_LATITUDE = "N/A"
  REFERENCE_LONGITUDE = "N/A"
  SAMPLE_FIRST_PIXEL = 1
  SAMPLE_LAST_PIXEL = 11470
  SAMPLE_PROJECTION_OFFSET = 5380.0
  SECOND_STANDARD_PARALLEL = "N/A"
  WESTERNMOST_LONGITUDE = 342.97
END_OBJECT = IMAGE_MAP_PROJECTION
/* The JPEG2000 image data file associated with this label. */
OBJECT = COMPRESSED_FILE
  FILE_NAME = "H4544_0000_ND3.JP2"
  RECORD_TYPE = UNDEFINED
  FILE_RECORDS = UNK
  ENCODING_TYPE = "JP2"
  INTERCHANGE_FORMAT = BINARY
  UNCOMPRESSED_FILE_NAME = "H4544_0000_ND3.IMG"
  REQUIRED_STORAGE_BYTES = "228126830"
  ^DESCRIPTION = "JP2INFO.TXT"
END_OBJECT = COMPRESSED_FILE
END
