PDS_VERSION_ID = PDS3
/* FILE DATA ELEMENTS */
RECORD_TYPE = STREAM
/* POINTERS TO DATA OBJECTS */
^COMPRESSED_FILE = "H4552_0000_IR3.JP2"
/* IDENTIFICATION DATA ELEMENTS */
DATA_SET_ID = "MEX-M-HRSC-5-REFDR-MAPPROJECTED-V3.0"
DATA_SET_NAME = "MARS EXPRESS HRSC MAP PROJECTED REFDR V3.0"
DETECTOR_ID = MEX_HRSC_IR
EVENT_TYPE = "MARS-REGIONAL-MAPPING-Gl-Pf-La"
INSTRUMENT_HOST_ID = MEX
INSTRUMENT_HOST_NAME = "MARS EXPRESS"
INSTRUMENT_ID = HRSC
INSTRUMENT_NAME = "HIGH RESOLUTION STEREO CAMERA"
MISSION_NAME = "MARS EXPRESS"
MISSION_PHASE_NAME = ME_Phase_8
PROCESSING_LEVEL_ID = 3
PRODUCT_CREATION_TIME = 2016-04-25T16:23:03.000Z
PRODUCT_ID = "H4552_0000_IR3.JP2"
RELEASE_ID = 0052
REVISION_ID = 0000
/* QUALITY DATA ELEMENTS */
DATA_QUALITY_ID = 1
DATA_QUALITY_DESC = "Data calculated based on original SPICE kernels"
/* TIME DATA ELEMENTS */
SPACECRAFT_CLOCK_START_COUNT = "1/0133081538.09062"
SPACECRAFT_CLOCK_STOP_COUNT = "1/0133081704.23897"
START_TIME = 2007-07-21T07:05:46.662Z
STOP_TIME = 2007-07-21T07:07:36.330Z
/* ORBITAL DATA ELEMENTS */
ASCENDING_NODE_LONGITUDE = 133.11
MAXIMUM_RESOLUTION = 48.7
FOOTPRINT_POINT_LATITUDE = (-83.3176,-83.3654,-83.4109,-83.4538, -83.4939,-83.5311,-83.4992,-83.3581, -83.1458,-83.0024,-82.7906,-82.6487, -82.507,-82.3629,-82.2197,-82.0066, -81.864,-81.6497,-81.5064,-81.3618, -81.1449,-80.9298,-80.7838,-80.6383, -80.4941,-80.2792,-80.1341,-79.9168, -79.7716,-79.6279,-79.4834,-79.3405, -79.1949,-79.052,-78.9083,-78.7607, -78.6144,-78.3957,-78.2496,-78.104, -77.961,-77.816,-77.6676,-77.4507, -77.232,-77.0857,-76.8667,-76.7201, -76.5716,-76.4278,-76.2653,-76.25, -76.2329,-76.2094,-76.1911,-76.1732, -76.3858,-76.5283,-76.6723,-76.8185, -77.0357,-77.2524,-77.3963,-77.5388, -77.6813,-77.8942,-78.0378,-78.1797, -78.3245,-78.5404,-78.8209,-78.9633, -79.1055,-79.3184,-79.4601,-79.6721, -79.8137,-79.9558,-80.167,-80.3084, -80.4472,-80.5864,-80.7274,-80.9362, -81.0755,-81.2167,-81.3585,-81.4955, -81.6305,-81.7678,-81.906,-82.0463, -82.1833,-82.3189,-82.4555,-82.5911, -82.7261,-82.9278,-83.0618,-83.3176)
FOOTPRINT_POINT_LONGITUDE = (284.574,285.772,287.007,288.277, 289.583,290.927,292.88,293.202,293.663, 293.978,294.372,294.63,294.871,295.134, 295.373,295.689,295.895,296.192,296.384 ,296.583,296.867,297.115,297.299,297.47 ,297.624,297.829,297.977,298.185, 298.322,298.44,298.562,298.666,298.789, 298.885,298.987,299.114,299.228,299.386 ,299.49,299.587,299.663,299.751,299.86, 299.979,300.104,300.189,300.308,300.389 ,300.479,300.539,300.444,299.376, 298.513,297.497,296.791,296.181,295.874 ,295.759,295.638,295.508,295.312, 295.109,294.972,294.835,294.694,294.478 ,294.324,294.171,294.004,293.749, 293.418,293.237,293.051,292.764,292.565 ,292.258,292.043,291.82,291.479,291.239 ,291.003,290.758,290.494,290.095, 289.815,289.515,289.2,288.9,288.6, 288.274,287.929,287.556,287.189,286.815 ,286.418,286.011,285.589,284.924, 284.459,284.574)
ORBIT_NUMBER = 4552
ORBITAL_ECCENTRICITY = 0.57
ORBITAL_INCLINATION = 86.69
ORBITAL_SEMIMAJOR_AXIS = 8530.86
PERIAPSIS_ALTITUDE = 293.73
PERIAPSIS_ARGUMENT_ANGLE = 276.8
PERIAPSIS_TIME = 2007-07-21T07:06:16.000Z
SPACECRAFT_ORIENTATION = (0.0,-1.0,0.0)
^MEX_ORIENTATION_DESC = "MEX_ORIENTATION_DESC.TXT"
SPACECRAFT_POINTING_MODE = ACROSSTRACK
^MEX_POINTING_DESC = "MEX_POINTING_DESC.TXT"
RIGHT_ASCENSION = -1e+32
DECLINATION = -1e+32
OFFSET_ANGLE = -1.0
SPACECRAFT_SOLAR_DISTANCE = 2.08972e+08
TARGET_NAME = MARS
/* CAMERA DATA ELEMENTS */
DETECTOR_TEMPERATURE = 17.5549
FOCAL_PLANE_TEMPERATURE = 10.0106
INST_CMPRS_NAME = "DISCRETE COSINE TRANSFORMATION (DCT)"
INST_CMPRS_RATIO = 14.0381
INST_CMPRS_QUALITY = 0
INST_CMPRS_QUANTZ_TBL_ID = 0
INSTRUMENT_TEMPERATURE = 11.234
LENS_TEMPERATURE = 8.9911
MACROPIXEL_SIZE = 4
MISSING_FRAMES = 0
PIXEL_SUBSAMPLING_FLAG = N
SIGNAL_CHAIN_ID = 2
/* RADIOMETRIC DATA ELEMENTS */
BANDWIDTH = 81.0
CENTER_FILTER_WAVELENGTH = 955.5
RADIANCE_OFFSET = 1.85682
RADIANCE_SCALING_FACTOR = 0.00237445
REFLECTANCE_SCALING_FACTOR = 0.000223702
MEX:REFLECTANCE_OFFSET = 0.174935
/* IMAGE OBJECT DEFINITIONS */
OBJECT = IMAGE
  INTERCHANGE_FORMAT = BINARY
  LINES = 8774
  LINE_SAMPLES = 3137
  SAMPLE_TYPE = UNSIGNED_INTEGER
  SAMPLE_BITS = 8
  BANDS = 1
  BAND_STORAGE_TYPE = BAND_SEQUENTIAL
  MAXIMUM = 255
  MEAN = 196.129
  MINIMUM = 1
  STANDARD_DEVIATION = 61.9462
END_OBJECT = IMAGE
/* MAP OBJECT DEFINITIONS */
OBJECT = IMAGE_MAP_PROJECTION
  ^DATA_SET_MAP_PROJECTION_CATALOG= "DSMAP.CAT"
  A_AXIS_RADIUS = 3396.0
  B_AXIS_RADIUS = 3396.0
  C_AXIS_RADIUS = 3396.0
  CENTER_LATITUDE = 0.0
  CENTER_LONGITUDE = 295.0
  COORDINATE_SYSTEM_NAME = PLANETOGRAPHIC
  COORDINATE_SYSTEM_TYPE = "BODY-FIXED ROTATING"
  EASTERNMOST_LONGITUDE = 300.539
  FIRST_STANDARD_PARALLEL = "N/A"
  LINE_FIRST_PIXEL = 1
  LINE_LAST_PIXEL = 8774
  LINE_PROJECTION_OFFSET = -90224.375
  MAP_PROJECTION_ROTATION = 0.0
  MAP_PROJECTION_TYPE = SINUSOIDAL
  MAP_RESOLUTION = 1185.42760773333
  MAP_SCALE = 0.05
  MAXIMUM_LATITUDE = -76.17319999999999
  MINIMUM_LATITUDE = -83.5311
  POSITIVE_LONGITUDE_DIRECTION = EAST
  REFERENCE_LATITUDE = "N/A"
  REFERENCE_LONGITUDE = "N/A"
  SAMPLE_FIRST_PIXEL = 1
  SAMPLE_LAST_PIXEL = 3137
  SAMPLE_PROJECTION_OFFSET = 1576.375
  SECOND_STANDARD_PARALLEL = "N/A"
  WESTERNMOST_LONGITUDE = 284.459
END_OBJECT = IMAGE_MAP_PROJECTION
/* The JPEG2000 image data file associated with this label. */
OBJECT = COMPRESSED_FILE
  FILE_NAME = "H4552_0000_IR3.JP2"
  RECORD_TYPE = UNDEFINED
  FILE_RECORDS = UNK
  ENCODING_TYPE = "JP2"
  INTERCHANGE_FORMAT = BINARY
  UNCOMPRESSED_FILE_NAME = "H4552_0000_IR3.IMG"
  REQUIRED_STORAGE_BYTES = "27549134"
  ^DESCRIPTION = "JP2INFO.TXT"
END_OBJECT = COMPRESSED_FILE
END
