PDS_VERSION_ID = PDS3
/* FILE DATA ELEMENTS */
RECORD_TYPE = STREAM
/* POINTERS TO DATA OBJECTS */
^COMPRESSED_FILE = "H4552_0000_S23.JP2"
/* IDENTIFICATION DATA ELEMENTS */
DATA_SET_ID = "MEX-M-HRSC-5-REFDR-MAPPROJECTED-V3.0"
DATA_SET_NAME = "MARS EXPRESS HRSC MAP PROJECTED REFDR V3.0"
DETECTOR_ID = MEX_HRSC_S2
EVENT_TYPE = "MARS-REGIONAL-MAPPING-Gl-Pf-La"
INSTRUMENT_HOST_ID = MEX
INSTRUMENT_HOST_NAME = "MARS EXPRESS"
INSTRUMENT_ID = HRSC
INSTRUMENT_NAME = "HIGH RESOLUTION STEREO CAMERA"
MISSION_NAME = "MARS EXPRESS"
MISSION_PHASE_NAME = ME_Phase_8
PROCESSING_LEVEL_ID = 3
PRODUCT_CREATION_TIME = 2016-04-25T16:23:03.000Z
PRODUCT_ID = "H4552_0000_S23.JP2"
RELEASE_ID = 0052
REVISION_ID = 0000
/* QUALITY DATA ELEMENTS */
DATA_QUALITY_ID = 1
DATA_QUALITY_DESC = "Data calculated based on original SPICE kernels"
/* TIME DATA ELEMENTS */
SPACECRAFT_CLOCK_START_COUNT = "1/0133081538.09062"
SPACECRAFT_CLOCK_STOP_COUNT = "1/0133081704.23897"
START_TIME = 2007-07-21T07:06:35.191Z
STOP_TIME = 2007-07-21T07:08:26.415Z
/* ORBITAL DATA ELEMENTS */
ASCENDING_NODE_LONGITUDE = 133.11
MAXIMUM_RESOLUTION = 24.9
FOOTPRINT_POINT_LATITUDE = (-83.0586,-83.1255,-83.1907,-83.2541, -83.3155,-83.3998,-83.3135,-83.173, -83.0358,-82.8917,-82.7505,-82.539, -82.3981,-82.1858,-82.0422,-81.8285, -81.6862,-81.472,-81.2626,-81.1209, -80.9776,-80.6983,-80.5568,-80.3404, -80.1966,-79.9169,-79.7737,-79.6295, -79.4865,-79.3407,-79.1982,-79.0472, -78.8962,-78.7544,-78.6089,-78.4629, -78.3166,-78.1699,-78.0192,-77.7981, -77.6548,-77.5055,-77.3572,-77.2106, -77.0648,-76.9181,-76.7718,-76.6298, -76.4793,-76.3334,-76.2775,-76.2448, -76.2141,-76.1645,-76.117,-76.0674, -76.2132,-76.3578,-76.5054,-76.6496, -76.7907,-76.9353,-77.0778,-77.2222, -77.3667,-77.5129,-77.73,-77.9513, -78.0956,-78.3099,-78.4532,-78.6019, -78.8216,-78.9645,-79.1031,-79.2431, -79.452,-79.5915,-79.7306,-80.0037, -80.1446,-80.2836,-80.4244,-80.564, -80.701,-80.8399,-80.9783,-81.1146, -81.3173,-81.523,-81.6659,-81.8024, -82.0698,-82.2057,-82.3424,-82.4774, -82.6128,-82.7478,-82.8824,-83.0586)
FOOTPRINT_POINT_LONGITUDE = (285.557,286.707,287.899,289.13,290.405 ,292.317,293.384,293.69,293.998,294.264 ,294.532,294.918,295.163,295.511, 295.724,296.036,296.236,296.521,296.811 ,296.988,297.153,297.496,297.652, 297.863,297.999,298.289,298.415,298.535 ,298.655,298.761,298.879,298.984, 299.085,299.215,299.329,299.438,299.543 ,299.644,299.729,299.868,299.971, 300.052,300.133,300.219,300.304,300.384 ,300.463,300.554,300.617,300.691, 299.751,299.103,298.513,297.622,296.838 ,296.058,295.946,295.831,295.715, 295.594,295.469,295.343,295.212,295.079 ,294.943,294.804,294.588,294.365,294.21 ,293.969,293.803,293.634,293.371, 293.191,293.011,292.825,292.537,292.339 ,292.134,291.706,291.483,291.253, 291.016,290.772,290.519,290.259,289.991 ,289.714,289.281,288.826,288.508, 288.181,287.492,287.128,286.751,286.36, 285.953,285.532,285.093,285.557)
ORBIT_NUMBER = 4552
ORBITAL_ECCENTRICITY = 0.57
ORBITAL_INCLINATION = 86.69
ORBITAL_SEMIMAJOR_AXIS = 8530.86
PERIAPSIS_ALTITUDE = 293.73
PERIAPSIS_ARGUMENT_ANGLE = 276.8
PERIAPSIS_TIME = 2007-07-21T07:06:16.000Z
SPACECRAFT_ORIENTATION = (0.0,-1.0,0.0)
^MEX_ORIENTATION_DESC = "MEX_ORIENTATION_DESC.TXT"
SPACECRAFT_POINTING_MODE = ACROSSTRACK
^MEX_POINTING_DESC = "MEX_POINTING_DESC.TXT"
RIGHT_ASCENSION = -1e+32
DECLINATION = -1e+32
OFFSET_ANGLE = -1.0
SPACECRAFT_SOLAR_DISTANCE = 2.08972e+08
TARGET_NAME = MARS
/* CAMERA DATA ELEMENTS */
DETECTOR_TEMPERATURE = 18.7783
FOCAL_PLANE_TEMPERATURE = 10.0106
INST_CMPRS_NAME = "DISCRETE COSINE TRANSFORMATION (DCT)"
INST_CMPRS_RATIO = 13.5715
INST_CMPRS_QUALITY = 0
INST_CMPRS_QUANTZ_TBL_ID = 0
INSTRUMENT_TEMPERATURE = 11.234
LENS_TEMPERATURE = 8.9911
MACROPIXEL_SIZE = 2
MISSING_FRAMES = 0
PIXEL_SUBSAMPLING_FLAG = N
SIGNAL_CHAIN_ID = 1
/* RADIOMETRIC DATA ELEMENTS */
BANDWIDTH = 178.0
CENTER_FILTER_WAVELENGTH = 679.0
RADIANCE_OFFSET = 7.56354
RADIANCE_SCALING_FACTOR = 0.0115678
REFLECTANCE_SCALING_FACTOR = 0.000267521
MEX:REFLECTANCE_OFFSET = 0.174917
/* IMAGE OBJECT DEFINITIONS */
OBJECT = IMAGE
  INTERCHANGE_FORMAT = BINARY
  LINES = 17547
  LINE_SAMPLES = 6274
  SAMPLE_TYPE = UNSIGNED_INTEGER
  SAMPLE_BITS = 8
  BANDS = 1
  BAND_STORAGE_TYPE = BAND_SEQUENTIAL
  MAXIMUM = 255
  MEAN = 160.572
  MINIMUM = 1
  STANDARD_DEVIATION = 75.5341
END_OBJECT = IMAGE
/* MAP OBJECT DEFINITIONS */
OBJECT = IMAGE_MAP_PROJECTION
  ^DATA_SET_MAP_PROJECTION_CATALOG= "DSMAP.CAT"
  A_AXIS_RADIUS = 3396.0
  B_AXIS_RADIUS = 3396.0
  C_AXIS_RADIUS = 3396.0
  CENTER_LATITUDE = 0.0
  CENTER_LONGITUDE = 295.0
  COORDINATE_SYSTEM_NAME = PLANETOGRAPHIC
  COORDINATE_SYSTEM_TYPE = "BODY-FIXED ROTATING"
  EASTERNMOST_LONGITUDE = 300.691
  FIRST_STANDARD_PARALLEL = "N/A"
  LINE_FIRST_PIXEL = 1
  LINE_LAST_PIXEL = 17547
  LINE_PROJECTION_OFFSET = -180448.25
  MAP_PROJECTION_ROTATION = 0.0
  MAP_PROJECTION_TYPE = SINUSOIDAL
  MAP_RESOLUTION = 2370.85521546667
  MAP_SCALE = 0.025
  MAXIMUM_LATITUDE = -76.06740000000001
  MINIMUM_LATITUDE = -83.3998
  POSITIVE_LONGITUDE_DIRECTION = EAST
  REFERENCE_LATITUDE = "N/A"
  REFERENCE_LONGITUDE = "N/A"
  SAMPLE_FIRST_PIXEL = 1
  SAMPLE_LAST_PIXEL = 6274
  SAMPLE_PROJECTION_OFFSET = 3153.25
  SECOND_STANDARD_PARALLEL = "N/A"
  WESTERNMOST_LONGITUDE = 285.093
END_OBJECT = IMAGE_MAP_PROJECTION
/* The JPEG2000 image data file associated with this label. */
OBJECT = COMPRESSED_FILE
  FILE_NAME = "H4552_0000_S23.JP2"
  RECORD_TYPE = UNDEFINED
  FILE_RECORDS = UNK
  ENCODING_TYPE = "JP2"
  INTERCHANGE_FORMAT = BINARY
  UNCOMPRESSED_FILE_NAME = "H4552_0000_S23.IMG"
  REQUIRED_STORAGE_BYTES = "110121248"
  ^DESCRIPTION = "JP2INFO.TXT"
END_OBJECT = COMPRESSED_FILE
END
