PDS_VERSION_ID = PDS3
/* FILE DATA ELEMENTS */
RECORD_TYPE = STREAM
/* POINTERS TO DATA OBJECTS */
^COMPRESSED_FILE = "H4553_0000_P23.JP2"
/* IDENTIFICATION DATA ELEMENTS */
DATA_SET_ID = "MEX-M-HRSC-5-REFDR-MAPPROJECTED-V3.0"
DATA_SET_NAME = "MARS EXPRESS HRSC MAP PROJECTED REFDR V3.0"
DETECTOR_ID = MEX_HRSC_P2
EVENT_TYPE = "MARS-REGIONAL-MAPPING-Im-Fl-Eo"
INSTRUMENT_HOST_ID = MEX
INSTRUMENT_HOST_NAME = "MARS EXPRESS"
INSTRUMENT_ID = HRSC
INSTRUMENT_NAME = "HIGH RESOLUTION STEREO CAMERA"
MISSION_NAME = "MARS EXPRESS"
MISSION_PHASE_NAME = ME_Phase_8
PROCESSING_LEVEL_ID = 3
PRODUCT_CREATION_TIME = 2016-04-25T16:23:03.000Z
PRODUCT_ID = "H4553_0000_P23.JP2"
RELEASE_ID = 0052
REVISION_ID = 0000
/* QUALITY DATA ELEMENTS */
DATA_QUALITY_ID = 1
DATA_QUALITY_DESC = "Data calculated based on original SPICE kernels"
/* TIME DATA ELEMENTS */
SPACECRAFT_CLOCK_START_COUNT = "1/0133105990.09042"
SPACECRAFT_CLOCK_STOP_COUNT = "1/0133106242.55583"
START_TIME = 2007-07-21T13:54:06.199Z
STOP_TIME = 2007-07-21T13:57:07.691Z
/* ORBITAL DATA ELEMENTS */
ASCENDING_NODE_LONGITUDE = 133.09
MAXIMUM_RESOLUTION = 29.6
FOOTPRINT_POINT_LATITUDE = (-65.9235,-65.9513,-65.9893,-66.0271, -66.0162,-65.8336,-65.6511,-65.2868, -64.9967,-64.7801,-64.5636,-64.3477, -64.1315,-63.9157,-63.7002,-63.4848, -63.1622,-62.9479,-62.7345,-62.5206, -62.3076,-62.0937,-61.8859,-61.6737, -61.4592,-61.137,-60.9248,-60.6029, -60.3862,-60.1702,-59.9572,-59.6308, -59.4106,-59.1905,-58.9707,-58.7468, -58.5212,-58.2974,-58.074,-57.7314, -57.5024,-57.2745,-56.9274,-56.6958, -56.4646,-56.111,-55.875,-55.6394, -55.3992,-55.2501,-55.2404,-55.2246, -55.21,-55.1936,-55.1807,-55.1602, -55.3991,-55.7538,-55.988,-56.2243, -56.5736,-56.9183,-57.263,-57.4903, -57.718,-57.9459,-58.1683,-58.3918, -58.616,-58.8388,-59.0587,-59.3891, -59.6054,-59.8213,-60.0347,-60.251, -60.4666,-60.6811,-60.8908,-61.2076, -61.5252,-61.7375,-61.9496,-62.1646, -62.3752,-62.5884,-62.8015,-63.0149, -63.228,-63.4408,-63.6549,-63.9762, -64.1914,-64.4075,-64.6228,-64.8389, -65.04,-65.4025,-65.7651,-65.9235)
FOOTPRINT_POINT_LONGITUDE = (199.808,200.348,201.147,202.034, 202.525,202.572,202.618,202.708,202.778 ,202.829,202.879,202.928,202.976, 203.022,203.069,203.113,203.179,203.223 ,203.266,203.307,203.348,203.388, 203.431,203.47,203.507,203.559,203.595, 203.648,203.683,203.718,203.755,203.807 ,203.841,203.874,203.907,203.939, 203.971,204.003,204.035,204.082,204.112 ,204.142,204.188,204.218,204.248, 204.292,204.321,204.35,204.378,204.142, 203.747,203.241,202.791,202.341,202.004 ,201.488,201.462,201.424,201.398, 201.369,201.327,201.286,201.241,201.21, 201.179,201.147,201.115,201.082,201.048 ,201.014,200.978,200.923,200.891, 200.855,200.819,200.78,200.741,200.701, 200.662,200.601,200.537,200.493,200.448 ,200.399,200.355,200.308,200.259,200.21 ,200.16,200.109,200.057,199.976,199.919 ,199.861,199.802,199.741,199.684, 199.578,199.469,199.808)
ORBIT_NUMBER = 4553
ORBITAL_ECCENTRICITY = 0.57
ORBITAL_INCLINATION = 86.7
ORBITAL_SEMIMAJOR_AXIS = 8530.98
PERIAPSIS_ALTITUDE = 293.26
PERIAPSIS_ARGUMENT_ANGLE = 276.62
PERIAPSIS_TIME = 2007-07-21T13:49:25.000Z
SPACECRAFT_ORIENTATION = (0.0,-1.0,0.0)
^MEX_ORIENTATION_DESC = "MEX_ORIENTATION_DESC.TXT"
SPACECRAFT_POINTING_MODE = NADIR
^MEX_POINTING_DESC = "MEX_POINTING_DESC.TXT"
RIGHT_ASCENSION = -1e+32
DECLINATION = -1e+32
OFFSET_ANGLE = -1e+32
SPACECRAFT_SOLAR_DISTANCE = 2.08999e+08
TARGET_NAME = MARS
/* CAMERA DATA ELEMENTS */
DETECTOR_TEMPERATURE = 18.7783
FOCAL_PLANE_TEMPERATURE = 8.7872
INST_CMPRS_NAME = "DISCRETE COSINE TRANSFORMATION (DCT)"
INST_CMPRS_RATIO = 8.08117
INST_CMPRS_QUALITY = 0
INST_CMPRS_QUANTZ_TBL_ID = 0
INSTRUMENT_TEMPERATURE = 11.4379
LENS_TEMPERATURE = 8.9911
MACROPIXEL_SIZE = 2
MISSING_FRAMES = 0
PIXEL_SUBSAMPLING_FLAG = N
SIGNAL_CHAIN_ID = 3
/* RADIOMETRIC DATA ELEMENTS */
BANDWIDTH = 177.0
CENTER_FILTER_WAVELENGTH = 676.5
RADIANCE_OFFSET = 9.1834
RADIANCE_SCALING_FACTOR = 0.012502
REFLECTANCE_SCALING_FACTOR = 0.000289553
MEX:REFLECTANCE_OFFSET = 0.212692
/* IMAGE OBJECT DEFINITIONS */
OBJECT = IMAGE
  INTERCHANGE_FORMAT = BINARY
  LINES = 25941
  LINE_SAMPLES = 5547
  SAMPLE_TYPE = UNSIGNED_INTEGER
  SAMPLE_BITS = 8
  BANDS = 1
  BAND_STORAGE_TYPE = BAND_SEQUENTIAL
  MAXIMUM = 254
  MEAN = 124.869
  MINIMUM = 1
  STANDARD_DEVIATION = 47.473
END_OBJECT = IMAGE
/* MAP OBJECT DEFINITIONS */
OBJECT = IMAGE_MAP_PROJECTION
  ^DATA_SET_MAP_PROJECTION_CATALOG= "DSMAP.CAT"
  A_AXIS_RADIUS = 3396.0
  B_AXIS_RADIUS = 3396.0
  C_AXIS_RADIUS = 3396.0
  CENTER_LATITUDE = 0.0
  CENTER_LONGITUDE = 202.0
  COORDINATE_SYSTEM_NAME = PLANETOGRAPHIC
  COORDINATE_SYSTEM_TYPE = "BODY-FIXED ROTATING"
  EASTERNMOST_LONGITUDE = 204.378
  FIRST_STANDARD_PARALLEL = "N/A"
  LINE_FIRST_PIXEL = 1
  LINE_LAST_PIXEL = 25941
  LINE_PROJECTION_OFFSET = -130783.75
  MAP_PROJECTION_ROTATION = 0.0
  MAP_PROJECTION_TYPE = SINUSOIDAL
  MAP_RESOLUTION = 2370.85521546667
  MAP_SCALE = 0.025
  MAXIMUM_LATITUDE = -55.1602
  MINIMUM_LATITUDE = -66.0271
  POSITIVE_LONGITUDE_DIRECTION = EAST
  REFERENCE_LATITUDE = "N/A"
  REFERENCE_LONGITUDE = "N/A"
  SAMPLE_FIRST_PIXEL = 1
  SAMPLE_LAST_PIXEL = 5547
  SAMPLE_PROJECTION_OFFSET = 2433.75
  SECOND_STANDARD_PARALLEL = "N/A"
  WESTERNMOST_LONGITUDE = 199.469
END_OBJECT = IMAGE_MAP_PROJECTION
/* The JPEG2000 image data file associated with this label. */
OBJECT = COMPRESSED_FILE
  FILE_NAME = "H4553_0000_P23.JP2"
  RECORD_TYPE = UNDEFINED
  FILE_RECORDS = UNK
  ENCODING_TYPE = "JP2"
  INTERCHANGE_FORMAT = BINARY
  UNCOMPRESSED_FILE_NAME = "H4553_0000_P23.IMG"
  REQUIRED_STORAGE_BYTES = "143922462"
  ^DESCRIPTION = "JP2INFO.TXT"
END_OBJECT = COMPRESSED_FILE
END
