PDS_VERSION_ID = PDS3
/* FILE DATA ELEMENTS */
RECORD_TYPE = STREAM
/* POINTERS TO DATA OBJECTS */
^COMPRESSED_FILE = "H4554_0009_P13.JP2"
/* IDENTIFICATION DATA ELEMENTS */
DATA_SET_ID = "MEX-M-HRSC-5-REFDR-MAPPROJECTED-V3.0"
DATA_SET_NAME = "MARS EXPRESS HRSC MAP PROJECTED REFDR V3.0"
DETECTOR_ID = MEX_HRSC_P1
EVENT_TYPE = "MARS-REGIONAL-MAPPING-Gl-La"
INSTRUMENT_HOST_ID = MEX
INSTRUMENT_HOST_NAME = "MARS EXPRESS"
INSTRUMENT_ID = HRSC
INSTRUMENT_NAME = "HIGH RESOLUTION STEREO CAMERA"
MISSION_NAME = "MARS EXPRESS"
MISSION_PHASE_NAME = ME_Phase_8
PROCESSING_LEVEL_ID = 3
PRODUCT_CREATION_TIME = 2016-04-25T16:23:03.000Z
PRODUCT_ID = "H4554_0009_P13.JP2"
RELEASE_ID = 0052
REVISION_ID = 0000
/* QUALITY DATA ELEMENTS */
DATA_QUALITY_ID = 1
DATA_QUALITY_DESC = "Data calculated based on original SPICE kernels"
/* TIME DATA ELEMENTS */
SPACECRAFT_CLOCK_START_COUNT = "1/0133129953.07294"
SPACECRAFT_CLOCK_STOP_COUNT = "1/0133130110.48768"
START_TIME = 2007-07-21T20:32:45.944Z
STOP_TIME = 2007-07-21T20:34:27.303Z
/* ORBITAL DATA ELEMENTS */
ASCENDING_NODE_LONGITUDE = 133.07
MAXIMUM_RESOLUTION = 47.6
FOOTPRINT_POINT_LATITUDE = (-81.1842,-81.2486,-81.3108,-81.3708, -81.4284,-81.4541,-81.2695,-81.1461, -80.9603,-80.8362,-80.7119,-80.5874, -80.4004,-80.2754,-80.1504,-79.962, -79.8361,-79.6468,-79.5205,-79.3942, -79.2676,-79.141,-78.9506,-78.8236, -78.6966,-78.5694,-78.4383,-78.3059, -78.1734,-78.0408,-77.9081,-77.7753, -77.6421,-77.4423,-77.3088,-77.176, -76.9774,-76.8446,-76.7122,-76.5784, -76.4435,-76.3094,-76.1751,-76.0419, -75.9049,-75.7701,-75.6355,-75.5023, -75.3735,-75.1719,-74.9248,-74.8884, -74.83,-74.7813,-74.7354,-74.6928, -74.8098,-74.9423,-75.0755,-75.2078, -75.3387,-75.4707,-75.6037,-75.731, -75.9294,-76.0613,-76.1925,-76.3237, -76.4548,-76.5831,-76.7134,-76.8439, -76.9751,-77.1704,-77.3655,-77.4954, -77.6252,-77.7548,-77.9489,-78.0777, -78.2689,-78.3923,-78.5162,-78.6397, -78.7626,-78.9463,-79.0692,-79.1914, -79.3745,-79.4964,-79.6783,-79.8007, -79.9804,-80.1602,-80.3395,-80.4586, -80.5775,-80.8139,-80.99,-81.1842)
FOOTPRINT_POINT_LONGITUDE = (84.87,85.7131,86.5652,87.4249,88.2923, 89.853,90.3188,90.6185,91.0534,91.3334, 91.6054,91.8702,92.254,92.5021,92.7431, 93.0947,93.322,93.6528,93.8664,94.0745, 94.2781,94.4765,94.7658,94.9532,95.1356 ,95.3144,95.4941,95.6716,95.8448, 96.0141,96.1797,96.3415,96.5003,96.7319 ,96.8826,97.0284,97.2402,97.3783, 97.5125,97.6466,97.7798,97.9086,98.0352 ,98.1573,98.2834,98.4032,98.5202, 98.6326,98.736,98.9004,98.9473,98.3323, 97.3913,96.6671,96.0153,95.4363,95.0759 ,94.9416,94.8059,94.6664,94.5222, 94.3769,94.2308,94.0731,93.8426,93.685, 93.523,93.3581,93.1899,93.0142,92.8383, 92.6591,92.4776,92.196,91.9057,91.707, 91.5041,91.2968,90.977,90.7573,90.4232, 90.1995,89.9718,89.7387,89.4998,89.1308 ,88.8789,88.6203,88.2216,87.9479, 87.5247,87.2359,86.7849,86.3179,85.8338 ,85.5008,85.1593,84.4493,83.8919,84.87)
ORBIT_NUMBER = 4554
ORBITAL_ECCENTRICITY = 0.57
ORBITAL_INCLINATION = 86.7
ORBITAL_SEMIMAJOR_AXIS = 8531.44
PERIAPSIS_ALTITUDE = 293.03
PERIAPSIS_ARGUMENT_ANGLE = 276.43
PERIAPSIS_TIME = 2007-07-21T20:32:39.000Z
SPACECRAFT_ORIENTATION = (0.0,-1.0,0.0)
^MEX_ORIENTATION_DESC = "MEX_ORIENTATION_DESC.TXT"
SPACECRAFT_POINTING_MODE = ACROSSTRACK
^MEX_POINTING_DESC = "MEX_POINTING_DESC.TXT"
RIGHT_ASCENSION = -1e+32
DECLINATION = -1e+32
OFFSET_ANGLE = 0.3
SPACECRAFT_SOLAR_DISTANCE = 2.09027e+08
TARGET_NAME = MARS
/* CAMERA DATA ELEMENTS */
DETECTOR_TEMPERATURE = 17.9627
FOCAL_PLANE_TEMPERATURE = 11.234
INST_CMPRS_NAME = "DISCRETE COSINE TRANSFORMATION (DCT)"
INST_CMPRS_RATIO = 27.3658
INST_CMPRS_QUALITY = 0
INST_CMPRS_QUANTZ_TBL_ID = 0
INSTRUMENT_TEMPERATURE = 12.4574
LENS_TEMPERATURE = 9.8067
MACROPIXEL_SIZE = 4
MISSING_FRAMES = 0
PIXEL_SUBSAMPLING_FLAG = N
SIGNAL_CHAIN_ID = 3
/* RADIOMETRIC DATA ELEMENTS */
BANDWIDTH = 174.0
CENTER_FILTER_WAVELENGTH = 675.0
RADIANCE_OFFSET = 7.94221
RADIANCE_SCALING_FACTOR = 0.00390953
REFLECTANCE_SCALING_FACTOR = 9.18784e-05
MEX:REFLECTANCE_OFFSET = 0.186651
/* IMAGE OBJECT DEFINITIONS */
OBJECT = IMAGE
  INTERCHANGE_FORMAT = BINARY
  LINES = 8003
  LINE_SAMPLES = 3594
  SAMPLE_TYPE = UNSIGNED_INTEGER
  SAMPLE_BITS = 8
  BANDS = 1
  BAND_STORAGE_TYPE = BAND_SEQUENTIAL
  MAXIMUM = 255
  MEAN = 206.473
  MINIMUM = 1
  STANDARD_DEVIATION = 55.9822
END_OBJECT = IMAGE
/* MAP OBJECT DEFINITIONS */
OBJECT = IMAGE_MAP_PROJECTION
  ^DATA_SET_MAP_PROJECTION_CATALOG= "DSMAP.CAT"
  A_AXIS_RADIUS = 3396.0
  B_AXIS_RADIUS = 3396.0
  C_AXIS_RADIUS = 3396.0
  CENTER_LATITUDE = 0.0
  CENTER_LONGITUDE = 93.0
  COORDINATE_SYSTEM_NAME = PLANETOGRAPHIC
  COORDINATE_SYSTEM_TYPE = "BODY-FIXED ROTATING"
  EASTERNMOST_LONGITUDE = 98.9473
  FIRST_STANDARD_PARALLEL = "N/A"
  LINE_FIRST_PIXEL = 1
  LINE_LAST_PIXEL = 8003
  LINE_PROJECTION_OFFSET = -88527.875
  MAP_PROJECTION_ROTATION = 0.0
  MAP_PROJECTION_TYPE = SINUSOIDAL
  MAP_RESOLUTION = 1185.42760773333
  MAP_SCALE = 0.05
  MAXIMUM_LATITUDE = -74.69280000000001
  MINIMUM_LATITUDE = -81.4541
  POSITIVE_LONGITUDE_DIRECTION = EAST
  REFERENCE_LATITUDE = "N/A"
  REFERENCE_LONGITUDE = "N/A"
  SAMPLE_FIRST_PIXEL = 1
  SAMPLE_LAST_PIXEL = 3594
  SAMPLE_PROJECTION_OFFSET = 1707.375
  SECOND_STANDARD_PARALLEL = "N/A"
  WESTERNMOST_LONGITUDE = 83.89190000000001
END_OBJECT = IMAGE_MAP_PROJECTION
/* The JPEG2000 image data file associated with this label. */
OBJECT = COMPRESSED_FILE
  FILE_NAME = "H4554_0009_P13.JP2"
  RECORD_TYPE = UNDEFINED
  FILE_RECORDS = UNK
  ENCODING_TYPE = "JP2"
  INTERCHANGE_FORMAT = BINARY
  UNCOMPRESSED_FILE_NAME = "H4554_0009_P13.IMG"
  REQUIRED_STORAGE_BYTES = "28787940"
  ^DESCRIPTION = "JP2INFO.TXT"
END_OBJECT = COMPRESSED_FILE
END
