PDS_VERSION_ID = PDS3
/* FILE DATA ELEMENTS */
RECORD_TYPE = STREAM
/* POINTERS TO DATA OBJECTS */
^COMPRESSED_FILE = "H4557_0000_BL3.JP2"
/* IDENTIFICATION DATA ELEMENTS */
DATA_SET_ID = "MEX-M-HRSC-5-REFDR-MAPPROJECTED-V3.0"
DATA_SET_NAME = "MARS EXPRESS HRSC MAP PROJECTED REFDR V3.0"
DETECTOR_ID = MEX_HRSC_BLUE
EVENT_TYPE = "MARS-REGIONAL-MAPPING-Im-Eo"
INSTRUMENT_HOST_ID = MEX
INSTRUMENT_HOST_NAME = "MARS EXPRESS"
INSTRUMENT_ID = HRSC
INSTRUMENT_NAME = "HIGH RESOLUTION STEREO CAMERA"
MISSION_NAME = "MARS EXPRESS"
MISSION_PHASE_NAME = ME_Phase_8
PROCESSING_LEVEL_ID = 3
PRODUCT_CREATION_TIME = 2016-04-25T16:23:03.000Z
PRODUCT_ID = "H4557_0000_BL3.JP2"
RELEASE_ID = 0052
REVISION_ID = 0000
/* QUALITY DATA ELEMENTS */
DATA_QUALITY_ID = 1
DATA_QUALITY_DESC = "Data calculated based on original SPICE kernels"
/* TIME DATA ELEMENTS */
SPACECRAFT_CLOCK_START_COUNT = "1/0133202899.08418"
SPACECRAFT_CLOCK_STOP_COUNT = "1/0133203322.49334"
START_TIME = 2007-07-22T16:49:08.870Z
STOP_TIME = 2007-07-22T16:54:08.918Z
/* ORBITAL DATA ELEMENTS */
ASCENDING_NODE_LONGITUDE = 133.01
MAXIMUM_RESOLUTION = 70.2
FOOTPRINT_POINT_LATITUDE = (-57.4132,-57.4433,-57.4685,-57.4953, -56.9263,-56.4913,-55.9071,-55.6121, -55.1668,-54.8662,-54.5664,-54.261, -53.8032,-53.4921,-53.182,-52.7094, -52.3941,-52.0731,-51.7525,-51.427, -51.1012,-50.7706,-50.4401,-50.1045, -49.5984,-49.2585,-48.9139,-48.3941, -48.0446,-47.6903,-47.3345,-46.975, -46.6122,-46.2473,-45.8784,-45.5059, -45.1307,-44.7526,-44.3708,-43.9854, -43.5972,-43.2056,-42.8112,-42.4176, -42.0258,-41.6357,-41.247,-40.86, -40.4745,-40.4549,-40.4523,-40.4489, -40.4416,-40.4309,-40.4234,-40.8065, -41.1915,-41.5788,-41.9672,-42.3572, -42.7489,-43.1419,-43.5322,-43.9193, -44.303,-44.6835,-45.0608,-45.4357, -45.8061,-46.1716,-46.7171,-47.0761, -47.4333,-47.7863,-48.3113,-48.83, -49.1732,-49.5123,-50.0167,-50.3513, -50.6807,-51.0102,-51.3346,-51.6592, -51.9786,-52.3001,-52.6145,-53.0843, -53.3939,-53.7038,-54.0081,-54.3129, -54.7644,-55.064,-55.3612,-55.6553, -56.0957,-56.6732,-57.2454,-57.4132)
FOOTPRINT_POINT_LONGITUDE = (169.644,170.464,171.294,171.89,171.948 ,171.993,172.045,172.073,172.113,172.14 ,172.166,172.193,172.232,172.257, 172.283,172.317,172.341,172.364,172.387 ,172.41,172.431,172.452,172.474,172.494 ,172.525,172.547,172.566,172.598, 172.619,172.639,172.658,172.677,172.696 ,172.715,172.732,172.75,172.767,172.783 ,172.802,172.819,172.837,172.856, 172.874,172.89,172.906,172.922,172.937, 172.952,172.967,172.45,171.811,171.388, 170.784,170.154,169.725,169.729,169.731 ,169.732,169.734,169.734,169.733, 169.733,169.731,169.729,169.726,169.722 ,169.716,169.709,169.704,169.699, 169.688,169.679,169.67,169.661,169.645, 169.628,169.615,169.602,169.582,169.567 ,169.551,169.535,169.519,169.501, 169.484,169.463,169.444,169.416,169.395 ,169.373,169.351,169.328,169.293, 169.268,169.243,169.217,169.177,169.121 ,169.06,169.644)
ORBIT_NUMBER = 4557
ORBITAL_ECCENTRICITY = 0.57
ORBITAL_INCLINATION = 86.69
ORBITAL_SEMIMAJOR_AXIS = 8531.61
PERIAPSIS_ALTITUDE = 294.28
PERIAPSIS_ARGUMENT_ANGLE = 275.92
PERIAPSIS_TIME = 2007-07-22T16:42:14.000Z
SPACECRAFT_ORIENTATION = (0.0,-1.0,0.0)
^MEX_ORIENTATION_DESC = "MEX_ORIENTATION_DESC.TXT"
SPACECRAFT_POINTING_MODE = ACROSSTRACK
^MEX_POINTING_DESC = "MEX_POINTING_DESC.TXT"
RIGHT_ASCENSION = -1e+32
DECLINATION = -1e+32
OFFSET_ANGLE = -0.49
SPACECRAFT_SOLAR_DISTANCE = 2.09109e+08
TARGET_NAME = MARS
/* CAMERA DATA ELEMENTS */
DETECTOR_TEMPERATURE = 18.3705
FOCAL_PLANE_TEMPERATURE = 8.7872
INST_CMPRS_NAME = "DISCRETE COSINE TRANSFORMATION (DCT)"
INST_CMPRS_RATIO = 19.2092
INST_CMPRS_QUALITY = 0
INST_CMPRS_QUANTZ_TBL_ID = 0
INSTRUMENT_TEMPERATURE = 11.4379
LENS_TEMPERATURE = 9.195
MACROPIXEL_SIZE = 4
MISSING_FRAMES = 0
PIXEL_SUBSAMPLING_FLAG = N
SIGNAL_CHAIN_ID = 2
/* RADIOMETRIC DATA ELEMENTS */
BANDWIDTH = 76.0
CENTER_FILTER_WAVELENGTH = 444.0
RADIANCE_OFFSET = 1.33768
RADIANCE_SCALING_FACTOR = 0.00112152
REFLECTANCE_SCALING_FACTOR = 5.03859e-05
MEX:REFLECTANCE_OFFSET = 0.0600974
/* IMAGE OBJECT DEFINITIONS */
OBJECT = IMAGE
  INTERCHANGE_FORMAT = BINARY
  LINES = 20231
  LINE_SAMPLES = 3044
  SAMPLE_TYPE = UNSIGNED_INTEGER
  SAMPLE_BITS = 8
  BANDS = 1
  BAND_STORAGE_TYPE = BAND_SEQUENTIAL
  MAXIMUM = 255
  MEAN = 147.767
  MINIMUM = 2
  STANDARD_DEVIATION = 53.4618
END_OBJECT = IMAGE
/* MAP OBJECT DEFINITIONS */
OBJECT = IMAGE_MAP_PROJECTION
  ^DATA_SET_MAP_PROJECTION_CATALOG= "DSMAP.CAT"
  A_AXIS_RADIUS = 3396.0
  B_AXIS_RADIUS = 3396.0
  C_AXIS_RADIUS = 3396.0
  CENTER_LATITUDE = 0.0
  CENTER_LONGITUDE = 171.0
  COORDINATE_SYSTEM_NAME = PLANETOGRAPHIC
  COORDINATE_SYSTEM_TYPE = "BODY-FIXED ROTATING"
  EASTERNMOST_LONGITUDE = 172.967
  FIRST_STANDARD_PARALLEL = "N/A"
  LINE_FIRST_PIXEL = 1
  LINE_LAST_PIXEL = 20231
  LINE_PROJECTION_OFFSET = -47927.375
  MAP_PROJECTION_ROTATION = 0.0
  MAP_PROJECTION_TYPE = SINUSOIDAL
  MAP_RESOLUTION = 1185.42760773333
  MAP_SCALE = 0.05
  MAXIMUM_LATITUDE = -40.4234
  MINIMUM_LATITUDE = -57.4953
  POSITIVE_LONGITUDE_DIRECTION = EAST
  REFERENCE_LATITUDE = "N/A"
  REFERENCE_LONGITUDE = "N/A"
  SAMPLE_FIRST_PIXEL = 1
  SAMPLE_LAST_PIXEL = 3044
  SAMPLE_PROJECTION_OFFSET = 1232.625
  SECOND_STANDARD_PARALLEL = "N/A"
  WESTERNMOST_LONGITUDE = 169.06
END_OBJECT = IMAGE_MAP_PROJECTION
/* The JPEG2000 image data file associated with this label. */
OBJECT = COMPRESSED_FILE
  FILE_NAME = "H4557_0000_BL3.JP2"
  RECORD_TYPE = UNDEFINED
  FILE_RECORDS = UNK
  ENCODING_TYPE = "JP2"
  INTERCHANGE_FORMAT = BINARY
  UNCOMPRESSED_FILE_NAME = "H4557_0000_BL3.IMG"
  REQUIRED_STORAGE_BYTES = "61607516"
  ^DESCRIPTION = "JP2INFO.TXT"
END_OBJECT = COMPRESSED_FILE
END
