PDS_VERSION_ID = PDS3
/* FILE DATA ELEMENTS */
RECORD_TYPE = STREAM
/* POINTERS TO DATA OBJECTS */
^COMPRESSED_FILE = "H4559_0000_BL3.JP2"
/* IDENTIFICATION DATA ELEMENTS */
DATA_SET_ID = "MEX-M-HRSC-5-REFDR-MAPPROJECTED-V3.0"
DATA_SET_NAME = "MARS EXPRESS HRSC MAP PROJECTED REFDR V3.0"
DETECTOR_ID = MEX_HRSC_BLUE
EVENT_TYPE = "MARS-REGIONAL-MAPPING-Gl-Eo-La"
INSTRUMENT_HOST_ID = MEX
INSTRUMENT_HOST_NAME = "MARS EXPRESS"
INSTRUMENT_ID = HRSC
INSTRUMENT_NAME = "HIGH RESOLUTION STEREO CAMERA"
MISSION_NAME = "MARS EXPRESS"
MISSION_PHASE_NAME = ME_Phase_8
PROCESSING_LEVEL_ID = 3
PRODUCT_CREATION_TIME = 2016-04-25T16:23:03.000Z
PRODUCT_ID = "H4559_0000_BL3.JP2"
RELEASE_ID = 0052
REVISION_ID = 0000
/* QUALITY DATA ELEMENTS */
DATA_QUALITY_ID = 2
DATA_QUALITY_DESC = "Data calculated based on photogrammetrically improved orbit and attitude data"
/* TIME DATA ELEMENTS */
SPACECRAFT_CLOCK_START_COUNT = "1/0133250854.09086"
SPACECRAFT_CLOCK_STOP_COUNT = "1/0133251005.41615"
START_TIME = 2007-07-23T06:08:08.707Z
STOP_TIME = 2007-07-23T06:09:45.598Z
/* ORBITAL DATA ELEMENTS */
ASCENDING_NODE_LONGITUDE = 132.97
MAXIMUM_RESOLUTION = 46.3
FOOTPRINT_POINT_LATITUDE = (-84.8815,-84.998,-85.0869,-85.1619, -85.2781,-85.3616,-85.4549,-85.5232, -85.4651,-85.3639,-85.2613,-85.1577, -85.0529,-84.9471,-84.8403,-84.7327, -84.6242,-84.4604,-84.2947,-84.1272, -83.9587,-83.8454,-83.6749,-83.5602, -83.4454,-83.3298,-83.2139,-83.0393, -82.8646,-82.7478,-82.6303,-82.4524, -82.2751,-82.1565,-81.9777,-81.8581, -81.7383,-81.6184,-81.4984,-81.3185, -81.198,-81.0774,-80.9529,-80.7644, -80.6385,-80.5125,-80.3232,-80.1969, -80.0705,-79.944,-79.8176,-79.7085, -79.6434,-79.5875,-79.5496,-79.4949, -79.4113,-79.5786,-79.7013,-79.8237, -79.9459,-80.1288,-80.3112,-80.4929, -80.6138,-80.7327,-80.8485,-80.964, -81.0793,-81.1942,-81.3659,-81.5368, -81.6503,-81.7634,-81.8761,-81.9883, -82.1002,-82.267,-82.4327,-82.5425, -82.6518,-82.7605,-82.8685,-82.9759, -83.0827,-83.1887,-83.294,-83.3986, -83.5538,-83.6562,-83.8081,-83.9082, -84.0072,-84.1536,-84.2498,-84.3917, -84.4846,-84.6213,-84.7106,-84.8815)
FOOTPRINT_POINT_LONGITUDE = (292.537,293.784,294.794,295.69,297.165 ,298.297,299.643,300.689,302.034, 302.998,303.92,304.803,305.648,306.459, 307.236,307.981,308.696,309.719,310.68, 311.585,312.442,312.985,313.766,314.261 ,314.741,315.201,315.647,316.287, 316.899,317.292,317.669,318.207,318.727 ,319.06,319.538,319.845,320.142,320.431 ,320.713,321.123,321.385,321.64,321.896 ,322.269,322.508,322.742,323.081, 323.299,323.512,323.72,323.923,324.093, 322.811,321.795,321.14,320.24,318.959, 318.319,318.059,317.791,317.518,317.096 ,316.656,316.199,315.885,315.566, 315.246,314.917,314.58,314.234,313.698, 313.139,312.754,312.357,311.95,311.53, 311.099,310.427,309.727,309.243,308.743 ,308.229,307.702,307.155,306.589, 306.004,305.404,304.785,303.815,303.143 ,302.091,301.366,300.613,299.433, 298.613,297.33,296.438,295.041,294.069, 292.537)
ORBIT_NUMBER = 4559
ORBITAL_ECCENTRICITY = 0.57
ORBITAL_INCLINATION = 86.7
ORBITAL_SEMIMAJOR_AXIS = 8529.78
PERIAPSIS_ALTITUDE = 293.82
PERIAPSIS_ARGUMENT_ANGLE = 275.58
PERIAPSIS_TIME = 2007-07-23T06:08:36.000Z
SPACECRAFT_ORIENTATION = (0.0,-1.0,0.0)
^MEX_ORIENTATION_DESC = "MEX_ORIENTATION_DESC.TXT"
SPACECRAFT_POINTING_MODE = NADIR
^MEX_POINTING_DESC = "MEX_POINTING_DESC.TXT"
RIGHT_ASCENSION = -1e+32
DECLINATION = -1e+32
OFFSET_ANGLE = -1e+32
SPACECRAFT_SOLAR_DISTANCE = 2.09164e+08
TARGET_NAME = MARS
/* CAMERA DATA ELEMENTS */
DETECTOR_TEMPERATURE = 18.5744
FOCAL_PLANE_TEMPERATURE = 9.195
INST_CMPRS_NAME = "DISCRETE COSINE TRANSFORMATION (DCT)"
INST_CMPRS_RATIO = 22.3726
INST_CMPRS_QUALITY = 0
INST_CMPRS_QUANTZ_TBL_ID = 0
INSTRUMENT_TEMPERATURE = 11.4379
LENS_TEMPERATURE = 9.6028
MACROPIXEL_SIZE = 4
MISSING_FRAMES = 0
PIXEL_SUBSAMPLING_FLAG = N
SIGNAL_CHAIN_ID = 2
/* RADIOMETRIC DATA ELEMENTS */
BANDWIDTH = 76.0
CENTER_FILTER_WAVELENGTH = 444.0
RADIANCE_OFFSET = 0.888824
RADIANCE_SCALING_FACTOR = 0.0115024
REFLECTANCE_SCALING_FACTOR = 0.000517036
MEX:REFLECTANCE_OFFSET = 0.0399528
/* IMAGE OBJECT DEFINITIONS */
OBJECT = IMAGE
  INTERCHANGE_FORMAT = BINARY
  LINES = 7303
  LINE_SAMPLES = 4398
  SAMPLE_TYPE = UNSIGNED_INTEGER
  SAMPLE_BITS = 8
  BANDS = 1
  BAND_STORAGE_TYPE = BAND_SEQUENTIAL
  MAXIMUM = 255
  MEAN = 116.027
  MINIMUM = 2
  STANDARD_DEVIATION = 54.2122
END_OBJECT = IMAGE
/* MAP OBJECT DEFINITIONS */
OBJECT = IMAGE_MAP_PROJECTION
  ^DATA_SET_MAP_PROJECTION_CATALOG= "DSMAP.CAT"
  A_AXIS_RADIUS = 3396.0
  B_AXIS_RADIUS = 3396.0
  C_AXIS_RADIUS = 3396.0
  CENTER_LATITUDE = 0.0
  CENTER_LONGITUDE = 314.0
  COORDINATE_SYSTEM_NAME = PLANETOGRAPHIC
  COORDINATE_SYSTEM_TYPE = "BODY-FIXED ROTATING"
  EASTERNMOST_LONGITUDE = 324.093
  FIRST_STANDARD_PARALLEL = "N/A"
  LINE_FIRST_PIXEL = 1
  LINE_LAST_PIXEL = 7303
  LINE_PROJECTION_OFFSET = -94126.625
  MAP_PROJECTION_ROTATION = 0.0
  MAP_PROJECTION_TYPE = SINUSOIDAL
  MAP_RESOLUTION = 1185.42760773333
  MAP_SCALE = 0.05
  MAXIMUM_LATITUDE = -79.4113
  MINIMUM_LATITUDE = -85.5232
  POSITIVE_LONGITUDE_DIRECTION = EAST
  REFERENCE_LATITUDE = "N/A"
  REFERENCE_LONGITUDE = "N/A"
  SAMPLE_FIRST_PIXEL = 1
  SAMPLE_LAST_PIXEL = 4398
  SAMPLE_PROJECTION_OFFSET = 2285.625
  SECOND_STANDARD_PARALLEL = "N/A"
  WESTERNMOST_LONGITUDE = 292.537
END_OBJECT = IMAGE_MAP_PROJECTION
/* The JPEG2000 image data file associated with this label. */
OBJECT = COMPRESSED_FILE
  FILE_NAME = "H4559_0000_BL3.JP2"
  RECORD_TYPE = UNDEFINED
  FILE_RECORDS = UNK
  ENCODING_TYPE = "JP2"
  INTERCHANGE_FORMAT = BINARY
  UNCOMPRESSED_FILE_NAME = "H4559_0000_BL3.IMG"
  REQUIRED_STORAGE_BYTES = "32144982"
  ^DESCRIPTION = "JP2INFO.TXT"
END_OBJECT = COMPRESSED_FILE
END
