PDS_VERSION_ID = PDS3
/* FILE DATA ELEMENTS */
RECORD_TYPE = STREAM
/* POINTERS TO DATA OBJECTS */
^COMPRESSED_FILE = "H4559_0000_GR3.JP2"
/* IDENTIFICATION DATA ELEMENTS */
DATA_SET_ID = "MEX-M-HRSC-5-REFDR-MAPPROJECTED-V3.0"
DATA_SET_NAME = "MARS EXPRESS HRSC MAP PROJECTED REFDR V3.0"
DETECTOR_ID = MEX_HRSC_GREEN
EVENT_TYPE = "MARS-REGIONAL-MAPPING-Gl-Eo-La"
INSTRUMENT_HOST_ID = MEX
INSTRUMENT_HOST_NAME = "MARS EXPRESS"
INSTRUMENT_ID = HRSC
INSTRUMENT_NAME = "HIGH RESOLUTION STEREO CAMERA"
MISSION_NAME = "MARS EXPRESS"
MISSION_PHASE_NAME = ME_Phase_8
PROCESSING_LEVEL_ID = 3
PRODUCT_CREATION_TIME = 2016-04-25T16:23:03.000Z
PRODUCT_ID = "H4559_0000_GR3.JP2"
RELEASE_ID = 0052
REVISION_ID = 0000
/* QUALITY DATA ELEMENTS */
DATA_QUALITY_ID = 2
DATA_QUALITY_DESC = "Data calculated based on photogrammetrically improved orbit and attitude data"
/* TIME DATA ELEMENTS */
SPACECRAFT_CLOCK_START_COUNT = "1/0133250854.09086"
SPACECRAFT_CLOCK_STOP_COUNT = "1/0133251005.41615"
START_TIME = 2007-07-23T06:07:59.921Z
STOP_TIME = 2007-07-23T06:09:36.842Z
/* ORBITAL DATA ELEMENTS */
ASCENDING_NODE_LONGITUDE = 132.97
MAXIMUM_RESOLUTION = 46.3
FOOTPRINT_POINT_LATITUDE = (-84.9484,-85.0846,-85.1861,-85.3219, -85.4534,-85.5761,-85.4764,-85.3754, -85.2731,-85.1697,-85.0651,-84.9595, -84.8529,-84.6912,-84.5824,-84.4728, -84.3624,-84.2513,-84.1395,-84.0271, -83.9142,-83.8006,-83.6865,-83.5144, -83.3991,-83.2834,-83.1672,-83.0506, -82.9337,-82.8163,-82.6986,-82.5807, -82.4032,-82.225,-82.1058,-81.9865, -81.807,-81.6871,-81.5669,-81.3862, -81.2051,-81.0842,-80.9024,-80.7203, -80.5988,-80.4762,-80.3496,-80.1595, -80.0326,-79.8419,-79.7146,-79.6515, -79.5989,-79.5524,-79.4913,-79.414, -79.517,-79.6402,-79.8244,-79.9472, -80.1307,-80.2492,-80.3665,-80.4835, -80.6002,-80.7166,-80.8327,-80.9485, -81.064,-81.1791,-81.3513,-81.4656, -81.6363,-81.8061,-81.9189,-82.0311, -82.1429,-82.2541,-82.4203,-82.5302, -82.6396,-82.8028,-82.911,-83.0181, -83.1243,-83.2302,-83.3876,-83.4914, -83.5943,-83.6963,-83.7973,-83.8977, -83.997,-84.0949,-84.1917,-84.3345, -84.4281,-84.5659,-84.7442,-84.9484)
FOOTPRINT_POINT_LONGITUDE = (292.599,294.081,295.267,296.978,298.79 ,300.943,301.951,302.916,303.84,304.725 ,305.573,306.385,307.165,308.275, 308.978,309.657,310.31,310.933,311.532, 312.113,312.669,313.204,313.723,314.464 ,314.935,315.388,315.827,316.252, 316.666,317.07,317.455,317.826,318.358, 318.871,319.2,319.516,319.972,320.266, 320.553,320.972,321.369,321.624,321.994 ,322.35,322.579,322.804,323.03,323.359, 323.57,323.879,324.079,322.962,321.998, 321.195,320.199,319.021,318.459,318.201 ,317.801,317.527,317.102,316.819,316.53 ,316.234,315.931,315.619,315.3,314.971, 314.635,314.289,313.753,313.383,312.81, 312.212,311.799,311.374,310.937,310.487 ,309.788,309.303,308.804,308.029, 307.492,306.937,306.363,305.773,304.853 ,304.214,303.554,302.872,302.168, 301.442,300.691,299.914,299.11,297.854, 296.98,295.614,293.68,292.599)
ORBIT_NUMBER = 4559
ORBITAL_ECCENTRICITY = 0.57
ORBITAL_INCLINATION = 86.7
ORBITAL_SEMIMAJOR_AXIS = 8529.78
PERIAPSIS_ALTITUDE = 293.82
PERIAPSIS_ARGUMENT_ANGLE = 275.58
PERIAPSIS_TIME = 2007-07-23T06:08:36.000Z
SPACECRAFT_ORIENTATION = (0.0,-1.0,0.0)
^MEX_ORIENTATION_DESC = "MEX_ORIENTATION_DESC.TXT"
SPACECRAFT_POINTING_MODE = NADIR
^MEX_POINTING_DESC = "MEX_POINTING_DESC.TXT"
RIGHT_ASCENSION = -1e+32
DECLINATION = -1e+32
OFFSET_ANGLE = -1e+32
SPACECRAFT_SOLAR_DISTANCE = 2.09164e+08
TARGET_NAME = MARS
/* CAMERA DATA ELEMENTS */
DETECTOR_TEMPERATURE = 18.5744
FOCAL_PLANE_TEMPERATURE = 9.195
INST_CMPRS_NAME = "DISCRETE COSINE TRANSFORMATION (DCT)"
INST_CMPRS_RATIO = 14.1439
INST_CMPRS_QUALITY = 0
INST_CMPRS_QUANTZ_TBL_ID = 0
INSTRUMENT_TEMPERATURE = 11.4379
LENS_TEMPERATURE = 9.6028
MACROPIXEL_SIZE = 4
MISSING_FRAMES = 0
PIXEL_SUBSAMPLING_FLAG = N
SIGNAL_CHAIN_ID = 2
/* RADIOMETRIC DATA ELEMENTS */
BANDWIDTH = 88.0
CENTER_FILTER_WAVELENGTH = 538.0
RADIANCE_OFFSET = 2.68837
RADIANCE_SCALING_FACTOR = 0.0176966
REFLECTANCE_SCALING_FACTOR = 0.000666582
MEX:REFLECTANCE_OFFSET = 0.101264
/* IMAGE OBJECT DEFINITIONS */
OBJECT = IMAGE
  INTERCHANGE_FORMAT = BINARY
  LINES = 7303
  LINE_SAMPLES = 4398
  SAMPLE_TYPE = UNSIGNED_INTEGER
  SAMPLE_BITS = 8
  BANDS = 1
  BAND_STORAGE_TYPE = BAND_SEQUENTIAL
  MAXIMUM = 254
  MEAN = 127.324
  MINIMUM = 1
  STANDARD_DEVIATION = 55.1257
END_OBJECT = IMAGE
/* MAP OBJECT DEFINITIONS */
OBJECT = IMAGE_MAP_PROJECTION
  ^DATA_SET_MAP_PROJECTION_CATALOG= "DSMAP.CAT"
  A_AXIS_RADIUS = 3396.0
  B_AXIS_RADIUS = 3396.0
  C_AXIS_RADIUS = 3396.0
  CENTER_LATITUDE = 0.0
  CENTER_LONGITUDE = 314.0
  COORDINATE_SYSTEM_NAME = PLANETOGRAPHIC
  COORDINATE_SYSTEM_TYPE = "BODY-FIXED ROTATING"
  EASTERNMOST_LONGITUDE = 324.079
  FIRST_STANDARD_PARALLEL = "N/A"
  LINE_FIRST_PIXEL = 1
  LINE_LAST_PIXEL = 7303
  LINE_PROJECTION_OFFSET = -94126.625
  MAP_PROJECTION_ROTATION = 0.0
  MAP_PROJECTION_TYPE = SINUSOIDAL
  MAP_RESOLUTION = 1185.42760773333
  MAP_SCALE = 0.05
  MAXIMUM_LATITUDE = -79.414
  MINIMUM_LATITUDE = -85.5761
  POSITIVE_LONGITUDE_DIRECTION = EAST
  REFERENCE_LATITUDE = "N/A"
  REFERENCE_LONGITUDE = "N/A"
  SAMPLE_FIRST_PIXEL = 1
  SAMPLE_LAST_PIXEL = 4398
  SAMPLE_PROJECTION_OFFSET = 2285.625
  SECOND_STANDARD_PARALLEL = "N/A"
  WESTERNMOST_LONGITUDE = 292.599
END_OBJECT = IMAGE_MAP_PROJECTION
/* The JPEG2000 image data file associated with this label. */
OBJECT = COMPRESSED_FILE
  FILE_NAME = "H4559_0000_GR3.JP2"
  RECORD_TYPE = UNDEFINED
  FILE_RECORDS = UNK
  ENCODING_TYPE = "JP2"
  INTERCHANGE_FORMAT = BINARY
  UNCOMPRESSED_FILE_NAME = "H4559_0000_GR3.IMG"
  REQUIRED_STORAGE_BYTES = "32144982"
  ^DESCRIPTION = "JP2INFO.TXT"
END_OBJECT = COMPRESSED_FILE
END
