PDS_VERSION_ID = PDS3
/* FILE DATA ELEMENTS */
RECORD_TYPE = STREAM
/* POINTERS TO DATA OBJECTS */
^COMPRESSED_FILE = "H4561_0001_ND3.JP2"
/* IDENTIFICATION DATA ELEMENTS */
DATA_SET_ID = "MEX-M-HRSC-5-REFDR-MAPPROJECTED-V3.0"
DATA_SET_NAME = "MARS EXPRESS HRSC MAP PROJECTED REFDR V3.0"
DETECTOR_ID = MEX_HRSC_NADIR
EVENT_TYPE = "MARS-REGIONAL-MAPPING-Vo-Te-Fl"
INSTRUMENT_HOST_ID = MEX
INSTRUMENT_HOST_NAME = "MARS EXPRESS"
INSTRUMENT_ID = HRSC
INSTRUMENT_NAME = "HIGH RESOLUTION STEREO CAMERA"
MISSION_NAME = "MARS EXPRESS"
MISSION_PHASE_NAME = ME_Phase_8
PROCESSING_LEVEL_ID = 3
PRODUCT_CREATION_TIME = 2016-04-25T16:23:03.000Z
PRODUCT_ID = "H4561_0001_ND3.JP2"
RELEASE_ID = 0052
REVISION_ID = 0000
/* QUALITY DATA ELEMENTS */
DATA_QUALITY_ID = 1
DATA_QUALITY_DESC = "Data calculated based on original SPICE kernels"
/* TIME DATA ELEMENTS */
SPACECRAFT_CLOCK_START_COUNT = "1/0133299684.08247"
SPACECRAFT_CLOCK_STOP_COUNT = "1/0133300104.22414"
START_TIME = 2007-07-23T19:42:08.294Z
STOP_TIME = 2007-07-23T19:46:54.256Z
/* ORBITAL DATA ELEMENTS */
ASCENDING_NODE_LONGITUDE = 132.93
MAXIMUM_RESOLUTION = 17.9
FOOTPRINT_POINT_LATITUDE = (-56.743,-56.795,-56.8228,-56.5552, -56.2812,-56.002,-55.7224,-55.3007, -55.0157,-54.7313,-54.2972,-54.0078, -53.567,-53.2727,-52.8244,-52.5252, -52.2209,-51.9166,-51.4539,-51.145, -50.8305,-50.5167,-50.1975,-49.7169, -49.3934,-49.067,-48.7389,-48.4069, -47.9051,-47.5678,-47.2265,-46.7105, -46.1881,-45.6593,-45.3038,-44.9438, -44.5813,-44.2165,-43.8481,-43.4758, -43.1004,-42.722,-42.3407,-41.9553, -41.5712,-41.1885,-40.8073,-40.4274, -40.4192,-40.4164,-40.4109,-40.4014, -40.3858,-40.3738,-40.7517,-41.1311, -41.5119,-41.8941,-42.2777,-42.6573, -43.034,-43.4078,-43.7785,-44.1453, -44.5087,-44.8698,-45.2282,-45.5824, -46.1091,-46.6294,-47.1434,-47.4834, -47.8195,-48.3194,-48.65,-48.977, -49.3022,-49.6246,-50.1035,-50.4215, -50.7342,-51.0476,-51.3555,-51.8165, -52.1198,-52.4231,-52.7214,-53.1683, -53.4616,-53.901,-54.1895,-54.6221, -54.9055,-55.1894,-55.6098,-55.8884, -56.1667,-56.4398,-56.7133,-56.743)
FOOTPRINT_POINT_LONGITUDE = (135.45,136.711,137.562,137.808,137.844 ,137.879,137.914,137.964,137.996, 138.026,138.074,138.106,138.154,138.187 ,138.234,138.263,138.292,138.321, 138.363,138.391,138.419,138.445,138.471 ,138.511,138.538,138.564,138.589, 138.612,138.649,138.673,138.698,138.734 ,138.766,138.8,138.823,138.845,138.868, 138.891,138.913,138.935,138.956,138.976 ,138.996,139.017,139.037,139.057, 139.076,139.094,138.582,138.166,137.654 ,137.045,136.305,135.839,135.842, 135.839,135.836,135.832,135.828,135.824 ,135.817,135.81,135.803,135.795,135.786 ,135.776,135.766,135.756,135.738, 135.719,135.698,135.682,135.667,135.642 ,135.624,135.607,135.588,135.569,135.54 ,135.52,135.495,135.475,135.452,135.417 ,135.394,135.372,135.348,135.307, 135.278,135.23,135.207,135.161,135.132, 135.102,135.051,135.017,134.982,134.949 ,134.914,135.45)
ORBIT_NUMBER = 4561
ORBITAL_ECCENTRICITY = 0.57
ORBITAL_INCLINATION = 86.69
ORBITAL_SEMIMAJOR_AXIS = 8531.65
PERIAPSIS_ALTITUDE = 294.25
PERIAPSIS_ARGUMENT_ANGLE = 275.23
PERIAPSIS_TIME = 2007-07-23T19:34:59.000Z
SPACECRAFT_ORIENTATION = (0.0,-1.0,0.0)
^MEX_ORIENTATION_DESC = "MEX_ORIENTATION_DESC.TXT"
SPACECRAFT_POINTING_MODE = ACROSSTRACK
^MEX_POINTING_DESC = "MEX_POINTING_DESC.TXT"
RIGHT_ASCENSION = -1e+32
DECLINATION = -1e+32
OFFSET_ANGLE = 0.08
SPACECRAFT_SOLAR_DISTANCE = 2.0922e+08
TARGET_NAME = MARS
/* CAMERA DATA ELEMENTS */
DETECTOR_TEMPERATURE = 19.39
FOCAL_PLANE_TEMPERATURE = 8.7872
INST_CMPRS_NAME = "DISCRETE COSINE TRANSFORMATION (DCT)"
INST_CMPRS_RATIO = 6.73563
INST_CMPRS_QUALITY = 0
INST_CMPRS_QUANTZ_TBL_ID = 0
INSTRUMENT_TEMPERATURE = 13.4769
LENS_TEMPERATURE = 9.3989
MACROPIXEL_SIZE = 1
MISSING_FRAMES = 0
PIXEL_SUBSAMPLING_FLAG = N
SIGNAL_CHAIN_ID = 0
/* RADIOMETRIC DATA ELEMENTS */
BANDWIDTH = 177.0
CENTER_FILTER_WAVELENGTH = 677.5
RADIANCE_OFFSET = 9.73931
RADIANCE_SCALING_FACTOR = 0.0209279
REFLECTANCE_SCALING_FACTOR = 0.000486654
MEX:REFLECTANCE_OFFSET = 0.226477
/* IMAGE OBJECT DEFINITIONS */
OBJECT = IMAGE
  INTERCHANGE_FORMAT = BINARY
  LINES = 78023
  LINE_SAMPLES = 13152
  SAMPLE_TYPE = UNSIGNED_INTEGER
  SAMPLE_BITS = 8
  BANDS = 1
  BAND_STORAGE_TYPE = BAND_SEQUENTIAL
  MAXIMUM = 255
  MEAN = 158.576
  MINIMUM = 1
  STANDARD_DEVIATION = 54.1951
END_OBJECT = IMAGE
/* MAP OBJECT DEFINITIONS */
OBJECT = IMAGE_MAP_PROJECTION
  ^DATA_SET_MAP_PROJECTION_CATALOG= "DSMAP.CAT"
  A_AXIS_RADIUS = 3396.0
  B_AXIS_RADIUS = 3396.0
  C_AXIS_RADIUS = 3396.0
  CENTER_LATITUDE = 0.0
  CENTER_LONGITUDE = 137.0
  COORDINATE_SYSTEM_NAME = PLANETOGRAPHIC
  COORDINATE_SYSTEM_TYPE = "BODY-FIXED ROTATING"
  EASTERNMOST_LONGITUDE = 139.094
  FIRST_STANDARD_PARALLEL = "N/A"
  LINE_FIRST_PIXEL = 1
  LINE_LAST_PIXEL = 78023
  LINE_PROJECTION_OFFSET = -191440.0
  MAP_PROJECTION_ROTATION = 0.0
  MAP_PROJECTION_TYPE = SINUSOIDAL
  MAP_RESOLUTION = 4741.71043093333
  MAP_SCALE = 0.0125
  MAXIMUM_LATITUDE = -40.3738
  MINIMUM_LATITUDE = -56.8228
  POSITIVE_LONGITUDE_DIRECTION = EAST
  REFERENCE_LATITUDE = "N/A"
  REFERENCE_LONGITUDE = "N/A"
  SAMPLE_FIRST_PIXEL = 1
  SAMPLE_LAST_PIXEL = 13152
  SAMPLE_PROJECTION_OFFSET = 5478.0
  SECOND_STANDARD_PARALLEL = "N/A"
  WESTERNMOST_LONGITUDE = 134.914
END_OBJECT = IMAGE_MAP_PROJECTION
/* The JPEG2000 image data file associated with this label. */
OBJECT = COMPRESSED_FILE
  FILE_NAME = "H4561_0001_ND3.JP2"
  RECORD_TYPE = UNDEFINED
  FILE_RECORDS = UNK
  ENCODING_TYPE = "JP2"
  INTERCHANGE_FORMAT = BINARY
  UNCOMPRESSED_FILE_NAME = "H4561_0001_ND3.IMG"
  REQUIRED_STORAGE_BYTES = "1026197952"
  ^DESCRIPTION = "JP2INFO.TXT"
END_OBJECT = COMPRESSED_FILE
END
