PDS_VERSION_ID = PDS3
/* FILE DATA ELEMENTS */
RECORD_TYPE = STREAM
/* POINTERS TO DATA OBJECTS */
^COMPRESSED_FILE = "H4561_0001_P23.JP2"
/* IDENTIFICATION DATA ELEMENTS */
DATA_SET_ID = "MEX-M-HRSC-5-REFDR-MAPPROJECTED-V3.0"
DATA_SET_NAME = "MARS EXPRESS HRSC MAP PROJECTED REFDR V3.0"
DETECTOR_ID = MEX_HRSC_P2
EVENT_TYPE = "MARS-REGIONAL-MAPPING-Vo-Te-Fl"
INSTRUMENT_HOST_ID = MEX
INSTRUMENT_HOST_NAME = "MARS EXPRESS"
INSTRUMENT_ID = HRSC
INSTRUMENT_NAME = "HIGH RESOLUTION STEREO CAMERA"
MISSION_NAME = "MARS EXPRESS"
MISSION_PHASE_NAME = ME_Phase_8
PROCESSING_LEVEL_ID = 3
PRODUCT_CREATION_TIME = 2016-04-25T16:23:03.000Z
PRODUCT_ID = "H4561_0001_P23.JP2"
RELEASE_ID = 0052
REVISION_ID = 0000
/* QUALITY DATA ELEMENTS */
DATA_QUALITY_ID = 1
DATA_QUALITY_DESC = "Data calculated based on original SPICE kernels"
/* TIME DATA ELEMENTS */
SPACECRAFT_CLOCK_START_COUNT = "1/0133299684.08247"
SPACECRAFT_CLOCK_STOP_COUNT = "1/0133300104.22414"
START_TIME = 2007-07-23T19:42:38.428Z
STOP_TIME = 2007-07-23T19:47:50.846Z
/* ORBITAL DATA ELEMENTS */
ASCENDING_NODE_LONGITUDE = 132.93
MAXIMUM_RESOLUTION = 38.9
FOOTPRINT_POINT_LATITUDE = (-56.687,-56.7133,-56.7437,-56.7607, -56.3941,-55.8315,-55.5457,-55.2585, -54.969,-54.6739,-54.2361,-53.9416, -53.6431,-53.1994,-52.8975,-52.5938, -52.2856,-51.9775,-51.6645,-51.1926, -50.8762,-50.5556,-50.07,-49.5806, -49.2542,-48.9221,-48.4155,-48.0784, -47.5665,-47.2249,-46.878,-46.5272, -46.1696,-45.6323,-45.2721,-44.9108, -44.5475,-44.0025,-43.642,-43.2821, -42.9238,-42.5662,-42.2115,-41.8588, -41.5079,-41.1585,-40.8112,-40.4654, -40.4091,-40.4083,-40.406,-40.402, -40.4011,-40.3952,-40.5561,-41.07, -41.4171,-41.7664,-42.1171,-42.4687, -42.8219,-43.1789,-43.5371,-43.8963, -44.2572,-44.6205,-44.9835,-45.3436, -45.7,-46.0533,-46.5801,-46.9259, -47.273,-47.6158,-47.9548,-48.46, -48.9583,-49.4511,-49.7769,-50.0993, -50.4195,-50.7442,-51.0543,-51.3694, -51.6806,-51.9898,-52.294,-52.5951, -52.8986,-53.3496,-53.6567,-53.951, -54.3868,-54.6764,-54.9639,-55.3936, -55.6812,-55.9641,-56.5225,-56.687)
FOOTPRINT_POINT_LONGITUDE = (135.492,136.174,137.083,137.681, 137.919,137.992,138.027,138.062,138.096 ,138.127,138.179,138.212,138.244, 138.296,138.329,138.361,138.392,138.422 ,138.452,138.497,138.526,138.555, 138.597,138.639,138.668,138.696,138.734 ,138.761,138.801,138.828,138.855,138.88 ,138.903,138.939,138.964,138.99,139.016 ,139.052,139.076,139.099,139.121, 139.142,139.164,139.185,139.206,139.226 ,139.246,139.266,138.821,138.372, 137.751,137.268,136.609,136.159,135.697 ,135.7,135.7,135.699,135.697,135.695, 135.693,135.688,135.683,135.678,135.671 ,135.664,135.656,135.648,135.638, 135.629,135.612,135.6,135.586,135.572, 135.557,135.533,135.509,135.483,135.464 ,135.446,135.427,135.402,135.385, 135.362,135.34,135.317,135.296,135.275, 135.249,135.209,135.173,135.146,135.108 ,135.078,135.051,135.003,134.969, 134.933,134.867,135.492)
ORBIT_NUMBER = 4561
ORBITAL_ECCENTRICITY = 0.57
ORBITAL_INCLINATION = 86.69
ORBITAL_SEMIMAJOR_AXIS = 8531.65
PERIAPSIS_ALTITUDE = 294.25
PERIAPSIS_ARGUMENT_ANGLE = 275.23
PERIAPSIS_TIME = 2007-07-23T19:34:59.000Z
SPACECRAFT_ORIENTATION = (0.0,-1.0,0.0)
^MEX_ORIENTATION_DESC = "MEX_ORIENTATION_DESC.TXT"
SPACECRAFT_POINTING_MODE = ACROSSTRACK
^MEX_POINTING_DESC = "MEX_POINTING_DESC.TXT"
RIGHT_ASCENSION = -1e+32
DECLINATION = -1e+32
OFFSET_ANGLE = 0.08
SPACECRAFT_SOLAR_DISTANCE = 2.0922e+08
TARGET_NAME = MARS
/* CAMERA DATA ELEMENTS */
DETECTOR_TEMPERATURE = 20.2056
FOCAL_PLANE_TEMPERATURE = 8.7872
INST_CMPRS_NAME = "DISCRETE COSINE TRANSFORMATION (DCT)"
INST_CMPRS_RATIO = 9.96668
INST_CMPRS_QUALITY = 0
INST_CMPRS_QUANTZ_TBL_ID = 0
INSTRUMENT_TEMPERATURE = 13.4769
LENS_TEMPERATURE = 9.3989
MACROPIXEL_SIZE = 2
MISSING_FRAMES = 0
PIXEL_SUBSAMPLING_FLAG = N
SIGNAL_CHAIN_ID = 3
/* RADIOMETRIC DATA ELEMENTS */
BANDWIDTH = 177.0
CENTER_FILTER_WAVELENGTH = 676.5
RADIANCE_OFFSET = 10.1252
RADIANCE_SCALING_FACTOR = 0.0158827
REFLECTANCE_SCALING_FACTOR = 0.00036863
MEX:REFLECTANCE_OFFSET = 0.235002
/* IMAGE OBJECT DEFINITIONS */
OBJECT = IMAGE
  INTERCHANGE_FORMAT = BINARY
  LINES = 39012
  LINE_SAMPLES = 6576
  SAMPLE_TYPE = UNSIGNED_INTEGER
  SAMPLE_BITS = 8
  BANDS = 1
  BAND_STORAGE_TYPE = BAND_SEQUENTIAL
  MAXIMUM = 255
  MEAN = 177.955
  MINIMUM = 1
  STANDARD_DEVIATION = 63.3085
END_OBJECT = IMAGE
/* MAP OBJECT DEFINITIONS */
OBJECT = IMAGE_MAP_PROJECTION
  ^DATA_SET_MAP_PROJECTION_CATALOG= "DSMAP.CAT"
  A_AXIS_RADIUS = 3396.0
  B_AXIS_RADIUS = 3396.0
  C_AXIS_RADIUS = 3396.0
  CENTER_LATITUDE = 0.0
  CENTER_LONGITUDE = 137.0
  COORDINATE_SYSTEM_NAME = PLANETOGRAPHIC
  COORDINATE_SYSTEM_TYPE = "BODY-FIXED ROTATING"
  EASTERNMOST_LONGITUDE = 139.266
  FIRST_STANDARD_PARALLEL = "N/A"
  LINE_FIRST_PIXEL = 1
  LINE_LAST_PIXEL = 39012
  LINE_PROJECTION_OFFSET = -95720.25
  MAP_PROJECTION_ROTATION = 0.0
  MAP_PROJECTION_TYPE = SINUSOIDAL
  MAP_RESOLUTION = 2370.85521546667
  MAP_SCALE = 0.025
  MAXIMUM_LATITUDE = -40.3952
  MINIMUM_LATITUDE = -56.7607
  POSITIVE_LONGITUDE_DIRECTION = EAST
  REFERENCE_LATITUDE = "N/A"
  REFERENCE_LONGITUDE = "N/A"
  SAMPLE_FIRST_PIXEL = 1
  SAMPLE_LAST_PIXEL = 6576
  SAMPLE_PROJECTION_OFFSET = 2738.75
  SECOND_STANDARD_PARALLEL = "N/A"
  WESTERNMOST_LONGITUDE = 134.867
END_OBJECT = IMAGE_MAP_PROJECTION
/* The JPEG2000 image data file associated with this label. */
OBJECT = COMPRESSED_FILE
  FILE_NAME = "H4561_0001_P23.JP2"
  RECORD_TYPE = UNDEFINED
  FILE_RECORDS = UNK
  ENCODING_TYPE = "JP2"
  INTERCHANGE_FORMAT = BINARY
  UNCOMPRESSED_FILE_NAME = "H4561_0001_P23.IMG"
  REQUIRED_STORAGE_BYTES = "256575792"
  ^DESCRIPTION = "JP2INFO.TXT"
END_OBJECT = COMPRESSED_FILE
END
