PDS_VERSION_ID = PDS3
/* FILE DATA ELEMENTS */
RECORD_TYPE = STREAM
/* POINTERS TO DATA OBJECTS */
^COMPRESSED_FILE = "H4571_0000_BL3.JP2"
/* IDENTIFICATION DATA ELEMENTS */
DATA_SET_ID = "MEX-M-HRSC-5-REFDR-MAPPROJECTED-V3.0"
DATA_SET_NAME = "MARS EXPRESS HRSC MAP PROJECTED REFDR V3.0"
DETECTOR_ID = MEX_HRSC_BLUE
EVENT_TYPE = "MARS-LOCAL-VARIABLE-Gl-Eo-La"
INSTRUMENT_HOST_ID = MEX
INSTRUMENT_HOST_NAME = "MARS EXPRESS"
INSTRUMENT_ID = HRSC
INSTRUMENT_NAME = "HIGH RESOLUTION STEREO CAMERA"
MISSION_NAME = "MARS EXPRESS"
MISSION_PHASE_NAME = ME_Phase_8
PROCESSING_LEVEL_ID = 3
PRODUCT_CREATION_TIME = 2016-04-25T16:23:03.000Z
PRODUCT_ID = "H4571_0000_BL3.JP2"
RELEASE_ID = 0052
REVISION_ID = 0000
/* QUALITY DATA ELEMENTS */
DATA_QUALITY_ID = 1
DATA_QUALITY_DESC = "Data calculated based on original SPICE kernels"
/* TIME DATA ELEMENTS */
SPACECRAFT_CLOCK_START_COUNT = "1/0133541124.08241"
SPACECRAFT_CLOCK_STOP_COUNT = "1/0133541285.50007"
START_TIME = 2007-07-26T14:45:58.924Z
STOP_TIME = 2007-07-26T14:47:46.028Z
/* ORBITAL DATA ELEMENTS */
ASCENDING_NODE_LONGITUDE = 132.73
MAXIMUM_RESOLUTION = 23.1
FOOTPRINT_POINT_LATITUDE = (-86.2314,-86.4528,-86.72,-86.9956, -87.1592,-87.1835,-87.2057,-87.2109, -87.2088,-87.1996,-87.1832,-87.1455, -87.112,-87.049,-86.999,-86.9432, -86.8837,-86.8174,-86.7092,-86.6311, -86.5488,-86.4628,-86.3737,-86.2811, -86.1853,-86.0364,-85.882,-85.7764, -85.6685,-85.5587,-85.4469,-85.3337, -85.2189,-85.103,-84.9263,-84.8069, -84.6865,-84.565,-84.4427,-84.3195, -84.1953,-84.0702,-83.9444,-83.818, -83.691,-83.5634,-83.4352,-83.3065, -83.1773,-83.0477,-82.9175,-82.7668, -82.6813,-82.6174,-82.5193,-82.426, -82.504,-82.7473,-82.9279,-83.0473, -83.1658,-83.3419,-83.4581,-83.5733, -83.6874,-83.8003,-83.912,-84.0771, -84.1855,-84.2923,-84.3976,-84.5013, -84.6032,-84.7032,-84.8013,-84.8973, -84.9911,-85.0826,-85.1716,-85.258, -85.3416,-85.4615,-85.5374,-85.6101, -85.6796,-85.7453,-85.8068,-85.8918, -85.9914,-86.0342,-86.0721,-86.1053, -86.1334,-86.1564,-86.1808,-86.1905, -86.1953,-86.1921,-86.1832,-86.2314)
FOOTPRINT_POINT_LONGITUDE = (142.782,142.275,141.57,140.709,139.781 ,142.729,147.222,150.135,153.052, 155.955,158.834,163.071,165.824,169.823 ,172.389,174.865,177.245,179.534, 182.786,184.833,186.784,188.643,190.412 ,192.094,193.693,195.943,198.027, 199.331,200.57,201.748,202.868,203.934, 204.949,205.917,207.284,208.142,208.962 ,209.745,210.494,211.211,211.896, 212.552,213.18,213.783,214.362,214.917, 215.451,215.965,216.458,216.933,217.391 ,216.54,215.053,214.014,212.52,211.197, 210.054,208.933,208.042,207.422,206.779 ,205.772,205.07,204.342,203.587,202.804 ,201.992,200.715,199.823,198.897, 197.937,196.939,195.903,194.826,193.708 ,192.547,191.342,190.091,188.793, 187.446,186.049,183.855,182.327,180.749 ,179.125,177.445,175.704,173.008, 169.268,167.325,165.34,163.32,161.267, 159.186,156.019,153.891,150.687,148.554 ,146.363,142.782)
ORBIT_NUMBER = 4571
ORBITAL_ECCENTRICITY = 0.57
ORBITAL_INCLINATION = 86.7
ORBITAL_SEMIMAJOR_AXIS = 8529.78
PERIAPSIS_ALTITUDE = 293.26
PERIAPSIS_ARGUMENT_ANGLE = 273.49
PERIAPSIS_TIME = 2007-07-26T14:46:55.000Z
SPACECRAFT_ORIENTATION = (0.0,-1.0,0.0)
^MEX_ORIENTATION_DESC = "MEX_ORIENTATION_DESC.TXT"
SPACECRAFT_POINTING_MODE = NADIR
^MEX_POINTING_DESC = "MEX_POINTING_DESC.TXT"
RIGHT_ASCENSION = -1e+32
DECLINATION = -1e+32
OFFSET_ANGLE = -1e+32
SPACECRAFT_SOLAR_DISTANCE = 2.09509e+08
TARGET_NAME = MARS
/* CAMERA DATA ELEMENTS */
DETECTOR_TEMPERATURE = 17.9627
FOCAL_PLANE_TEMPERATURE = 8.5833
INST_CMPRS_NAME = "DISCRETE COSINE TRANSFORMATION (DCT)"
INST_CMPRS_RATIO = 2.93022
INST_CMPRS_QUALITY = 0
INST_CMPRS_QUANTZ_TBL_ID = 0
INSTRUMENT_TEMPERATURE = 11.234
LENS_TEMPERATURE = 8.7872
MACROPIXEL_SIZE = 2
MISSING_FRAMES = 0
PIXEL_SUBSAMPLING_FLAG = N
SIGNAL_CHAIN_ID = 2
/* RADIOMETRIC DATA ELEMENTS */
BANDWIDTH = 76.0
CENTER_FILTER_WAVELENGTH = 444.0
RADIANCE_OFFSET = 0.640073
RADIANCE_SCALING_FACTOR = 0.00236068
REFLECTANCE_SCALING_FACTOR = 0.000106463
MEX:REFLECTANCE_OFFSET = 0.0288663
/* IMAGE OBJECT DEFINITIONS */
OBJECT = IMAGE
  INTERCHANGE_FORMAT = BINARY
  LINES = 10327
  LINE_SAMPLES = 15861
  SAMPLE_TYPE = UNSIGNED_INTEGER
  SAMPLE_BITS = 8
  BANDS = 1
  BAND_STORAGE_TYPE = BAND_SEQUENTIAL
  MAXIMUM = 253
  MEAN = 139.264
  MINIMUM = 4
  STANDARD_DEVIATION = 20.8906
END_OBJECT = IMAGE
/* MAP OBJECT DEFINITIONS */
OBJECT = IMAGE_MAP_PROJECTION
  ^DATA_SET_MAP_PROJECTION_CATALOG= "DSMAP.CAT"
  A_AXIS_RADIUS = 3396.0
  B_AXIS_RADIUS = 3396.0
  C_AXIS_RADIUS = 3396.0
  CENTER_LATITUDE = -90.0
  CENTER_LONGITUDE = 0.0
  COORDINATE_SYSTEM_NAME = PLANETOGRAPHIC
  COORDINATE_SYSTEM_TYPE = "BODY-FIXED ROTATING"
  EASTERNMOST_LONGITUDE = 217.391
  FIRST_STANDARD_PARALLEL = "N/A"
  LINE_FIRST_PIXEL = 1
  LINE_LAST_PIXEL = 10327
  LINE_PROJECTION_OFFSET = -5176.25
  MAP_PROJECTION_ROTATION = 0.0
  MAP_PROJECTION_TYPE = STEREOGRAPHIC
  MAP_RESOLUTION = 2370.85521546667
  MAP_SCALE = 0.025
  MAXIMUM_LATITUDE = -82.426
  MINIMUM_LATITUDE = -87.2109
  POSITIVE_LONGITUDE_DIRECTION = EAST
  REFERENCE_LATITUDE = "N/A"
  REFERENCE_LONGITUDE = "N/A"
  SAMPLE_FIRST_PIXEL = 1
  SAMPLE_LAST_PIXEL = 15861
  SAMPLE_PROJECTION_OFFSET = 10357.75
  SECOND_STANDARD_PARALLEL = "N/A"
  WESTERNMOST_LONGITUDE = 139.781
END_OBJECT = IMAGE_MAP_PROJECTION
/* The JPEG2000 image data file associated with this label. */
OBJECT = COMPRESSED_FILE
  FILE_NAME = "H4571_0000_BL3.JP2"
  RECORD_TYPE = UNDEFINED
  FILE_RECORDS = UNK
  ENCODING_TYPE = "JP2"
  INTERCHANGE_FORMAT = BINARY
  UNCOMPRESSED_FILE_NAME = "H4571_0000_BL3.IMG"
  REQUIRED_STORAGE_BYTES = "163844130"
  ^DESCRIPTION = "JP2INFO.TXT"
END_OBJECT = COMPRESSED_FILE
END
