PDS_VERSION_ID = PDS3
/* FILE DATA ELEMENTS */
RECORD_TYPE = STREAM
/* POINTERS TO DATA OBJECTS */
^COMPRESSED_FILE = "H4572_0000_P13.JP2"
/* IDENTIFICATION DATA ELEMENTS */
DATA_SET_ID = "MEX-M-HRSC-5-REFDR-MAPPROJECTED-V3.0"
DATA_SET_NAME = "MARS EXPRESS HRSC MAP PROJECTED REFDR V3.0"
DETECTOR_ID = MEX_HRSC_P1
EVENT_TYPE = "MARS-REGIONAL-MAPPING-Gl-Eo-La"
INSTRUMENT_HOST_ID = MEX
INSTRUMENT_HOST_NAME = "MARS EXPRESS"
INSTRUMENT_ID = HRSC
INSTRUMENT_NAME = "HIGH RESOLUTION STEREO CAMERA"
MISSION_NAME = "MARS EXPRESS"
MISSION_PHASE_NAME = ME_Phase_8
PROCESSING_LEVEL_ID = 3
PRODUCT_CREATION_TIME = 2016-04-25T16:23:03.000Z
PRODUCT_ID = "H4572_0000_P13.JP2"
RELEASE_ID = 0052
REVISION_ID = 0000
/* QUALITY DATA ELEMENTS */
DATA_QUALITY_ID = 1
DATA_QUALITY_DESC = "Data calculated based on original SPICE kernels"
/* TIME DATA ELEMENTS */
SPACECRAFT_CLOCK_START_COUNT = "1/0133565362.09062"
SPACECRAFT_CLOCK_STOP_COUNT = "1/0133565548.65028"
START_TIME = 2007-07-26T21:29:35.321Z
STOP_TIME = 2007-07-26T21:31:45.720Z
/* ORBITAL DATA ELEMENTS */
ASCENDING_NODE_LONGITUDE = 132.71
MAXIMUM_RESOLUTION = 47.6
FOOTPRINT_POINT_LATITUDE = (-85.6396,-85.8098,-86.0077,-86.2161, -86.3401,-86.4275,-86.2635,-86.1479, -86.0299,-85.9076,-85.7815,-85.653, -85.5217,-85.3873,-85.2507,-85.112, -84.9716,-84.8296,-84.6859,-84.5403, -84.3193,-84.1704,-84.0201,-83.8688, -83.7163,-83.4857,-83.3307,-83.1753, -82.9411,-82.784,-82.6264,-82.4681, -82.3045,-82.0557,-81.8893,-81.7227, -81.5556,-81.3878,-81.2186,-81.0493, -80.8806,-80.712,-80.543,-80.3733, -80.2031,-80.0326,-79.7767,-79.5206, -79.2589,-79.0877,-78.9153,-78.6747, -78.5988,-78.544,-78.4803,-78.4089, -78.6622,-78.8309,-78.998,-79.2476, -79.4136,-79.5792,-79.8267,-79.9912, -80.1551,-80.4,-80.6446,-80.807, -80.9683,-81.1286,-81.2887,-81.5277, -81.6859,-81.8432,-82.0747,-82.2238, -82.3721,-82.5927,-82.7382,-82.8831, -83.0267,-83.2398,-83.4497,-83.5876, -83.7235,-83.8574,-83.9896,-84.1815, -84.3088,-84.4341,-84.5565,-84.6764, -84.8529,-84.9677,-85.0785,-85.1844, -85.3352,-85.4308,-85.5217,-85.6396)
FOOTPRINT_POINT_LONGITUDE = (82.136,83.4679,85.1886,87.2418,88.6042 ,90.841,93.9022,95.8286,97.5664,99.2366 ,100.82,102.294,103.684,105.007,106.249 ,107.422,108.524,109.562,110.544, 111.481,112.795,113.616,114.398,115.14, 115.848,116.849,117.478,118.076,118.92, 119.453,119.963,120.451,120.934,121.627 ,122.065,122.483,122.885,123.273, 123.651,124.014,124.357,124.686,125.004 ,125.311,125.609,125.898,126.31,126.7, 127.094,127.331,127.565,127.257,125.824 ,124.881,123.853,122.775,122.348, 122.052,121.746,121.269,120.938,120.596 ,120.062,119.691,119.306,118.705, 118.072,117.63,117.173,116.698,116.206, 115.432,114.891,114.328,113.453,112.857 ,112.236,111.259,110.574,109.861, 109.118,107.943,106.693,105.813,104.896 ,103.939,102.939,101.361,100.244, 99.0753,97.8547,96.5775,94.5423,93.102, 91.5989,90.0352,87.5653,85.8291,84.0216 ,82.136)
ORBIT_NUMBER = 4572
ORBITAL_ECCENTRICITY = 0.57
ORBITAL_INCLINATION = 86.69
ORBITAL_SEMIMAJOR_AXIS = 8531.11
PERIAPSIS_ALTITUDE = 294.46
PERIAPSIS_ARGUMENT_ANGLE = 273.32
PERIAPSIS_TIME = 2007-07-26T21:30:08.000Z
SPACECRAFT_ORIENTATION = (0.0,-1.0,0.0)
^MEX_ORIENTATION_DESC = "MEX_ORIENTATION_DESC.TXT"
SPACECRAFT_POINTING_MODE = NADIR
^MEX_POINTING_DESC = "MEX_POINTING_DESC.TXT"
RIGHT_ASCENSION = -1e+32
DECLINATION = -1e+32
OFFSET_ANGLE = -1e+32
SPACECRAFT_SOLAR_DISTANCE = 2.09539e+08
TARGET_NAME = MARS
/* CAMERA DATA ELEMENTS */
DETECTOR_TEMPERATURE = 17.5549
FOCAL_PLANE_TEMPERATURE = 8.7872
INST_CMPRS_NAME = "DISCRETE COSINE TRANSFORMATION (DCT)"
INST_CMPRS_RATIO = 24.5157
INST_CMPRS_QUALITY = 0
INST_CMPRS_QUANTZ_TBL_ID = 0
INSTRUMENT_TEMPERATURE = 11.4379
LENS_TEMPERATURE = 8.7872
MACROPIXEL_SIZE = 4
MISSING_FRAMES = 0
PIXEL_SUBSAMPLING_FLAG = N
SIGNAL_CHAIN_ID = 3
/* RADIOMETRIC DATA ELEMENTS */
BANDWIDTH = 174.0
CENTER_FILTER_WAVELENGTH = 675.0
RADIANCE_OFFSET = 6.3349
RADIANCE_SCALING_FACTOR = 0.010382
REFLECTANCE_SCALING_FACTOR = 0.000245188
MEX:REFLECTANCE_OFFSET = 0.149608
/* IMAGE OBJECT DEFINITIONS */
OBJECT = IMAGE
  INTERCHANGE_FORMAT = BINARY
  LINES = 9480
  LINE_SAMPLES = 5879
  SAMPLE_TYPE = UNSIGNED_INTEGER
  SAMPLE_BITS = 8
  BANDS = 1
  BAND_STORAGE_TYPE = BAND_SEQUENTIAL
  MAXIMUM = 255
  MEAN = 97.6354
  MINIMUM = 1
  STANDARD_DEVIATION = 37.4956
END_OBJECT = IMAGE
/* MAP OBJECT DEFINITIONS */
OBJECT = IMAGE_MAP_PROJECTION
  ^DATA_SET_MAP_PROJECTION_CATALOG= "DSMAP.CAT"
  A_AXIS_RADIUS = 3396.0
  B_AXIS_RADIUS = 3396.0
  C_AXIS_RADIUS = 3396.0
  CENTER_LATITUDE = 0.0
  CENTER_LONGITUDE = 115.0
  COORDINATE_SYSTEM_NAME = PLANETOGRAPHIC
  COORDINATE_SYSTEM_TYPE = "BODY-FIXED ROTATING"
  EASTERNMOST_LONGITUDE = 127.565
  FIRST_STANDARD_PARALLEL = "N/A"
  LINE_FIRST_PIXEL = 1
  LINE_LAST_PIXEL = 9480
  LINE_PROJECTION_OFFSET = -92938.875
  MAP_PROJECTION_ROTATION = 0.0
  MAP_PROJECTION_TYPE = SINUSOIDAL
  MAP_RESOLUTION = 1185.42760773333
  MAP_SCALE = 0.05
  MAXIMUM_LATITUDE = -78.4089
  MINIMUM_LATITUDE = -86.42749999999999
  POSITIVE_LONGITUDE_DIRECTION = EAST
  REFERENCE_LATITUDE = "N/A"
  REFERENCE_LONGITUDE = "N/A"
  SAMPLE_FIRST_PIXEL = 1
  SAMPLE_LAST_PIXEL = 5879
  SAMPLE_PROJECTION_OFFSET = 2910.375
  SECOND_STANDARD_PARALLEL = "N/A"
  WESTERNMOST_LONGITUDE = 82.136
END_OBJECT = IMAGE_MAP_PROJECTION
/* The JPEG2000 image data file associated with this label. */
OBJECT = COMPRESSED_FILE
  FILE_NAME = "H4572_0000_P13.JP2"
  RECORD_TYPE = UNDEFINED
  FILE_RECORDS = UNK
  ENCODING_TYPE = "JP2"
  INTERCHANGE_FORMAT = BINARY
  UNCOMPRESSED_FILE_NAME = "H4572_0000_P13.IMG"
  REQUIRED_STORAGE_BYTES = "55762315"
  ^DESCRIPTION = "JP2INFO.TXT"
END_OBJECT = COMPRESSED_FILE
END
