PDS_VERSION_ID = PDS3
/* FILE DATA ELEMENTS */
RECORD_TYPE = STREAM
/* POINTERS TO DATA OBJECTS */
^COMPRESSED_FILE = "H4574_0000_S13.JP2"
/* IDENTIFICATION DATA ELEMENTS */
DATA_SET_ID = "MEX-M-HRSC-5-REFDR-MAPPROJECTED-V3.0"
DATA_SET_NAME = "MARS EXPRESS HRSC MAP PROJECTED REFDR V3.0"
DETECTOR_ID = MEX_HRSC_S1
EVENT_TYPE = "MARS-REGIONAL-STEREO-Gl-Pf-La"
INSTRUMENT_HOST_ID = MEX
INSTRUMENT_HOST_NAME = "MARS EXPRESS"
INSTRUMENT_ID = HRSC
INSTRUMENT_NAME = "HIGH RESOLUTION STEREO CAMERA"
MISSION_NAME = "MARS EXPRESS"
MISSION_PHASE_NAME = ME_Phase_8
PROCESSING_LEVEL_ID = 3
PRODUCT_CREATION_TIME = 2016-04-25T16:23:03.000Z
PRODUCT_ID = "H4574_0000_S13.JP2"
RELEASE_ID = 0052
REVISION_ID = 0000
/* QUALITY DATA ELEMENTS */
DATA_QUALITY_ID = 2
DATA_QUALITY_DESC = "Data calculated based on photogrammetrically improved orbit and attitude data"
/* TIME DATA ELEMENTS */
SPACECRAFT_CLOCK_START_COUNT = "1/0133613818.09047"
SPACECRAFT_CLOCK_STOP_COUNT = "1/0133614056.56824"
START_TIME = 2007-07-27T10:57:02.189Z
STOP_TIME = 2007-07-27T10:59:56.550Z
/* ORBITAL DATA ELEMENTS */
ASCENDING_NODE_LONGITUDE = 132.67
MAXIMUM_RESOLUTION = 24.7
FOOTPRINT_POINT_LATITUDE = (-82.1171,-82.2548,-82.3468,-82.4356, -82.5212,-82.6037,-82.6832,-82.4961, -82.1967,-81.9951,-81.7917,-81.5906, -81.3811,-81.178,-80.8657,-80.6561, -80.4465,-80.2362,-80.0253,-79.8132, -79.6002,-79.3879,-79.1722,-78.8493, -78.6302,-78.3072,-78.0905,-77.8685, -77.535,-77.3126,-76.9714,-76.7436, -76.5176,-76.1791,-75.952,-75.7238, -75.3768,-75.1509,-74.9226,-74.686, -74.4478,-74.2097,-73.973,-73.7343, -73.377,-73.139,-72.9007,-72.6621, -72.2965,-72.0497,-71.8025,-71.5557, -71.3827,-71.3172,-71.2752,-71.2283, -71.1823,-71.2399,-71.4845,-71.7288, -72.095,-72.4536,-72.8069,-73.1574, -73.394,-73.7475,-74.0989,-74.3295, -74.5646,-74.7902,-75.0137,-75.2409, -75.4653,-75.689,-76.0238,-76.246, -76.579,-76.7991,-77.1245,-77.4526, -77.6716,-77.8802,-78.0915,-78.2987, -78.608,-78.9151,-79.2323,-79.4388, -79.6399,-79.8422,-80.0436,-80.344, -80.5435,-80.937,-81.2282,-81.4199, -81.6085,-81.7961,-81.9824,-82.1171)
FOOTPRINT_POINT_LONGITUDE = (270.742,272.067,273.004,273.953, 274.912,275.885,276.869,277.557,278.717 ,279.443,280.134,280.784,281.418, 282.008,282.853,283.386,283.893,284.379 ,284.844,285.29,285.718,286.128,286.524 ,287.088,287.448,287.958,288.284, 288.604,289.066,289.36,289.786,290.057, 290.318,290.693,290.933,291.165,291.502 ,291.716,291.923,292.131,292.333, 292.529,292.719,292.903,293.169,293.34, 293.506,293.667,293.905,294.06,294.21, 294.357,294.035,293.186,292.673,292.123 ,291.605,290.813,290.638,290.458, 290.177,289.893,289.597,289.285,289.073 ,288.742,288.393,288.147,287.901, 287.652,287.394,287.133,286.859,286.577 ,286.135,285.827,285.347,285.011, 284.479,283.925,283.544,283.156,282.759 ,282.342,281.688,280.996,280.278,279.77 ,279.237,278.684,278.109,277.202, 276.565,275.206,274.106,273.331,272.519 ,271.671,270.783,270.742)
ORBIT_NUMBER = 4574
ORBITAL_ECCENTRICITY = 0.57
ORBITAL_INCLINATION = 86.69
ORBITAL_SEMIMAJOR_AXIS = 8530.27
PERIAPSIS_ALTITUDE = 294.23
PERIAPSIS_ARGUMENT_ANGLE = 273.0
PERIAPSIS_TIME = 2007-07-27T10:56:34.000Z
SPACECRAFT_ORIENTATION = (0.0,-1.0,0.0)
^MEX_ORIENTATION_DESC = "MEX_ORIENTATION_DESC.TXT"
SPACECRAFT_POINTING_MODE = ACROSSTRACK
^MEX_POINTING_DESC = "MEX_POINTING_DESC.TXT"
RIGHT_ASCENSION = -1e+32
DECLINATION = -1e+32
OFFSET_ANGLE = 0.7
SPACECRAFT_SOLAR_DISTANCE = 2.09599e+08
TARGET_NAME = MARS
/* CAMERA DATA ELEMENTS */
DETECTOR_TEMPERATURE = 17.1471
FOCAL_PLANE_TEMPERATURE = 8.7872
INST_CMPRS_NAME = "DISCRETE COSINE TRANSFORMATION (DCT)"
INST_CMPRS_RATIO = 10.3325
INST_CMPRS_QUALITY = 0
INST_CMPRS_QUANTZ_TBL_ID = 0
INSTRUMENT_TEMPERATURE = 50.9945
LENS_TEMPERATURE = 9.195
MACROPIXEL_SIZE = 2
MISSING_FRAMES = 0
PIXEL_SUBSAMPLING_FLAG = N
SIGNAL_CHAIN_ID = 1
/* RADIOMETRIC DATA ELEMENTS */
BANDWIDTH = 180.0
CENTER_FILTER_WAVELENGTH = 677.0
RADIANCE_OFFSET = 7.64501
RADIANCE_SCALING_FACTOR = 0.0252065
REFLECTANCE_SCALING_FACTOR = 0.000577741
MEX:REFLECTANCE_OFFSET = 0.175226
/* IMAGE OBJECT DEFINITIONS */
OBJECT = IMAGE
  INTERCHANGE_FORMAT = BINARY
  LINES = 27037
  LINE_SAMPLES = 11117
  SAMPLE_TYPE = UNSIGNED_INTEGER
  SAMPLE_BITS = 8
  BANDS = 1
  BAND_STORAGE_TYPE = BAND_SEQUENTIAL
  MAXIMUM = 255
  MEAN = 74.5832
  MINIMUM = 1
  STANDARD_DEVIATION = 37.7757
END_OBJECT = IMAGE
/* MAP OBJECT DEFINITIONS */
OBJECT = IMAGE_MAP_PROJECTION
  ^DATA_SET_MAP_PROJECTION_CATALOG= "DSMAP.CAT"
  A_AXIS_RADIUS = 3396.0
  B_AXIS_RADIUS = 3396.0
  C_AXIS_RADIUS = 3396.0
  CENTER_LATITUDE = 0.0
  CENTER_LONGITUDE = 287.0
  COORDINATE_SYSTEM_NAME = PLANETOGRAPHIC
  COORDINATE_SYSTEM_TYPE = "BODY-FIXED ROTATING"
  EASTERNMOST_LONGITUDE = 294.357
  FIRST_STANDARD_PARALLEL = "N/A"
  LINE_FIRST_PIXEL = 1
  LINE_LAST_PIXEL = 27037
  LINE_PROJECTION_OFFSET = -168677.75
  MAP_PROJECTION_ROTATION = 0.0
  MAP_PROJECTION_TYPE = SINUSOIDAL
  MAP_RESOLUTION = 2370.85521546667
  MAP_SCALE = 0.025
  MAXIMUM_LATITUDE = -71.1823
  MINIMUM_LATITUDE = -82.6832
  POSITIVE_LONGITUDE_DIRECTION = EAST
  REFERENCE_LATITUDE = "N/A"
  REFERENCE_LONGITUDE = "N/A"
  SAMPLE_FIRST_PIXEL = 1
  SAMPLE_LAST_PIXEL = 11117
  SAMPLE_PROJECTION_OFFSET = 5398.75
  SECOND_STANDARD_PARALLEL = "N/A"
  WESTERNMOST_LONGITUDE = 270.742
END_OBJECT = IMAGE_MAP_PROJECTION
/* The JPEG2000 image data file associated with this label. */
OBJECT = COMPRESSED_FILE
  FILE_NAME = "H4574_0000_S13.JP2"
  RECORD_TYPE = UNDEFINED
  FILE_RECORDS = UNK
  ENCODING_TYPE = "JP2"
  INTERCHANGE_FORMAT = BINARY
  UNCOMPRESSED_FILE_NAME = "H4574_0000_S13.IMG"
  REQUIRED_STORAGE_BYTES = "300603680"
  ^DESCRIPTION = "JP2INFO.TXT"
END_OBJECT = COMPRESSED_FILE
END
