PDS_VERSION_ID = PDS3
/* FILE DATA ELEMENTS */
RECORD_TYPE = STREAM
/* POINTERS TO DATA OBJECTS */
^COMPRESSED_FILE = "H4575_0000_GR3.JP2"
/* IDENTIFICATION DATA ELEMENTS */
DATA_SET_ID = "MEX-M-HRSC-5-REFDR-MAPPROJECTED-V3.0"
DATA_SET_NAME = "MARS EXPRESS HRSC MAP PROJECTED REFDR V3.0"
DETECTOR_ID = MEX_HRSC_GREEN
EVENT_TYPE = "MARS-REGIONAL-MAPPING-Gl-Pf-La"
INSTRUMENT_HOST_ID = MEX
INSTRUMENT_HOST_NAME = "MARS EXPRESS"
INSTRUMENT_ID = HRSC
INSTRUMENT_NAME = "HIGH RESOLUTION STEREO CAMERA"
MISSION_NAME = "MARS EXPRESS"
MISSION_PHASE_NAME = ME_Phase_8
PROCESSING_LEVEL_ID = 3
PRODUCT_CREATION_TIME = 2016-04-25T16:23:03.000Z
PRODUCT_ID = "H4575_0000_GR3.JP2"
RELEASE_ID = 0052
REVISION_ID = 0000
/* QUALITY DATA ELEMENTS */
DATA_QUALITY_ID = 1
DATA_QUALITY_DESC = "Data calculated based on original SPICE kernels"
/* TIME DATA ELEMENTS */
SPACECRAFT_CLOCK_START_COUNT = "1/0133638080.08264"
SPACECRAFT_CLOCK_STOP_COUNT = "1/0133638279.00237"
START_TIME = 2007-07-27T17:41:46.320Z
STOP_TIME = 2007-07-27T17:44:01.496Z
/* ORBITAL DATA ELEMENTS */
ASCENDING_NODE_LONGITUDE = 132.64
MAXIMUM_RESOLUTION = 48.4
FOOTPRINT_POINT_LATITUDE = (-78.3603,-78.432,-78.4971,-78.4455, -78.1954,-77.9451,-77.7782,-77.6113, -77.4443,-77.2774,-77.1104,-76.9433, -76.7763,-76.5257,-76.3586,-76.0993, -75.9262,-75.6667,-75.4936,-75.3206, -75.1477,-74.9749,-74.802,-74.6289, -74.4557,-74.2827,-74.1099,-73.9321, -73.7537,-73.4858,-73.3071,-73.1285, -72.9499,-72.7714,-72.5931,-72.3255, -72.1451,-71.961,-71.7769,-71.5009, -71.3169,-71.1331,-70.9494,-70.7658, -70.5822,-70.3988,-70.1237,-69.9404, -69.7573,-69.6954,-69.6514,-69.6275, -69.6036,-69.5802,-69.7621,-69.9442, -70.1263,-70.3085,-70.4908,-70.673, -70.8555,-71.1292,-71.3116,-71.4943, -71.6769,-71.8596,-72.0417,-72.2193, -72.3956,-72.5725,-72.7494,-72.9272, -73.1038,-73.3692,-73.5461,-73.7232, -73.9862,-74.1572,-74.327,-74.584, -74.7553,-74.9263,-75.0979,-75.2685, -75.5248,-75.6956,-75.8664,-76.0369, -76.2053,-76.5345,-76.7815,-76.9461, -77.1104,-77.2746,-77.4387,-77.6027, -77.9299,-78.0935,-78.2572,-78.3603)
FOOTPRINT_POINT_LONGITUDE = (191.906,193.355,194.841,196.136,196.37 ,196.595,196.74,196.882,197.019,197.15, 197.28,197.406,197.53,197.71,197.826, 198.0,198.112,198.274,198.382,198.484, 198.582,198.676,198.767,198.867,198.968 ,199.058,199.146,199.225,199.302, 199.425,199.508,199.588,199.668,199.743 ,199.816,199.925,199.999,200.069, 200.138,200.24,200.307,200.371,200.434, 200.495,200.554,200.613,200.699,200.754 ,200.809,200.019,198.866,198.313, 197.797,197.307,197.235,197.162,197.087 ,197.01,196.932,196.852,196.77,196.644, 196.557,196.468,196.378,196.285,196.19, 196.096,195.999,195.901,195.8,195.696, 195.591,195.427,195.315,195.2,195.024, 194.906,194.785,194.598,194.469,194.337 ,194.202,194.063,193.848,193.7,193.548, 193.393,193.235,192.913,192.661,192.487 ,192.308,192.124,191.936,191.741, 191.337,191.125,190.907,191.906)
ORBIT_NUMBER = 4575
ORBITAL_ECCENTRICITY = 0.57
ORBITAL_INCLINATION = 86.69
ORBITAL_SEMIMAJOR_AXIS = 8530.34
PERIAPSIS_ALTITUDE = 293.8
PERIAPSIS_ARGUMENT_ANGLE = 272.81
PERIAPSIS_TIME = 2007-07-27T17:39:44.000Z
SPACECRAFT_ORIENTATION = (0.0,-1.0,0.0)
^MEX_ORIENTATION_DESC = "MEX_ORIENTATION_DESC.TXT"
SPACECRAFT_POINTING_MODE = ACROSSTRACK
^MEX_POINTING_DESC = "MEX_POINTING_DESC.TXT"
RIGHT_ASCENSION = -1e+32
DECLINATION = -1e+32
OFFSET_ANGLE = -0.5
SPACECRAFT_SOLAR_DISTANCE = 2.09629e+08
TARGET_NAME = MARS
/* CAMERA DATA ELEMENTS */
DETECTOR_TEMPERATURE = 18.1666
FOCAL_PLANE_TEMPERATURE = 9.195
INST_CMPRS_NAME = "DISCRETE COSINE TRANSFORMATION (DCT)"
INST_CMPRS_RATIO = 18.813
INST_CMPRS_QUALITY = 0
INST_CMPRS_QUANTZ_TBL_ID = 0
INSTRUMENT_TEMPERATURE = 11.4379
LENS_TEMPERATURE = 9.6028
MACROPIXEL_SIZE = 4
MISSING_FRAMES = 0
PIXEL_SUBSAMPLING_FLAG = N
SIGNAL_CHAIN_ID = 2
/* RADIOMETRIC DATA ELEMENTS */
BANDWIDTH = 88.0
CENTER_FILTER_WAVELENGTH = 538.0
RADIANCE_OFFSET = 2.45559
RADIANCE_SCALING_FACTOR = 0.00359076
REFLECTANCE_SCALING_FACTOR = 0.000135856
MEX:REFLECTANCE_OFFSET = 0.0929068
/* IMAGE OBJECT DEFINITIONS */
OBJECT = IMAGE
  INTERCHANGE_FORMAT = BINARY
  LINES = 10617
  LINE_SAMPLES = 3026
  SAMPLE_TYPE = UNSIGNED_INTEGER
  SAMPLE_BITS = 8
  BANDS = 1
  BAND_STORAGE_TYPE = BAND_SEQUENTIAL
  MAXIMUM = 255
  MEAN = 150.538
  MINIMUM = 2
  STANDARD_DEVIATION = 53.839
END_OBJECT = IMAGE
/* MAP OBJECT DEFINITIONS */
OBJECT = IMAGE_MAP_PROJECTION
  ^DATA_SET_MAP_PROJECTION_CATALOG= "DSMAP.CAT"
  A_AXIS_RADIUS = 3396.0
  B_AXIS_RADIUS = 3396.0
  C_AXIS_RADIUS = 3396.0
  CENTER_LATITUDE = 0.0
  CENTER_LONGITUDE = 197.0
  COORDINATE_SYSTEM_NAME = PLANETOGRAPHIC
  COORDINATE_SYSTEM_TYPE = "BODY-FIXED ROTATING"
  EASTERNMOST_LONGITUDE = 200.809
  FIRST_STANDARD_PARALLEL = "N/A"
  LINE_FIRST_PIXEL = 1
  LINE_LAST_PIXEL = 10617
  LINE_PROJECTION_OFFSET = -82474.875
  MAP_PROJECTION_ROTATION = 0.0
  MAP_PROJECTION_TYPE = SINUSOIDAL
  MAP_RESOLUTION = 1185.42760773333
  MAP_SCALE = 0.05
  MAXIMUM_LATITUDE = -69.5802
  MINIMUM_LATITUDE = -78.4971
  POSITIVE_LONGITUDE_DIRECTION = EAST
  REFERENCE_LATITUDE = "N/A"
  REFERENCE_LONGITUDE = "N/A"
  SAMPLE_FIRST_PIXEL = 1
  SAMPLE_LAST_PIXEL = 3026
  SAMPLE_PROJECTION_OFFSET = 1476.875
  SECOND_STANDARD_PARALLEL = "N/A"
  WESTERNMOST_LONGITUDE = 190.907
END_OBJECT = IMAGE_MAP_PROJECTION
/* The JPEG2000 image data file associated with this label. */
OBJECT = COMPRESSED_FILE
  FILE_NAME = "H4575_0000_GR3.JP2"
  RECORD_TYPE = UNDEFINED
  FILE_RECORDS = UNK
  ENCODING_TYPE = "JP2"
  INTERCHANGE_FORMAT = BINARY
  UNCOMPRESSED_FILE_NAME = "H4575_0000_GR3.IMG"
  REQUIRED_STORAGE_BYTES = "32151250"
  ^DESCRIPTION = "JP2INFO.TXT"
END_OBJECT = COMPRESSED_FILE
END
