PDS_VERSION_ID = PDS3
/* FILE DATA ELEMENTS */
RECORD_TYPE = STREAM
/* POINTERS TO DATA OBJECTS */
^COMPRESSED_FILE = "H4575_0001_GR3.JP2"
/* IDENTIFICATION DATA ELEMENTS */
DATA_SET_ID = "MEX-M-HRSC-5-REFDR-MAPPROJECTED-V3.0"
DATA_SET_NAME = "MARS EXPRESS HRSC MAP PROJECTED REFDR V3.0"
DETECTOR_ID = MEX_HRSC_GREEN
EVENT_TYPE = "MARS-REGIONAL-MAPPING-Im-Fl"
INSTRUMENT_HOST_ID = MEX
INSTRUMENT_HOST_NAME = "MARS EXPRESS"
INSTRUMENT_ID = HRSC
INSTRUMENT_NAME = "HIGH RESOLUTION STEREO CAMERA"
MISSION_NAME = "MARS EXPRESS"
MISSION_PHASE_NAME = ME_Phase_8
PROCESSING_LEVEL_ID = 3
PRODUCT_CREATION_TIME = 2016-04-25T16:23:03.000Z
PRODUCT_ID = "H4575_0001_GR3.JP2"
RELEASE_ID = 0052
REVISION_ID = 0000
/* QUALITY DATA ELEMENTS */
DATA_QUALITY_ID = 1
DATA_QUALITY_DESC = "Data calculated based on original SPICE kernels"
/* TIME DATA ELEMENTS */
SPACECRAFT_CLOCK_START_COUNT = "1/0133638410.09072"
SPACECRAFT_CLOCK_STOP_COUNT = "1/0133638774.52586"
START_TIME = 2007-07-27T17:47:30.017Z
STOP_TIME = 2007-07-27T17:51:14.305Z
/* ORBITAL DATA ELEMENTS */
ASCENDING_NODE_LONGITUDE = 132.64
MAXIMUM_RESOLUTION = 76
FOOTPRINT_POINT_LATITUDE = (-56.5322,-56.5561,-56.5682,-56.5788, -56.5878,-56.3569,-55.9043,-55.6756, -55.3328,-55.0999,-54.8674,-54.6353, -54.3987,-54.1623,-53.9262,-53.6859, -53.3259,-53.0828,-52.8388,-52.5951, -52.3472,-51.9759,-51.7244,-51.3476, -51.0926,-50.7097,-50.4516,-50.1929, -49.8006,-49.5385,-49.2727,-49.0071, -48.7376,-48.4676,-48.1959,-47.9233, -47.6473,-47.371,-47.091,-46.8101, -46.5266,-46.0992,-45.8123,-45.5223, -45.0848,-44.7919,-44.4949,-44.1964, -43.8958,-43.5205,-43.5204,-43.5167, -43.513,-43.5063,-43.4943,-43.4839, -43.7867,-44.0858,-44.5316,-44.9721, -45.2643,-45.5534,-45.984,-46.2696, -46.5519,-46.833,-47.1119,-47.527, -47.8026,-48.0745,-48.3471,-48.6154, -48.8844,-49.2806,-49.5459,-49.8072, -50.0684,-50.3261,-50.7115,-50.9656, -51.3458,-51.5961,-51.9705,-52.2165, -52.5859,-52.829,-53.0723,-53.4331, -53.6727,-53.9114,-54.1468,-54.3825, -54.617,-54.8485,-55.0804,-55.4253, -55.6528,-55.881,-56.2191,-56.5322)
FOOTPRINT_POINT_LONGITUDE = (200.695,201.431,201.87,202.312,202.756 ,203.068,203.112,203.133,203.164, 203.185,203.205,203.225,203.245,203.264 ,203.283,203.301,203.328,203.347, 203.365,203.383,203.401,203.427,203.446 ,203.471,203.488,203.515,203.527, 203.544,203.567,203.582,203.596,203.61, 203.628,203.645,203.657,203.67,203.685, 203.699,203.714,203.732,203.747,203.767 ,203.781,203.794,203.812,203.822, 203.835,203.849,203.862,203.755,203.231 ,202.525,202.159,201.702,201.096, 200.602,200.601,200.6,200.596,200.591, 200.588,200.584,200.577,200.573,200.567 ,200.561,200.555,200.545,200.538,200.53 ,200.523,200.514,200.506,200.49,200.482 ,200.472,200.461,200.45,200.433,200.421 ,200.402,200.39,200.369,200.354,200.333 ,200.318,200.303,200.28,200.264,200.247 ,200.23,200.213,200.195,200.177,200.158 ,200.13,200.11,200.09,200.059,200.695)
ORBIT_NUMBER = 4575
ORBITAL_ECCENTRICITY = 0.57
ORBITAL_INCLINATION = 86.69
ORBITAL_SEMIMAJOR_AXIS = 8530.34
PERIAPSIS_ALTITUDE = 293.8
PERIAPSIS_ARGUMENT_ANGLE = 272.81
PERIAPSIS_TIME = 2007-07-27T17:39:44.000Z
SPACECRAFT_ORIENTATION = (0.0,-1.0,0.0)
^MEX_ORIENTATION_DESC = "MEX_ORIENTATION_DESC.TXT"
SPACECRAFT_POINTING_MODE = ACROSSTRACK
^MEX_POINTING_DESC = "MEX_POINTING_DESC.TXT"
RIGHT_ASCENSION = -1e+32
DECLINATION = -1e+32
OFFSET_ANGLE = -0.5
SPACECRAFT_SOLAR_DISTANCE = 2.09629e+08
TARGET_NAME = MARS
/* CAMERA DATA ELEMENTS */
DETECTOR_TEMPERATURE = 19.39
FOCAL_PLANE_TEMPERATURE = 9.3989
INST_CMPRS_NAME = "DISCRETE COSINE TRANSFORMATION (DCT)"
INST_CMPRS_RATIO = 16.6075
INST_CMPRS_QUALITY = 0
INST_CMPRS_QUANTZ_TBL_ID = 0
INSTRUMENT_TEMPERATURE = 12.8652
LENS_TEMPERATURE = 10.0106
MACROPIXEL_SIZE = 4
MISSING_FRAMES = 0
PIXEL_SUBSAMPLING_FLAG = N
SIGNAL_CHAIN_ID = 2
/* RADIOMETRIC DATA ELEMENTS */
BANDWIDTH = 88.0
CENTER_FILTER_WAVELENGTH = 538.0
RADIANCE_OFFSET = 3.44929
RADIANCE_SCALING_FACTOR = 0.00323776
REFLECTANCE_SCALING_FACTOR = 0.0001225
MEX:REFLECTANCE_OFFSET = 0.130504
/* IMAGE OBJECT DEFINITIONS */
OBJECT = IMAGE
  INTERCHANGE_FORMAT = BINARY
  LINES = 7767
  LINE_SAMPLES = 1501
  SAMPLE_TYPE = UNSIGNED_INTEGER
  SAMPLE_BITS = 8
  BANDS = 1
  BAND_STORAGE_TYPE = BAND_SEQUENTIAL
  MAXIMUM = 255
  MEAN = 159.625
  MINIMUM = 1
  STANDARD_DEVIATION = 44.1435
END_OBJECT = IMAGE
/* MAP OBJECT DEFINITIONS */
OBJECT = IMAGE_MAP_PROJECTION
  ^DATA_SET_MAP_PROJECTION_CATALOG= "DSMAP.CAT"
  A_AXIS_RADIUS = 3396.0
  B_AXIS_RADIUS = 3396.0
  C_AXIS_RADIUS = 3396.0
  CENTER_LATITUDE = 0.0
  CENTER_LONGITUDE = 202.0
  COORDINATE_SYSTEM_NAME = PLANETOGRAPHIC
  COORDINATE_SYSTEM_TYPE = "BODY-FIXED ROTATING"
  EASTERNMOST_LONGITUDE = 203.862
  FIRST_STANDARD_PARALLEL = "N/A"
  LINE_FIRST_PIXEL = 1
  LINE_LAST_PIXEL = 7767
  LINE_PROJECTION_OFFSET = -25768.375
  MAP_PROJECTION_ROTATION = 0.0
  MAP_PROJECTION_TYPE = SINUSOIDAL
  MAP_RESOLUTION = 592.713803866667
  MAP_SCALE = 0.1
  MAXIMUM_LATITUDE = -43.4839
  MINIMUM_LATITUDE = -56.5878
  POSITIVE_LONGITUDE_DIRECTION = EAST
  REFERENCE_LATITUDE = "N/A"
  REFERENCE_LONGITUDE = "N/A"
  SAMPLE_FIRST_PIXEL = 1
  SAMPLE_LAST_PIXEL = 1501
  SAMPLE_PROJECTION_OFFSET = 652.125
  SECOND_STANDARD_PARALLEL = "N/A"
  WESTERNMOST_LONGITUDE = 200.059
END_OBJECT = IMAGE_MAP_PROJECTION
/* The JPEG2000 image data file associated with this label. */
OBJECT = COMPRESSED_FILE
  FILE_NAME = "H4575_0001_GR3.JP2"
  RECORD_TYPE = UNDEFINED
  FILE_RECORDS = UNK
  ENCODING_TYPE = "JP2"
  INTERCHANGE_FORMAT = BINARY
  UNCOMPRESSED_FILE_NAME = "H4575_0001_GR3.IMG"
  REQUIRED_STORAGE_BYTES = "11677780"
  ^DESCRIPTION = "JP2INFO.TXT"
END_OBJECT = COMPRESSED_FILE
END
